BEGIN:VCALENDAR
VERSION:2.0
PRODID:-//Bathtub Row Brewing Co-op - ECPv6.15.12.2//NONSGML v1.0//EN
CALSCALE:GREGORIAN
METHOD:PUBLISH
X-WR-CALNAME:Bathtub Row Brewing Co-op
X-ORIGINAL-URL:https://bathtubrowbrewing.coop
X-WR-CALDESC:Events for Bathtub Row Brewing Co-op
REFRESH-INTERVAL;VALUE=DURATION:PT1H
X-Robots-Tag:noindex
X-PUBLISHED-TTL:PT1H
BEGIN:VTIMEZONE
TZID:America/Denver
BEGIN:DAYLIGHT
TZOFFSETFROM:-0700
TZOFFSETTO:-0600
TZNAME:MDT
DTSTART:20290311T090000
END:DAYLIGHT
BEGIN:STANDARD
TZOFFSETFROM:-0600
TZOFFSETTO:-0700
TZNAME:MST
DTSTART:20291104T080000
END:STANDARD
BEGIN:DAYLIGHT
TZOFFSETFROM:-0700
TZOFFSETTO:-0600
TZNAME:MDT
DTSTART:20300310T090000
END:DAYLIGHT
BEGIN:STANDARD
TZOFFSETFROM:-0600
TZOFFSETTO:-0700
TZNAME:MST
DTSTART:20301103T080000
END:STANDARD
BEGIN:DAYLIGHT
TZOFFSETFROM:-0700
TZOFFSETTO:-0600
TZNAME:MDT
DTSTART:20310309T090000
END:DAYLIGHT
BEGIN:STANDARD
TZOFFSETFROM:-0600
TZOFFSETTO:-0700
TZNAME:MST
DTSTART:20311102T080000
END:STANDARD
END:VTIMEZONE
BEGIN:VEVENT
DTSTART;TZID=America/Denver:20301001T110000
DTEND;TZID=America/Denver:20301001T190000
DTSTAMP:20260421T211753
CREATED:20260108T014136Z
LAST-MODIFIED:20260108T014137Z
UID:10003688-1917082800-1917111600@bathtubrowbrewing.coop
SUMMARY:Fusion Tacos
DESCRIPTION:Tacos\, burritos\, and quesadillas!
URL:https://bathtubrowbrewing.coop/event-detail/fusion-tacos-2-2/2030-10-01/
LOCATION:Taproom\, 163 Central Park Square\, Los Alamos\, NM\, 87544\, United States
CATEGORIES:Food Truck
END:VEVENT
BEGIN:VEVENT
DTSTART;TZID=America/Denver:20301001T180000
DTEND;TZID=America/Denver:20301001T210000
DTSTAMP:20260421T211753
CREATED:20251210T015448Z
LAST-MODIFIED:20260331T000514Z
UID:10006466-1917108000-1917118800@bathtubrowbrewing.coop
SUMMARY:Jazz Night
DESCRIPTION:
URL:https://bathtubrowbrewing.coop/event-detail/jazz-night/2030-10-01/
LOCATION:Taproom\, 163 Central Park Square\, Los Alamos\, NM\, 87544\, United States
CATEGORIES:Music
END:VEVENT
BEGIN:VEVENT
DTSTART;TZID=America/Denver:20301002T150000
DTEND;TZID=America/Denver:20301002T193000
DTSTAMP:20260421T211753
CREATED:20260218T232034Z
LAST-MODIFIED:20260225T232853Z
UID:10006155-1917183600-1917199800@bathtubrowbrewing.coop
SUMMARY:Bomb Appetite Food Truck
DESCRIPTION:Come try BBQ at the Tub!
URL:https://bathtubrowbrewing.coop/event-detail/bomb-appetite-food-truck/2030-10-02/
LOCATION:Taproom\, 163 Central Park Square\, Los Alamos\, NM\, 87544\, United States
CATEGORIES:Food Truck
END:VEVENT
BEGIN:VEVENT
DTSTART;TZID=America/Denver:20301002T180000
DTEND;TZID=America/Denver:20301002T210000
DTSTAMP:20260421T211753
CREATED:20251223T233850Z
LAST-MODIFIED:20251223T234718Z
UID:10004080-1917194400-1917205200@bathtubrowbrewing.coop
SUMMARY:Lane Stevens Live
DESCRIPTION:
URL:https://bathtubrowbrewing.coop/event-detail/lane-stevens-live-2/2030-10-02/
LOCATION:Taproom\, 163 Central Park Square\, Los Alamos\, NM\, 87544\, United States
CATEGORIES:Music
END:VEVENT
BEGIN:VEVENT
DTSTART;TZID=America/Denver:20301003T110000
DTEND;TZID=America/Denver:20301003T210000
DTSTAMP:20260421T211753
CREATED:20260119T210129Z
LAST-MODIFIED:20260218T181017Z
UID:10004841-1917255600-1917291600@bathtubrowbrewing.coop
SUMMARY:Manko Food Truck
DESCRIPTION:Native American Fusion!
URL:https://bathtubrowbrewing.coop/event-detail/manko-food-truck/2030-10-03/
LOCATION:Taproom\, 163 Central Park Square\, Los Alamos\, NM\, 87544\, United States
CATEGORIES:Food Truck
END:VEVENT
BEGIN:VEVENT
DTSTART;TZID=America/Denver:20301004T150000
DTEND;TZID=America/Denver:20301004T200000
DTSTAMP:20260421T211753
CREATED:20251210T015046Z
LAST-MODIFIED:20260327T194604Z
UID:10004018-1917356400-1917374400@bathtubrowbrewing.coop
SUMMARY:Joe Daddy's Food Truck
DESCRIPTION:
URL:https://bathtubrowbrewing.coop/event-detail/joe-daddys-food-truck/2030-10-04/
LOCATION:Taproom\, 163 Central Park Square\, Los Alamos\, NM\, 87544\, United States
CATEGORIES:Food Truck
END:VEVENT
BEGIN:VEVENT
DTSTART;TZID=America/Denver:20301005T180000
DTEND;TZID=America/Denver:20301005T220000
DTSTAMP:20260421T211753
CREATED:20260218T233925Z
LAST-MODIFIED:20260218T233925Z
UID:10005895-1917453600-1917468000@bathtubrowbrewing.coop
SUMMARY:Tubaoke
DESCRIPTION:Come sing your heart out!
URL:https://bathtubrowbrewing.coop/event-detail/tubaoke-2-2-2-2/2030-10-05/
LOCATION:Taproom\, 163 Central Park Square\, Los Alamos\, NM\, 87544\, United States
CATEGORIES:Music
ATTACH;FMTTYPE=image/png:https://craftpeak-cooler-images.imgix.net/bathtub-row-brewing-co-op/5223012577926804554.png?auto=compress%2Cformat&ixlib=php-3.3.1&s=aae6dbbc6bd58cbfc534dfff1d1603b3
END:VEVENT
BEGIN:VEVENT
DTSTART;TZID=America/Denver:20301007T170000
DTEND;TZID=America/Denver:20301007T190000
DTSTAMP:20260421T211753
CREATED:20251210T014944Z
LAST-MODIFIED:20260212T010845Z
UID:10003176-1917622800-1917630000@bathtubrowbrewing.coop
SUMMARY:Jemez Mountain Pizza
DESCRIPTION:Pizza by the slice or you can purchase an entire pie! Scott sells until his supply ends.
URL:https://bathtubrowbrewing.coop/event-detail/jemez-mountain-pizza/2030-10-07/
LOCATION:Taproom\, 163 Central Park Square\, Los Alamos\, NM\, 87544\, United States
CATEGORIES:Food Truck
END:VEVENT
BEGIN:VEVENT
DTSTART;TZID=America/Denver:20301008T110000
DTEND;TZID=America/Denver:20301008T190000
DTSTAMP:20260421T211753
CREATED:20260108T014136Z
LAST-MODIFIED:20260108T014137Z
UID:10003690-1917687600-1917716400@bathtubrowbrewing.coop
SUMMARY:Fusion Tacos
DESCRIPTION:Tacos\, burritos\, and quesadillas!
URL:https://bathtubrowbrewing.coop/event-detail/fusion-tacos-2-2/2030-10-08/
LOCATION:Taproom\, 163 Central Park Square\, Los Alamos\, NM\, 87544\, United States
CATEGORIES:Food Truck
END:VEVENT
BEGIN:VEVENT
DTSTART;TZID=America/Denver:20301008T180000
DTEND;TZID=America/Denver:20301008T210000
DTSTAMP:20260421T211753
CREATED:20251210T015448Z
LAST-MODIFIED:20260331T000514Z
UID:10006467-1917712800-1917723600@bathtubrowbrewing.coop
SUMMARY:Jazz Night
DESCRIPTION:
URL:https://bathtubrowbrewing.coop/event-detail/jazz-night/2030-10-08/
LOCATION:Taproom\, 163 Central Park Square\, Los Alamos\, NM\, 87544\, United States
CATEGORIES:Music
END:VEVENT
BEGIN:VEVENT
DTSTART;TZID=America/Denver:20301009T150000
DTEND;TZID=America/Denver:20301009T193000
DTSTAMP:20260421T211753
CREATED:20260218T232034Z
LAST-MODIFIED:20260225T232853Z
UID:10006156-1917788400-1917804600@bathtubrowbrewing.coop
SUMMARY:Bomb Appetite Food Truck
DESCRIPTION:Come try BBQ at the Tub!
URL:https://bathtubrowbrewing.coop/event-detail/bomb-appetite-food-truck/2030-10-09/
LOCATION:Taproom\, 163 Central Park Square\, Los Alamos\, NM\, 87544\, United States
CATEGORIES:Food Truck
END:VEVENT
BEGIN:VEVENT
DTSTART;TZID=America/Denver:20301010T110000
DTEND;TZID=America/Denver:20301010T210000
DTSTAMP:20260421T211753
CREATED:20260119T210129Z
LAST-MODIFIED:20260218T181017Z
UID:10004842-1917860400-1917896400@bathtubrowbrewing.coop
SUMMARY:Manko Food Truck
DESCRIPTION:Native American Fusion!
URL:https://bathtubrowbrewing.coop/event-detail/manko-food-truck/2030-10-10/
LOCATION:Taproom\, 163 Central Park Square\, Los Alamos\, NM\, 87544\, United States
CATEGORIES:Food Truck
END:VEVENT
BEGIN:VEVENT
DTSTART;TZID=America/Denver:20301011T150000
DTEND;TZID=America/Denver:20301011T200000
DTSTAMP:20260421T211753
CREATED:20251210T015046Z
LAST-MODIFIED:20260327T194604Z
UID:10004019-1917961200-1917979200@bathtubrowbrewing.coop
SUMMARY:Joe Daddy's Food Truck
DESCRIPTION:
URL:https://bathtubrowbrewing.coop/event-detail/joe-daddys-food-truck/2030-10-11/
LOCATION:Taproom\, 163 Central Park Square\, Los Alamos\, NM\, 87544\, United States
CATEGORIES:Food Truck
END:VEVENT
BEGIN:VEVENT
DTSTART;TZID=America/Denver:20301014T170000
DTEND;TZID=America/Denver:20301014T190000
DTSTAMP:20260421T211753
CREATED:20251210T014944Z
LAST-MODIFIED:20260212T010845Z
UID:10003177-1918227600-1918234800@bathtubrowbrewing.coop
SUMMARY:Jemez Mountain Pizza
DESCRIPTION:Pizza by the slice or you can purchase an entire pie! Scott sells until his supply ends.
URL:https://bathtubrowbrewing.coop/event-detail/jemez-mountain-pizza/2030-10-14/
LOCATION:Taproom\, 163 Central Park Square\, Los Alamos\, NM\, 87544\, United States
CATEGORIES:Food Truck
END:VEVENT
BEGIN:VEVENT
DTSTART;TZID=America/Denver:20301015T110000
DTEND;TZID=America/Denver:20301015T190000
DTSTAMP:20260421T211753
CREATED:20260108T014136Z
LAST-MODIFIED:20260108T014137Z
UID:10003692-1918292400-1918321200@bathtubrowbrewing.coop
SUMMARY:Fusion Tacos
DESCRIPTION:Tacos\, burritos\, and quesadillas!
URL:https://bathtubrowbrewing.coop/event-detail/fusion-tacos-2-2/2030-10-15/
LOCATION:Taproom\, 163 Central Park Square\, Los Alamos\, NM\, 87544\, United States
CATEGORIES:Food Truck
END:VEVENT
BEGIN:VEVENT
DTSTART;TZID=America/Denver:20301015T180000
DTEND;TZID=America/Denver:20301015T210000
DTSTAMP:20260421T211753
CREATED:20251210T015448Z
LAST-MODIFIED:20260331T000514Z
UID:10006468-1918317600-1918328400@bathtubrowbrewing.coop
SUMMARY:Jazz Night
DESCRIPTION:
URL:https://bathtubrowbrewing.coop/event-detail/jazz-night/2030-10-15/
LOCATION:Taproom\, 163 Central Park Square\, Los Alamos\, NM\, 87544\, United States
CATEGORIES:Music
END:VEVENT
BEGIN:VEVENT
DTSTART;TZID=America/Denver:20301016T150000
DTEND;TZID=America/Denver:20301016T193000
DTSTAMP:20260421T211753
CREATED:20260218T232034Z
LAST-MODIFIED:20260225T232853Z
UID:10006157-1918393200-1918409400@bathtubrowbrewing.coop
SUMMARY:Bomb Appetite Food Truck
DESCRIPTION:Come try BBQ at the Tub!
URL:https://bathtubrowbrewing.coop/event-detail/bomb-appetite-food-truck/2030-10-16/
LOCATION:Taproom\, 163 Central Park Square\, Los Alamos\, NM\, 87544\, United States
CATEGORIES:Food Truck
END:VEVENT
BEGIN:VEVENT
DTSTART;TZID=America/Denver:20301016T180000
DTEND;TZID=America/Denver:20301016T210000
DTSTAMP:20260421T211753
CREATED:20251223T234813Z
LAST-MODIFIED:20251223T234813Z
UID:10004200-1918404000-1918414800@bathtubrowbrewing.coop
SUMMARY:Lane Stevens Live
DESCRIPTION:
URL:https://bathtubrowbrewing.coop/event-detail/lane-stevens-live-3/2030-10-16/
LOCATION:Taproom\, 163 Central Park Square\, Los Alamos\, NM\, 87544\, United States
CATEGORIES:Music
END:VEVENT
BEGIN:VEVENT
DTSTART;TZID=America/Denver:20301017T110000
DTEND;TZID=America/Denver:20301017T210000
DTSTAMP:20260421T211753
CREATED:20260119T210129Z
LAST-MODIFIED:20260218T181017Z
UID:10004843-1918465200-1918501200@bathtubrowbrewing.coop
SUMMARY:Manko Food Truck
DESCRIPTION:Native American Fusion!
URL:https://bathtubrowbrewing.coop/event-detail/manko-food-truck/2030-10-17/
LOCATION:Taproom\, 163 Central Park Square\, Los Alamos\, NM\, 87544\, United States
CATEGORIES:Food Truck
END:VEVENT
BEGIN:VEVENT
DTSTART;TZID=America/Denver:20301018T150000
DTEND;TZID=America/Denver:20301018T200000
DTSTAMP:20260421T211753
CREATED:20251210T015046Z
LAST-MODIFIED:20260327T194604Z
UID:10004020-1918566000-1918584000@bathtubrowbrewing.coop
SUMMARY:Joe Daddy's Food Truck
DESCRIPTION:
URL:https://bathtubrowbrewing.coop/event-detail/joe-daddys-food-truck/2030-10-18/
LOCATION:Taproom\, 163 Central Park Square\, Los Alamos\, NM\, 87544\, United States
CATEGORIES:Food Truck
END:VEVENT
BEGIN:VEVENT
DTSTART;TZID=America/Denver:20301021T170000
DTEND;TZID=America/Denver:20301021T190000
DTSTAMP:20260421T211753
CREATED:20251210T014944Z
LAST-MODIFIED:20260212T010845Z
UID:10003178-1918832400-1918839600@bathtubrowbrewing.coop
SUMMARY:Jemez Mountain Pizza
DESCRIPTION:Pizza by the slice or you can purchase an entire pie! Scott sells until his supply ends.
URL:https://bathtubrowbrewing.coop/event-detail/jemez-mountain-pizza/2030-10-21/
LOCATION:Taproom\, 163 Central Park Square\, Los Alamos\, NM\, 87544\, United States
CATEGORIES:Food Truck
END:VEVENT
BEGIN:VEVENT
DTSTART;TZID=America/Denver:20301022T110000
DTEND;TZID=America/Denver:20301022T190000
DTSTAMP:20260421T211753
CREATED:20260108T014136Z
LAST-MODIFIED:20260108T014137Z
UID:10003694-1918897200-1918926000@bathtubrowbrewing.coop
SUMMARY:Fusion Tacos
DESCRIPTION:Tacos\, burritos\, and quesadillas!
URL:https://bathtubrowbrewing.coop/event-detail/fusion-tacos-2-2/2030-10-22/
LOCATION:Taproom\, 163 Central Park Square\, Los Alamos\, NM\, 87544\, United States
CATEGORIES:Food Truck
END:VEVENT
BEGIN:VEVENT
DTSTART;TZID=America/Denver:20301022T180000
DTEND;TZID=America/Denver:20301022T210000
DTSTAMP:20260421T211753
CREATED:20251210T015448Z
LAST-MODIFIED:20260331T000514Z
UID:10006469-1918922400-1918933200@bathtubrowbrewing.coop
SUMMARY:Jazz Night
DESCRIPTION:
URL:https://bathtubrowbrewing.coop/event-detail/jazz-night/2030-10-22/
LOCATION:Taproom\, 163 Central Park Square\, Los Alamos\, NM\, 87544\, United States
CATEGORIES:Music
END:VEVENT
BEGIN:VEVENT
DTSTART;TZID=America/Denver:20301023T150000
DTEND;TZID=America/Denver:20301023T193000
DTSTAMP:20260421T211753
CREATED:20260218T232034Z
LAST-MODIFIED:20260225T232853Z
UID:10006158-1918998000-1919014200@bathtubrowbrewing.coop
SUMMARY:Bomb Appetite Food Truck
DESCRIPTION:Come try BBQ at the Tub!
URL:https://bathtubrowbrewing.coop/event-detail/bomb-appetite-food-truck/2030-10-23/
LOCATION:Taproom\, 163 Central Park Square\, Los Alamos\, NM\, 87544\, United States
CATEGORIES:Food Truck
END:VEVENT
BEGIN:VEVENT
DTSTART;TZID=America/Denver:20301024T110000
DTEND;TZID=America/Denver:20301024T210000
DTSTAMP:20260421T211753
CREATED:20260119T210129Z
LAST-MODIFIED:20260218T181017Z
UID:10004844-1919070000-1919106000@bathtubrowbrewing.coop
SUMMARY:Manko Food Truck
DESCRIPTION:Native American Fusion!
URL:https://bathtubrowbrewing.coop/event-detail/manko-food-truck/2030-10-24/
LOCATION:Taproom\, 163 Central Park Square\, Los Alamos\, NM\, 87544\, United States
CATEGORIES:Food Truck
END:VEVENT
BEGIN:VEVENT
DTSTART;TZID=America/Denver:20301025T150000
DTEND;TZID=America/Denver:20301025T200000
DTSTAMP:20260421T211753
CREATED:20251210T015046Z
LAST-MODIFIED:20260327T194604Z
UID:10004021-1919170800-1919188800@bathtubrowbrewing.coop
SUMMARY:Joe Daddy's Food Truck
DESCRIPTION:
URL:https://bathtubrowbrewing.coop/event-detail/joe-daddys-food-truck/2030-10-25/
LOCATION:Taproom\, 163 Central Park Square\, Los Alamos\, NM\, 87544\, United States
CATEGORIES:Food Truck
END:VEVENT
BEGIN:VEVENT
DTSTART;TZID=America/Denver:20301028T170000
DTEND;TZID=America/Denver:20301028T190000
DTSTAMP:20260421T211753
CREATED:20251210T014944Z
LAST-MODIFIED:20260212T010845Z
UID:10003179-1919437200-1919444400@bathtubrowbrewing.coop
SUMMARY:Jemez Mountain Pizza
DESCRIPTION:Pizza by the slice or you can purchase an entire pie! Scott sells until his supply ends.
URL:https://bathtubrowbrewing.coop/event-detail/jemez-mountain-pizza/2030-10-28/
LOCATION:Taproom\, 163 Central Park Square\, Los Alamos\, NM\, 87544\, United States
CATEGORIES:Food Truck
END:VEVENT
BEGIN:VEVENT
DTSTART;TZID=America/Denver:20301029T110000
DTEND;TZID=America/Denver:20301029T190000
DTSTAMP:20260421T211753
CREATED:20260108T014136Z
LAST-MODIFIED:20260108T014137Z
UID:10003696-1919502000-1919530800@bathtubrowbrewing.coop
SUMMARY:Fusion Tacos
DESCRIPTION:Tacos\, burritos\, and quesadillas!
URL:https://bathtubrowbrewing.coop/event-detail/fusion-tacos-2-2/2030-10-29/
LOCATION:Taproom\, 163 Central Park Square\, Los Alamos\, NM\, 87544\, United States
CATEGORIES:Food Truck
END:VEVENT
BEGIN:VEVENT
DTSTART;TZID=America/Denver:20301029T180000
DTEND;TZID=America/Denver:20301029T210000
DTSTAMP:20260421T211753
CREATED:20251210T015448Z
LAST-MODIFIED:20260331T000514Z
UID:10006470-1919527200-1919538000@bathtubrowbrewing.coop
SUMMARY:Jazz Night
DESCRIPTION:
URL:https://bathtubrowbrewing.coop/event-detail/jazz-night/2030-10-29/
LOCATION:Taproom\, 163 Central Park Square\, Los Alamos\, NM\, 87544\, United States
CATEGORIES:Music
END:VEVENT
BEGIN:VEVENT
DTSTART;TZID=America/Denver:20301030T150000
DTEND;TZID=America/Denver:20301030T193000
DTSTAMP:20260421T211753
CREATED:20260218T232034Z
LAST-MODIFIED:20260225T232853Z
UID:10006159-1919602800-1919619000@bathtubrowbrewing.coop
SUMMARY:Bomb Appetite Food Truck
DESCRIPTION:Come try BBQ at the Tub!
URL:https://bathtubrowbrewing.coop/event-detail/bomb-appetite-food-truck/2030-10-30/
LOCATION:Taproom\, 163 Central Park Square\, Los Alamos\, NM\, 87544\, United States
CATEGORIES:Food Truck
END:VEVENT
END:VCALENDAR