BEGIN:VCALENDAR
VERSION:2.0
PRODID:-//Bathtub Row Brewing Co-op - ECPv6.15.12.2//NONSGML v1.0//EN
CALSCALE:GREGORIAN
METHOD:PUBLISH
X-WR-CALNAME:Bathtub Row Brewing Co-op
X-ORIGINAL-URL:https://bathtubrowbrewing.coop
X-WR-CALDESC:Events for Bathtub Row Brewing Co-op
REFRESH-INTERVAL;VALUE=DURATION:PT1H
X-Robots-Tag:noindex
X-PUBLISHED-TTL:PT1H
BEGIN:VTIMEZONE
TZID:America/Denver
BEGIN:DAYLIGHT
TZOFFSETFROM:-0700
TZOFFSETTO:-0600
TZNAME:MDT
DTSTART:20290311T090000
END:DAYLIGHT
BEGIN:STANDARD
TZOFFSETFROM:-0600
TZOFFSETTO:-0700
TZNAME:MST
DTSTART:20291104T080000
END:STANDARD
BEGIN:DAYLIGHT
TZOFFSETFROM:-0700
TZOFFSETTO:-0600
TZNAME:MDT
DTSTART:20300310T090000
END:DAYLIGHT
BEGIN:STANDARD
TZOFFSETFROM:-0600
TZOFFSETTO:-0700
TZNAME:MST
DTSTART:20301103T080000
END:STANDARD
BEGIN:DAYLIGHT
TZOFFSETFROM:-0700
TZOFFSETTO:-0600
TZNAME:MDT
DTSTART:20310309T090000
END:DAYLIGHT
BEGIN:STANDARD
TZOFFSETFROM:-0600
TZOFFSETTO:-0700
TZNAME:MST
DTSTART:20311102T080000
END:STANDARD
END:VTIMEZONE
BEGIN:VEVENT
DTSTART;TZID=America/Denver:20300902T170000
DTEND;TZID=America/Denver:20300902T190000
DTSTAMP:20260421T195056
CREATED:20251210T014944Z
LAST-MODIFIED:20260212T010845Z
UID:10003171-1914598800-1914606000@bathtubrowbrewing.coop
SUMMARY:Jemez Mountain Pizza
DESCRIPTION:Pizza by the slice or you can purchase an entire pie! Scott sells until his supply ends.
URL:https://bathtubrowbrewing.coop/event-detail/jemez-mountain-pizza/2030-09-02/
LOCATION:Taproom\, 163 Central Park Square\, Los Alamos\, NM\, 87544\, United States
CATEGORIES:Food Truck
END:VEVENT
BEGIN:VEVENT
DTSTART;TZID=America/Denver:20300903T110000
DTEND;TZID=America/Denver:20300903T190000
DTSTAMP:20260421T195056
CREATED:20260108T014136Z
LAST-MODIFIED:20260108T014137Z
UID:10003680-1914663600-1914692400@bathtubrowbrewing.coop
SUMMARY:Fusion Tacos
DESCRIPTION:Tacos\, burritos\, and quesadillas!
URL:https://bathtubrowbrewing.coop/event-detail/fusion-tacos-2-2/2030-09-03/
LOCATION:Taproom\, 163 Central Park Square\, Los Alamos\, NM\, 87544\, United States
CATEGORIES:Food Truck
END:VEVENT
BEGIN:VEVENT
DTSTART;TZID=America/Denver:20300903T180000
DTEND;TZID=America/Denver:20300903T210000
DTSTAMP:20260421T195056
CREATED:20251210T015448Z
LAST-MODIFIED:20260331T000514Z
UID:10006462-1914688800-1914699600@bathtubrowbrewing.coop
SUMMARY:Jazz Night
DESCRIPTION:
URL:https://bathtubrowbrewing.coop/event-detail/jazz-night/2030-09-03/
LOCATION:Taproom\, 163 Central Park Square\, Los Alamos\, NM\, 87544\, United States
CATEGORIES:Music
END:VEVENT
BEGIN:VEVENT
DTSTART;TZID=America/Denver:20300904T150000
DTEND;TZID=America/Denver:20300904T193000
DTSTAMP:20260421T195056
CREATED:20260218T232034Z
LAST-MODIFIED:20260225T232853Z
UID:10006151-1914764400-1914780600@bathtubrowbrewing.coop
SUMMARY:Bomb Appetite Food Truck
DESCRIPTION:Come try BBQ at the Tub!
URL:https://bathtubrowbrewing.coop/event-detail/bomb-appetite-food-truck/2030-09-04/
LOCATION:Taproom\, 163 Central Park Square\, Los Alamos\, NM\, 87544\, United States
CATEGORIES:Food Truck
END:VEVENT
BEGIN:VEVENT
DTSTART;TZID=America/Denver:20300904T180000
DTEND;TZID=America/Denver:20300904T210000
DTSTAMP:20260421T195056
CREATED:20251223T233850Z
LAST-MODIFIED:20251223T234718Z
UID:10004079-1914775200-1914786000@bathtubrowbrewing.coop
SUMMARY:Lane Stevens Live
DESCRIPTION:
URL:https://bathtubrowbrewing.coop/event-detail/lane-stevens-live-2/2030-09-04/
LOCATION:Taproom\, 163 Central Park Square\, Los Alamos\, NM\, 87544\, United States
CATEGORIES:Music
END:VEVENT
BEGIN:VEVENT
DTSTART;TZID=America/Denver:20300905T110000
DTEND;TZID=America/Denver:20300905T210000
DTSTAMP:20260421T195056
CREATED:20260119T210129Z
LAST-MODIFIED:20260218T181017Z
UID:10004837-1914836400-1914872400@bathtubrowbrewing.coop
SUMMARY:Manko Food Truck
DESCRIPTION:Native American Fusion!
URL:https://bathtubrowbrewing.coop/event-detail/manko-food-truck/2030-09-05/
LOCATION:Taproom\, 163 Central Park Square\, Los Alamos\, NM\, 87544\, United States
CATEGORIES:Food Truck
END:VEVENT
BEGIN:VEVENT
DTSTART;TZID=America/Denver:20300906T150000
DTEND;TZID=America/Denver:20300906T200000
DTSTAMP:20260421T195056
CREATED:20251210T015046Z
LAST-MODIFIED:20260327T194604Z
UID:10004014-1914937200-1914955200@bathtubrowbrewing.coop
SUMMARY:Joe Daddy's Food Truck
DESCRIPTION:
URL:https://bathtubrowbrewing.coop/event-detail/joe-daddys-food-truck/2030-09-06/
LOCATION:Taproom\, 163 Central Park Square\, Los Alamos\, NM\, 87544\, United States
CATEGORIES:Food Truck
END:VEVENT
BEGIN:VEVENT
DTSTART;TZID=America/Denver:20300907T180000
DTEND;TZID=America/Denver:20300907T220000
DTSTAMP:20260421T195056
CREATED:20260218T233925Z
LAST-MODIFIED:20260218T233925Z
UID:10005894-1915034400-1915048800@bathtubrowbrewing.coop
SUMMARY:Tubaoke
DESCRIPTION:Come sing your heart out!
URL:https://bathtubrowbrewing.coop/event-detail/tubaoke-2-2-2-2/2030-09-07/
LOCATION:Taproom\, 163 Central Park Square\, Los Alamos\, NM\, 87544\, United States
CATEGORIES:Music
ATTACH;FMTTYPE=image/png:https://craftpeak-cooler-images.imgix.net/bathtub-row-brewing-co-op/5223012577926804554.png?auto=compress%2Cformat&ixlib=php-3.3.1&s=aae6dbbc6bd58cbfc534dfff1d1603b3
END:VEVENT
BEGIN:VEVENT
DTSTART;TZID=America/Denver:20300909T170000
DTEND;TZID=America/Denver:20300909T190000
DTSTAMP:20260421T195056
CREATED:20251210T014944Z
LAST-MODIFIED:20260212T010845Z
UID:10003172-1915203600-1915210800@bathtubrowbrewing.coop
SUMMARY:Jemez Mountain Pizza
DESCRIPTION:Pizza by the slice or you can purchase an entire pie! Scott sells until his supply ends.
URL:https://bathtubrowbrewing.coop/event-detail/jemez-mountain-pizza/2030-09-09/
LOCATION:Taproom\, 163 Central Park Square\, Los Alamos\, NM\, 87544\, United States
CATEGORIES:Food Truck
END:VEVENT
BEGIN:VEVENT
DTSTART;TZID=America/Denver:20300910T110000
DTEND;TZID=America/Denver:20300910T190000
DTSTAMP:20260421T195056
CREATED:20260108T014136Z
LAST-MODIFIED:20260108T014137Z
UID:10003682-1915268400-1915297200@bathtubrowbrewing.coop
SUMMARY:Fusion Tacos
DESCRIPTION:Tacos\, burritos\, and quesadillas!
URL:https://bathtubrowbrewing.coop/event-detail/fusion-tacos-2-2/2030-09-10/
LOCATION:Taproom\, 163 Central Park Square\, Los Alamos\, NM\, 87544\, United States
CATEGORIES:Food Truck
END:VEVENT
BEGIN:VEVENT
DTSTART;TZID=America/Denver:20300910T180000
DTEND;TZID=America/Denver:20300910T210000
DTSTAMP:20260421T195056
CREATED:20251210T015448Z
LAST-MODIFIED:20260331T000514Z
UID:10006463-1915293600-1915304400@bathtubrowbrewing.coop
SUMMARY:Jazz Night
DESCRIPTION:
URL:https://bathtubrowbrewing.coop/event-detail/jazz-night/2030-09-10/
LOCATION:Taproom\, 163 Central Park Square\, Los Alamos\, NM\, 87544\, United States
CATEGORIES:Music
END:VEVENT
BEGIN:VEVENT
DTSTART;TZID=America/Denver:20300911T150000
DTEND;TZID=America/Denver:20300911T193000
DTSTAMP:20260421T195056
CREATED:20260218T232034Z
LAST-MODIFIED:20260225T232853Z
UID:10006152-1915369200-1915385400@bathtubrowbrewing.coop
SUMMARY:Bomb Appetite Food Truck
DESCRIPTION:Come try BBQ at the Tub!
URL:https://bathtubrowbrewing.coop/event-detail/bomb-appetite-food-truck/2030-09-11/
LOCATION:Taproom\, 163 Central Park Square\, Los Alamos\, NM\, 87544\, United States
CATEGORIES:Food Truck
END:VEVENT
BEGIN:VEVENT
DTSTART;TZID=America/Denver:20300912T110000
DTEND;TZID=America/Denver:20300912T210000
DTSTAMP:20260421T195056
CREATED:20260119T210129Z
LAST-MODIFIED:20260218T181017Z
UID:10004838-1915441200-1915477200@bathtubrowbrewing.coop
SUMMARY:Manko Food Truck
DESCRIPTION:Native American Fusion!
URL:https://bathtubrowbrewing.coop/event-detail/manko-food-truck/2030-09-12/
LOCATION:Taproom\, 163 Central Park Square\, Los Alamos\, NM\, 87544\, United States
CATEGORIES:Food Truck
END:VEVENT
BEGIN:VEVENT
DTSTART;TZID=America/Denver:20300913T150000
DTEND;TZID=America/Denver:20300913T200000
DTSTAMP:20260421T195056
CREATED:20251210T015046Z
LAST-MODIFIED:20260327T194604Z
UID:10004015-1915542000-1915560000@bathtubrowbrewing.coop
SUMMARY:Joe Daddy's Food Truck
DESCRIPTION:
URL:https://bathtubrowbrewing.coop/event-detail/joe-daddys-food-truck/2030-09-13/
LOCATION:Taproom\, 163 Central Park Square\, Los Alamos\, NM\, 87544\, United States
CATEGORIES:Food Truck
END:VEVENT
BEGIN:VEVENT
DTSTART;TZID=America/Denver:20300916T170000
DTEND;TZID=America/Denver:20300916T190000
DTSTAMP:20260421T195056
CREATED:20251210T014944Z
LAST-MODIFIED:20260212T010845Z
UID:10003173-1915808400-1915815600@bathtubrowbrewing.coop
SUMMARY:Jemez Mountain Pizza
DESCRIPTION:Pizza by the slice or you can purchase an entire pie! Scott sells until his supply ends.
URL:https://bathtubrowbrewing.coop/event-detail/jemez-mountain-pizza/2030-09-16/
LOCATION:Taproom\, 163 Central Park Square\, Los Alamos\, NM\, 87544\, United States
CATEGORIES:Food Truck
END:VEVENT
BEGIN:VEVENT
DTSTART;TZID=America/Denver:20300917T110000
DTEND;TZID=America/Denver:20300917T190000
DTSTAMP:20260421T195056
CREATED:20260108T014136Z
LAST-MODIFIED:20260108T014137Z
UID:10003684-1915873200-1915902000@bathtubrowbrewing.coop
SUMMARY:Fusion Tacos
DESCRIPTION:Tacos\, burritos\, and quesadillas!
URL:https://bathtubrowbrewing.coop/event-detail/fusion-tacos-2-2/2030-09-17/
LOCATION:Taproom\, 163 Central Park Square\, Los Alamos\, NM\, 87544\, United States
CATEGORIES:Food Truck
END:VEVENT
BEGIN:VEVENT
DTSTART;TZID=America/Denver:20300917T180000
DTEND;TZID=America/Denver:20300917T210000
DTSTAMP:20260421T195056
CREATED:20251210T015448Z
LAST-MODIFIED:20260331T000514Z
UID:10006464-1915898400-1915909200@bathtubrowbrewing.coop
SUMMARY:Jazz Night
DESCRIPTION:
URL:https://bathtubrowbrewing.coop/event-detail/jazz-night/2030-09-17/
LOCATION:Taproom\, 163 Central Park Square\, Los Alamos\, NM\, 87544\, United States
CATEGORIES:Music
END:VEVENT
BEGIN:VEVENT
DTSTART;TZID=America/Denver:20300918T150000
DTEND;TZID=America/Denver:20300918T193000
DTSTAMP:20260421T195056
CREATED:20260218T232034Z
LAST-MODIFIED:20260225T232853Z
UID:10006153-1915974000-1915990200@bathtubrowbrewing.coop
SUMMARY:Bomb Appetite Food Truck
DESCRIPTION:Come try BBQ at the Tub!
URL:https://bathtubrowbrewing.coop/event-detail/bomb-appetite-food-truck/2030-09-18/
LOCATION:Taproom\, 163 Central Park Square\, Los Alamos\, NM\, 87544\, United States
CATEGORIES:Food Truck
END:VEVENT
BEGIN:VEVENT
DTSTART;TZID=America/Denver:20300918T180000
DTEND;TZID=America/Denver:20300918T210000
DTSTAMP:20260421T195056
CREATED:20251223T234813Z
LAST-MODIFIED:20251223T234813Z
UID:10004199-1915984800-1915995600@bathtubrowbrewing.coop
SUMMARY:Lane Stevens Live
DESCRIPTION:
URL:https://bathtubrowbrewing.coop/event-detail/lane-stevens-live-3/2030-09-18/
LOCATION:Taproom\, 163 Central Park Square\, Los Alamos\, NM\, 87544\, United States
CATEGORIES:Music
END:VEVENT
BEGIN:VEVENT
DTSTART;TZID=America/Denver:20300919T110000
DTEND;TZID=America/Denver:20300919T210000
DTSTAMP:20260421T195056
CREATED:20260119T210129Z
LAST-MODIFIED:20260218T181017Z
UID:10004839-1916046000-1916082000@bathtubrowbrewing.coop
SUMMARY:Manko Food Truck
DESCRIPTION:Native American Fusion!
URL:https://bathtubrowbrewing.coop/event-detail/manko-food-truck/2030-09-19/
LOCATION:Taproom\, 163 Central Park Square\, Los Alamos\, NM\, 87544\, United States
CATEGORIES:Food Truck
END:VEVENT
BEGIN:VEVENT
DTSTART;TZID=America/Denver:20300920T150000
DTEND;TZID=America/Denver:20300920T200000
DTSTAMP:20260421T195056
CREATED:20251210T015046Z
LAST-MODIFIED:20260327T194604Z
UID:10004016-1916146800-1916164800@bathtubrowbrewing.coop
SUMMARY:Joe Daddy's Food Truck
DESCRIPTION:
URL:https://bathtubrowbrewing.coop/event-detail/joe-daddys-food-truck/2030-09-20/
LOCATION:Taproom\, 163 Central Park Square\, Los Alamos\, NM\, 87544\, United States
CATEGORIES:Food Truck
END:VEVENT
BEGIN:VEVENT
DTSTART;TZID=America/Denver:20300923T170000
DTEND;TZID=America/Denver:20300923T190000
DTSTAMP:20260421T195056
CREATED:20251210T014944Z
LAST-MODIFIED:20260212T010845Z
UID:10003174-1916413200-1916420400@bathtubrowbrewing.coop
SUMMARY:Jemez Mountain Pizza
DESCRIPTION:Pizza by the slice or you can purchase an entire pie! Scott sells until his supply ends.
URL:https://bathtubrowbrewing.coop/event-detail/jemez-mountain-pizza/2030-09-23/
LOCATION:Taproom\, 163 Central Park Square\, Los Alamos\, NM\, 87544\, United States
CATEGORIES:Food Truck
END:VEVENT
BEGIN:VEVENT
DTSTART;TZID=America/Denver:20300924T110000
DTEND;TZID=America/Denver:20300924T190000
DTSTAMP:20260421T195056
CREATED:20260108T014136Z
LAST-MODIFIED:20260108T014137Z
UID:10003686-1916478000-1916506800@bathtubrowbrewing.coop
SUMMARY:Fusion Tacos
DESCRIPTION:Tacos\, burritos\, and quesadillas!
URL:https://bathtubrowbrewing.coop/event-detail/fusion-tacos-2-2/2030-09-24/
LOCATION:Taproom\, 163 Central Park Square\, Los Alamos\, NM\, 87544\, United States
CATEGORIES:Food Truck
END:VEVENT
BEGIN:VEVENT
DTSTART;TZID=America/Denver:20300924T180000
DTEND;TZID=America/Denver:20300924T210000
DTSTAMP:20260421T195056
CREATED:20251210T015448Z
LAST-MODIFIED:20260331T000514Z
UID:10006465-1916503200-1916514000@bathtubrowbrewing.coop
SUMMARY:Jazz Night
DESCRIPTION:
URL:https://bathtubrowbrewing.coop/event-detail/jazz-night/2030-09-24/
LOCATION:Taproom\, 163 Central Park Square\, Los Alamos\, NM\, 87544\, United States
CATEGORIES:Music
END:VEVENT
BEGIN:VEVENT
DTSTART;TZID=America/Denver:20300925T150000
DTEND;TZID=America/Denver:20300925T193000
DTSTAMP:20260421T195056
CREATED:20260218T232034Z
LAST-MODIFIED:20260225T232853Z
UID:10006154-1916578800-1916595000@bathtubrowbrewing.coop
SUMMARY:Bomb Appetite Food Truck
DESCRIPTION:Come try BBQ at the Tub!
URL:https://bathtubrowbrewing.coop/event-detail/bomb-appetite-food-truck/2030-09-25/
LOCATION:Taproom\, 163 Central Park Square\, Los Alamos\, NM\, 87544\, United States
CATEGORIES:Food Truck
END:VEVENT
BEGIN:VEVENT
DTSTART;TZID=America/Denver:20300926T110000
DTEND;TZID=America/Denver:20300926T210000
DTSTAMP:20260421T195056
CREATED:20260119T210129Z
LAST-MODIFIED:20260218T181017Z
UID:10004840-1916650800-1916686800@bathtubrowbrewing.coop
SUMMARY:Manko Food Truck
DESCRIPTION:Native American Fusion!
URL:https://bathtubrowbrewing.coop/event-detail/manko-food-truck/2030-09-26/
LOCATION:Taproom\, 163 Central Park Square\, Los Alamos\, NM\, 87544\, United States
CATEGORIES:Food Truck
END:VEVENT
BEGIN:VEVENT
DTSTART;TZID=America/Denver:20300927T150000
DTEND;TZID=America/Denver:20300927T200000
DTSTAMP:20260421T195056
CREATED:20251210T015046Z
LAST-MODIFIED:20260327T194604Z
UID:10004017-1916751600-1916769600@bathtubrowbrewing.coop
SUMMARY:Joe Daddy's Food Truck
DESCRIPTION:
URL:https://bathtubrowbrewing.coop/event-detail/joe-daddys-food-truck/2030-09-27/
LOCATION:Taproom\, 163 Central Park Square\, Los Alamos\, NM\, 87544\, United States
CATEGORIES:Food Truck
END:VEVENT
BEGIN:VEVENT
DTSTART;TZID=America/Denver:20300930T170000
DTEND;TZID=America/Denver:20300930T190000
DTSTAMP:20260421T195056
CREATED:20251210T014944Z
LAST-MODIFIED:20260212T010845Z
UID:10003175-1917018000-1917025200@bathtubrowbrewing.coop
SUMMARY:Jemez Mountain Pizza
DESCRIPTION:Pizza by the slice or you can purchase an entire pie! Scott sells until his supply ends.
URL:https://bathtubrowbrewing.coop/event-detail/jemez-mountain-pizza/2030-09-30/
LOCATION:Taproom\, 163 Central Park Square\, Los Alamos\, NM\, 87544\, United States
CATEGORIES:Food Truck
END:VEVENT
END:VCALENDAR