BEGIN:VCALENDAR
VERSION:2.0
PRODID:-//Bathtub Row Brewing Co-op - ECPv6.15.12.2//NONSGML v1.0//EN
CALSCALE:GREGORIAN
METHOD:PUBLISH
X-WR-CALNAME:Bathtub Row Brewing Co-op
X-ORIGINAL-URL:https://bathtubrowbrewing.coop
X-WR-CALDESC:Events for Bathtub Row Brewing Co-op
REFRESH-INTERVAL;VALUE=DURATION:PT1H
X-Robots-Tag:noindex
X-PUBLISHED-TTL:PT1H
BEGIN:VTIMEZONE
TZID:America/Denver
BEGIN:DAYLIGHT
TZOFFSETFROM:-0700
TZOFFSETTO:-0600
TZNAME:MDT
DTSTART:20290311T090000
END:DAYLIGHT
BEGIN:STANDARD
TZOFFSETFROM:-0600
TZOFFSETTO:-0700
TZNAME:MST
DTSTART:20291104T080000
END:STANDARD
BEGIN:DAYLIGHT
TZOFFSETFROM:-0700
TZOFFSETTO:-0600
TZNAME:MDT
DTSTART:20300310T090000
END:DAYLIGHT
BEGIN:STANDARD
TZOFFSETFROM:-0600
TZOFFSETTO:-0700
TZNAME:MST
DTSTART:20301103T080000
END:STANDARD
BEGIN:DAYLIGHT
TZOFFSETFROM:-0700
TZOFFSETTO:-0600
TZNAME:MDT
DTSTART:20310309T090000
END:DAYLIGHT
BEGIN:STANDARD
TZOFFSETFROM:-0600
TZOFFSETTO:-0700
TZNAME:MST
DTSTART:20311102T080000
END:STANDARD
END:VTIMEZONE
BEGIN:VEVENT
DTSTART;TZID=America/Denver:20300601T180000
DTEND;TZID=America/Denver:20300601T220000
DTSTAMP:20260421T151644
CREATED:20260218T233925Z
LAST-MODIFIED:20260218T233925Z
UID:10005891-1906567200-1906581600@bathtubrowbrewing.coop
SUMMARY:Tubaoke
DESCRIPTION:Come sing your heart out!
URL:https://bathtubrowbrewing.coop/event-detail/tubaoke-2-2-2-2/2030-06-01/
LOCATION:Taproom\, 163 Central Park Square\, Los Alamos\, NM\, 87544\, United States
CATEGORIES:Music
ATTACH;FMTTYPE=image/png:https://craftpeak-cooler-images.imgix.net/bathtub-row-brewing-co-op/5223012577926804554.png?auto=compress%2Cformat&ixlib=php-3.3.1&s=aae6dbbc6bd58cbfc534dfff1d1603b3
END:VEVENT
BEGIN:VEVENT
DTSTART;TZID=America/Denver:20300603T170000
DTEND;TZID=America/Denver:20300603T190000
DTSTAMP:20260421T151644
CREATED:20251210T014944Z
LAST-MODIFIED:20260212T010845Z
UID:10003158-1906736400-1906743600@bathtubrowbrewing.coop
SUMMARY:Jemez Mountain Pizza
DESCRIPTION:Pizza by the slice or you can purchase an entire pie! Scott sells until his supply ends.
URL:https://bathtubrowbrewing.coop/event-detail/jemez-mountain-pizza/2030-06-03/
LOCATION:Taproom\, 163 Central Park Square\, Los Alamos\, NM\, 87544\, United States
CATEGORIES:Food Truck
END:VEVENT
BEGIN:VEVENT
DTSTART;TZID=America/Denver:20300604T110000
DTEND;TZID=America/Denver:20300604T190000
DTSTAMP:20260421T151644
CREATED:20260108T014136Z
LAST-MODIFIED:20260108T014137Z
UID:10003654-1906801200-1906830000@bathtubrowbrewing.coop
SUMMARY:Fusion Tacos
DESCRIPTION:Tacos\, burritos\, and quesadillas!
URL:https://bathtubrowbrewing.coop/event-detail/fusion-tacos-2-2/2030-06-04/
LOCATION:Taproom\, 163 Central Park Square\, Los Alamos\, NM\, 87544\, United States
CATEGORIES:Food Truck
END:VEVENT
BEGIN:VEVENT
DTSTART;TZID=America/Denver:20300604T180000
DTEND;TZID=America/Denver:20300604T210000
DTSTAMP:20260421T151644
CREATED:20251210T015448Z
LAST-MODIFIED:20260331T000514Z
UID:10006449-1906826400-1906837200@bathtubrowbrewing.coop
SUMMARY:Jazz Night
DESCRIPTION:
URL:https://bathtubrowbrewing.coop/event-detail/jazz-night/2030-06-04/
LOCATION:Taproom\, 163 Central Park Square\, Los Alamos\, NM\, 87544\, United States
CATEGORIES:Music
END:VEVENT
BEGIN:VEVENT
DTSTART;TZID=America/Denver:20300605T150000
DTEND;TZID=America/Denver:20300605T193000
DTSTAMP:20260421T151644
CREATED:20260218T232034Z
LAST-MODIFIED:20260225T232853Z
UID:10006138-1906902000-1906918200@bathtubrowbrewing.coop
SUMMARY:Bomb Appetite Food Truck
DESCRIPTION:Come try BBQ at the Tub!
URL:https://bathtubrowbrewing.coop/event-detail/bomb-appetite-food-truck/2030-06-05/
LOCATION:Taproom\, 163 Central Park Square\, Los Alamos\, NM\, 87544\, United States
CATEGORIES:Food Truck
END:VEVENT
BEGIN:VEVENT
DTSTART;TZID=America/Denver:20300605T180000
DTEND;TZID=America/Denver:20300605T210000
DTSTAMP:20260421T151644
CREATED:20251223T233850Z
LAST-MODIFIED:20251223T234718Z
UID:10004076-1906912800-1906923600@bathtubrowbrewing.coop
SUMMARY:Lane Stevens Live
DESCRIPTION:
URL:https://bathtubrowbrewing.coop/event-detail/lane-stevens-live-2/2030-06-05/
LOCATION:Taproom\, 163 Central Park Square\, Los Alamos\, NM\, 87544\, United States
CATEGORIES:Music
END:VEVENT
BEGIN:VEVENT
DTSTART;TZID=America/Denver:20300606T110000
DTEND;TZID=America/Denver:20300606T210000
DTSTAMP:20260421T151644
CREATED:20260119T210129Z
LAST-MODIFIED:20260218T181017Z
UID:10004824-1906974000-1907010000@bathtubrowbrewing.coop
SUMMARY:Manko Food Truck
DESCRIPTION:Native American Fusion!
URL:https://bathtubrowbrewing.coop/event-detail/manko-food-truck/2030-06-06/
LOCATION:Taproom\, 163 Central Park Square\, Los Alamos\, NM\, 87544\, United States
CATEGORIES:Food Truck
END:VEVENT
BEGIN:VEVENT
DTSTART;TZID=America/Denver:20300607T150000
DTEND;TZID=America/Denver:20300607T200000
DTSTAMP:20260421T151644
CREATED:20251210T015046Z
LAST-MODIFIED:20260327T194604Z
UID:10004001-1907074800-1907092800@bathtubrowbrewing.coop
SUMMARY:Joe Daddy's Food Truck
DESCRIPTION:
URL:https://bathtubrowbrewing.coop/event-detail/joe-daddys-food-truck/2030-06-07/
LOCATION:Taproom\, 163 Central Park Square\, Los Alamos\, NM\, 87544\, United States
CATEGORIES:Food Truck
END:VEVENT
BEGIN:VEVENT
DTSTART;TZID=America/Denver:20300610T170000
DTEND;TZID=America/Denver:20300610T190000
DTSTAMP:20260421T151644
CREATED:20251210T014944Z
LAST-MODIFIED:20260212T010845Z
UID:10003159-1907341200-1907348400@bathtubrowbrewing.coop
SUMMARY:Jemez Mountain Pizza
DESCRIPTION:Pizza by the slice or you can purchase an entire pie! Scott sells until his supply ends.
URL:https://bathtubrowbrewing.coop/event-detail/jemez-mountain-pizza/2030-06-10/
LOCATION:Taproom\, 163 Central Park Square\, Los Alamos\, NM\, 87544\, United States
CATEGORIES:Food Truck
END:VEVENT
BEGIN:VEVENT
DTSTART;TZID=America/Denver:20300611T110000
DTEND;TZID=America/Denver:20300611T190000
DTSTAMP:20260421T151644
CREATED:20260108T014136Z
LAST-MODIFIED:20260108T014137Z
UID:10003656-1907406000-1907434800@bathtubrowbrewing.coop
SUMMARY:Fusion Tacos
DESCRIPTION:Tacos\, burritos\, and quesadillas!
URL:https://bathtubrowbrewing.coop/event-detail/fusion-tacos-2-2/2030-06-11/
LOCATION:Taproom\, 163 Central Park Square\, Los Alamos\, NM\, 87544\, United States
CATEGORIES:Food Truck
END:VEVENT
BEGIN:VEVENT
DTSTART;TZID=America/Denver:20300611T180000
DTEND;TZID=America/Denver:20300611T210000
DTSTAMP:20260421T151644
CREATED:20251210T015448Z
LAST-MODIFIED:20260331T000514Z
UID:10006450-1907431200-1907442000@bathtubrowbrewing.coop
SUMMARY:Jazz Night
DESCRIPTION:
URL:https://bathtubrowbrewing.coop/event-detail/jazz-night/2030-06-11/
LOCATION:Taproom\, 163 Central Park Square\, Los Alamos\, NM\, 87544\, United States
CATEGORIES:Music
END:VEVENT
BEGIN:VEVENT
DTSTART;TZID=America/Denver:20300612T150000
DTEND;TZID=America/Denver:20300612T193000
DTSTAMP:20260421T151644
CREATED:20260218T232034Z
LAST-MODIFIED:20260225T232853Z
UID:10006139-1907506800-1907523000@bathtubrowbrewing.coop
SUMMARY:Bomb Appetite Food Truck
DESCRIPTION:Come try BBQ at the Tub!
URL:https://bathtubrowbrewing.coop/event-detail/bomb-appetite-food-truck/2030-06-12/
LOCATION:Taproom\, 163 Central Park Square\, Los Alamos\, NM\, 87544\, United States
CATEGORIES:Food Truck
END:VEVENT
BEGIN:VEVENT
DTSTART;TZID=America/Denver:20300613T110000
DTEND;TZID=America/Denver:20300613T210000
DTSTAMP:20260421T151644
CREATED:20260119T210129Z
LAST-MODIFIED:20260218T181017Z
UID:10004825-1907578800-1907614800@bathtubrowbrewing.coop
SUMMARY:Manko Food Truck
DESCRIPTION:Native American Fusion!
URL:https://bathtubrowbrewing.coop/event-detail/manko-food-truck/2030-06-13/
LOCATION:Taproom\, 163 Central Park Square\, Los Alamos\, NM\, 87544\, United States
CATEGORIES:Food Truck
END:VEVENT
BEGIN:VEVENT
DTSTART;TZID=America/Denver:20300614T150000
DTEND;TZID=America/Denver:20300614T200000
DTSTAMP:20260421T151644
CREATED:20251210T015046Z
LAST-MODIFIED:20260327T194604Z
UID:10004002-1907679600-1907697600@bathtubrowbrewing.coop
SUMMARY:Joe Daddy's Food Truck
DESCRIPTION:
URL:https://bathtubrowbrewing.coop/event-detail/joe-daddys-food-truck/2030-06-14/
LOCATION:Taproom\, 163 Central Park Square\, Los Alamos\, NM\, 87544\, United States
CATEGORIES:Food Truck
END:VEVENT
BEGIN:VEVENT
DTSTART;TZID=America/Denver:20300617T170000
DTEND;TZID=America/Denver:20300617T190000
DTSTAMP:20260421T151644
CREATED:20251210T014944Z
LAST-MODIFIED:20260212T010845Z
UID:10003160-1907946000-1907953200@bathtubrowbrewing.coop
SUMMARY:Jemez Mountain Pizza
DESCRIPTION:Pizza by the slice or you can purchase an entire pie! Scott sells until his supply ends.
URL:https://bathtubrowbrewing.coop/event-detail/jemez-mountain-pizza/2030-06-17/
LOCATION:Taproom\, 163 Central Park Square\, Los Alamos\, NM\, 87544\, United States
CATEGORIES:Food Truck
END:VEVENT
BEGIN:VEVENT
DTSTART;TZID=America/Denver:20300618T110000
DTEND;TZID=America/Denver:20300618T190000
DTSTAMP:20260421T151644
CREATED:20260108T014136Z
LAST-MODIFIED:20260108T014137Z
UID:10003658-1908010800-1908039600@bathtubrowbrewing.coop
SUMMARY:Fusion Tacos
DESCRIPTION:Tacos\, burritos\, and quesadillas!
URL:https://bathtubrowbrewing.coop/event-detail/fusion-tacos-2-2/2030-06-18/
LOCATION:Taproom\, 163 Central Park Square\, Los Alamos\, NM\, 87544\, United States
CATEGORIES:Food Truck
END:VEVENT
BEGIN:VEVENT
DTSTART;TZID=America/Denver:20300618T180000
DTEND;TZID=America/Denver:20300618T210000
DTSTAMP:20260421T151644
CREATED:20251210T015448Z
LAST-MODIFIED:20260331T000514Z
UID:10006451-1908036000-1908046800@bathtubrowbrewing.coop
SUMMARY:Jazz Night
DESCRIPTION:
URL:https://bathtubrowbrewing.coop/event-detail/jazz-night/2030-06-18/
LOCATION:Taproom\, 163 Central Park Square\, Los Alamos\, NM\, 87544\, United States
CATEGORIES:Music
END:VEVENT
BEGIN:VEVENT
DTSTART;TZID=America/Denver:20300619T150000
DTEND;TZID=America/Denver:20300619T193000
DTSTAMP:20260421T151644
CREATED:20260218T232034Z
LAST-MODIFIED:20260225T232853Z
UID:10006140-1908111600-1908127800@bathtubrowbrewing.coop
SUMMARY:Bomb Appetite Food Truck
DESCRIPTION:Come try BBQ at the Tub!
URL:https://bathtubrowbrewing.coop/event-detail/bomb-appetite-food-truck/2030-06-19/
LOCATION:Taproom\, 163 Central Park Square\, Los Alamos\, NM\, 87544\, United States
CATEGORIES:Food Truck
END:VEVENT
BEGIN:VEVENT
DTSTART;TZID=America/Denver:20300619T180000
DTEND;TZID=America/Denver:20300619T210000
DTSTAMP:20260421T151644
CREATED:20251223T234813Z
LAST-MODIFIED:20251223T234813Z
UID:10004196-1908122400-1908133200@bathtubrowbrewing.coop
SUMMARY:Lane Stevens Live
DESCRIPTION:
URL:https://bathtubrowbrewing.coop/event-detail/lane-stevens-live-3/2030-06-19/
LOCATION:Taproom\, 163 Central Park Square\, Los Alamos\, NM\, 87544\, United States
CATEGORIES:Music
END:VEVENT
BEGIN:VEVENT
DTSTART;TZID=America/Denver:20300620T110000
DTEND;TZID=America/Denver:20300620T210000
DTSTAMP:20260421T151644
CREATED:20260119T210129Z
LAST-MODIFIED:20260218T181017Z
UID:10004826-1908183600-1908219600@bathtubrowbrewing.coop
SUMMARY:Manko Food Truck
DESCRIPTION:Native American Fusion!
URL:https://bathtubrowbrewing.coop/event-detail/manko-food-truck/2030-06-20/
LOCATION:Taproom\, 163 Central Park Square\, Los Alamos\, NM\, 87544\, United States
CATEGORIES:Food Truck
END:VEVENT
BEGIN:VEVENT
DTSTART;TZID=America/Denver:20300621T150000
DTEND;TZID=America/Denver:20300621T200000
DTSTAMP:20260421T151644
CREATED:20251210T015046Z
LAST-MODIFIED:20260327T194604Z
UID:10004003-1908284400-1908302400@bathtubrowbrewing.coop
SUMMARY:Joe Daddy's Food Truck
DESCRIPTION:
URL:https://bathtubrowbrewing.coop/event-detail/joe-daddys-food-truck/2030-06-21/
LOCATION:Taproom\, 163 Central Park Square\, Los Alamos\, NM\, 87544\, United States
CATEGORIES:Food Truck
END:VEVENT
BEGIN:VEVENT
DTSTART;TZID=America/Denver:20300624T170000
DTEND;TZID=America/Denver:20300624T190000
DTSTAMP:20260421T151644
CREATED:20251210T014944Z
LAST-MODIFIED:20260212T010845Z
UID:10003161-1908550800-1908558000@bathtubrowbrewing.coop
SUMMARY:Jemez Mountain Pizza
DESCRIPTION:Pizza by the slice or you can purchase an entire pie! Scott sells until his supply ends.
URL:https://bathtubrowbrewing.coop/event-detail/jemez-mountain-pizza/2030-06-24/
LOCATION:Taproom\, 163 Central Park Square\, Los Alamos\, NM\, 87544\, United States
CATEGORIES:Food Truck
END:VEVENT
BEGIN:VEVENT
DTSTART;TZID=America/Denver:20300625T110000
DTEND;TZID=America/Denver:20300625T190000
DTSTAMP:20260421T151644
CREATED:20260108T014136Z
LAST-MODIFIED:20260108T014137Z
UID:10003660-1908615600-1908644400@bathtubrowbrewing.coop
SUMMARY:Fusion Tacos
DESCRIPTION:Tacos\, burritos\, and quesadillas!
URL:https://bathtubrowbrewing.coop/event-detail/fusion-tacos-2-2/2030-06-25/
LOCATION:Taproom\, 163 Central Park Square\, Los Alamos\, NM\, 87544\, United States
CATEGORIES:Food Truck
END:VEVENT
BEGIN:VEVENT
DTSTART;TZID=America/Denver:20300625T180000
DTEND;TZID=America/Denver:20300625T210000
DTSTAMP:20260421T151644
CREATED:20251210T015448Z
LAST-MODIFIED:20260331T000514Z
UID:10006452-1908640800-1908651600@bathtubrowbrewing.coop
SUMMARY:Jazz Night
DESCRIPTION:
URL:https://bathtubrowbrewing.coop/event-detail/jazz-night/2030-06-25/
LOCATION:Taproom\, 163 Central Park Square\, Los Alamos\, NM\, 87544\, United States
CATEGORIES:Music
END:VEVENT
BEGIN:VEVENT
DTSTART;TZID=America/Denver:20300626T150000
DTEND;TZID=America/Denver:20300626T193000
DTSTAMP:20260421T151644
CREATED:20260218T232034Z
LAST-MODIFIED:20260225T232853Z
UID:10006141-1908716400-1908732600@bathtubrowbrewing.coop
SUMMARY:Bomb Appetite Food Truck
DESCRIPTION:Come try BBQ at the Tub!
URL:https://bathtubrowbrewing.coop/event-detail/bomb-appetite-food-truck/2030-06-26/
LOCATION:Taproom\, 163 Central Park Square\, Los Alamos\, NM\, 87544\, United States
CATEGORIES:Food Truck
END:VEVENT
BEGIN:VEVENT
DTSTART;TZID=America/Denver:20300627T110000
DTEND;TZID=America/Denver:20300627T210000
DTSTAMP:20260421T151644
CREATED:20260119T210129Z
LAST-MODIFIED:20260218T181017Z
UID:10004827-1908788400-1908824400@bathtubrowbrewing.coop
SUMMARY:Manko Food Truck
DESCRIPTION:Native American Fusion!
URL:https://bathtubrowbrewing.coop/event-detail/manko-food-truck/2030-06-27/
LOCATION:Taproom\, 163 Central Park Square\, Los Alamos\, NM\, 87544\, United States
CATEGORIES:Food Truck
END:VEVENT
BEGIN:VEVENT
DTSTART;TZID=America/Denver:20300628T150000
DTEND;TZID=America/Denver:20300628T200000
DTSTAMP:20260421T151644
CREATED:20251210T015046Z
LAST-MODIFIED:20260327T194604Z
UID:10004004-1908889200-1908907200@bathtubrowbrewing.coop
SUMMARY:Joe Daddy's Food Truck
DESCRIPTION:
URL:https://bathtubrowbrewing.coop/event-detail/joe-daddys-food-truck/2030-06-28/
LOCATION:Taproom\, 163 Central Park Square\, Los Alamos\, NM\, 87544\, United States
CATEGORIES:Food Truck
END:VEVENT
END:VCALENDAR