BEGIN:VCALENDAR
VERSION:2.0
PRODID:-//Bathtub Row Brewing Co-op - ECPv6.15.12.2//NONSGML v1.0//EN
CALSCALE:GREGORIAN
METHOD:PUBLISH
X-ORIGINAL-URL:https://bathtubrowbrewing.coop
X-WR-CALDESC:Events for Bathtub Row Brewing Co-op
REFRESH-INTERVAL;VALUE=DURATION:PT1H
X-Robots-Tag:noindex
X-PUBLISHED-TTL:PT1H
BEGIN:VTIMEZONE
TZID:America/Denver
BEGIN:DAYLIGHT
TZOFFSETFROM:-0700
TZOFFSETTO:-0600
TZNAME:MDT
DTSTART:20290311T090000
END:DAYLIGHT
BEGIN:STANDARD
TZOFFSETFROM:-0600
TZOFFSETTO:-0700
TZNAME:MST
DTSTART:20291104T080000
END:STANDARD
BEGIN:DAYLIGHT
TZOFFSETFROM:-0700
TZOFFSETTO:-0600
TZNAME:MDT
DTSTART:20300310T090000
END:DAYLIGHT
BEGIN:STANDARD
TZOFFSETFROM:-0600
TZOFFSETTO:-0700
TZNAME:MST
DTSTART:20301103T080000
END:STANDARD
BEGIN:DAYLIGHT
TZOFFSETFROM:-0700
TZOFFSETTO:-0600
TZNAME:MDT
DTSTART:20310309T090000
END:DAYLIGHT
BEGIN:STANDARD
TZOFFSETFROM:-0600
TZOFFSETTO:-0700
TZNAME:MST
DTSTART:20311102T080000
END:STANDARD
END:VTIMEZONE
BEGIN:VEVENT
DTSTART;TZID=America/Denver:20300501T150000
DTEND;TZID=America/Denver:20300501T193000
DTSTAMP:20260421T133917
CREATED:20260218T232034Z
LAST-MODIFIED:20260225T232853Z
UID:10006133-1903878000-1903894200@bathtubrowbrewing.coop
SUMMARY:Bomb Appetite Food Truck
DESCRIPTION:Come try BBQ at the Tub!
URL:https://bathtubrowbrewing.coop/event-detail/bomb-appetite-food-truck/2030-05-01/
LOCATION:Taproom\, 163 Central Park Square\, Los Alamos\, NM\, 87544\, United States
CATEGORIES:Food Truck
END:VEVENT
BEGIN:VEVENT
DTSTART;TZID=America/Denver:20300501T180000
DTEND;TZID=America/Denver:20300501T210000
DTSTAMP:20260421T133917
CREATED:20251223T233850Z
LAST-MODIFIED:20251223T234718Z
UID:10004075-1903888800-1903899600@bathtubrowbrewing.coop
SUMMARY:Lane Stevens Live
DESCRIPTION:
URL:https://bathtubrowbrewing.coop/event-detail/lane-stevens-live-2/2030-05-01/
LOCATION:Taproom\, 163 Central Park Square\, Los Alamos\, NM\, 87544\, United States
CATEGORIES:Music
END:VEVENT
BEGIN:VEVENT
DTSTART;TZID=America/Denver:20300502T110000
DTEND;TZID=America/Denver:20300502T210000
DTSTAMP:20260421T133917
CREATED:20260119T210129Z
LAST-MODIFIED:20260218T181017Z
UID:10004819-1903950000-1903986000@bathtubrowbrewing.coop
SUMMARY:Manko Food Truck
DESCRIPTION:Native American Fusion!
URL:https://bathtubrowbrewing.coop/event-detail/manko-food-truck/2030-05-02/
LOCATION:Taproom\, 163 Central Park Square\, Los Alamos\, NM\, 87544\, United States
CATEGORIES:Food Truck
END:VEVENT
BEGIN:VEVENT
DTSTART;TZID=America/Denver:20300503T150000
DTEND;TZID=America/Denver:20300503T200000
DTSTAMP:20260421T133917
CREATED:20251210T015046Z
LAST-MODIFIED:20260327T194604Z
UID:10003996-1904050800-1904068800@bathtubrowbrewing.coop
SUMMARY:Joe Daddy's Food Truck
DESCRIPTION:
URL:https://bathtubrowbrewing.coop/event-detail/joe-daddys-food-truck/2030-05-03/
LOCATION:Taproom\, 163 Central Park Square\, Los Alamos\, NM\, 87544\, United States
CATEGORIES:Food Truck
END:VEVENT
BEGIN:VEVENT
DTSTART;TZID=America/Denver:20300504T180000
DTEND;TZID=America/Denver:20300504T220000
DTSTAMP:20260421T133917
CREATED:20260218T233925Z
LAST-MODIFIED:20260218T233925Z
UID:10005890-1904148000-1904162400@bathtubrowbrewing.coop
SUMMARY:Tubaoke
DESCRIPTION:Come sing your heart out!
URL:https://bathtubrowbrewing.coop/event-detail/tubaoke-2-2-2-2/2030-05-04/
LOCATION:Taproom\, 163 Central Park Square\, Los Alamos\, NM\, 87544\, United States
CATEGORIES:Music
ATTACH;FMTTYPE=image/png:https://craftpeak-cooler-images.imgix.net/bathtub-row-brewing-co-op/5223012577926804554.png?auto=compress%2Cformat&ixlib=php-3.3.1&s=aae6dbbc6bd58cbfc534dfff1d1603b3
END:VEVENT
BEGIN:VEVENT
DTSTART;TZID=America/Denver:20300506T170000
DTEND;TZID=America/Denver:20300506T190000
DTSTAMP:20260421T133917
CREATED:20251210T014944Z
LAST-MODIFIED:20260212T010845Z
UID:10003154-1904317200-1904324400@bathtubrowbrewing.coop
SUMMARY:Jemez Mountain Pizza
DESCRIPTION:Pizza by the slice or you can purchase an entire pie! Scott sells until his supply ends.
URL:https://bathtubrowbrewing.coop/event-detail/jemez-mountain-pizza/2030-05-06/
LOCATION:Taproom\, 163 Central Park Square\, Los Alamos\, NM\, 87544\, United States
CATEGORIES:Food Truck
END:VEVENT
BEGIN:VEVENT
DTSTART;TZID=America/Denver:20300507T110000
DTEND;TZID=America/Denver:20300507T190000
DTSTAMP:20260421T133917
CREATED:20260108T014136Z
LAST-MODIFIED:20260108T014137Z
UID:10003646-1904382000-1904410800@bathtubrowbrewing.coop
SUMMARY:Fusion Tacos
DESCRIPTION:Tacos\, burritos\, and quesadillas!
URL:https://bathtubrowbrewing.coop/event-detail/fusion-tacos-2-2/2030-05-07/
LOCATION:Taproom\, 163 Central Park Square\, Los Alamos\, NM\, 87544\, United States
CATEGORIES:Food Truck
END:VEVENT
BEGIN:VEVENT
DTSTART;TZID=America/Denver:20300507T180000
DTEND;TZID=America/Denver:20300507T210000
DTSTAMP:20260421T133917
CREATED:20251210T015448Z
LAST-MODIFIED:20260331T000514Z
UID:10006445-1904407200-1904418000@bathtubrowbrewing.coop
SUMMARY:Jazz Night
DESCRIPTION:
URL:https://bathtubrowbrewing.coop/event-detail/jazz-night/2030-05-07/
LOCATION:Taproom\, 163 Central Park Square\, Los Alamos\, NM\, 87544\, United States
CATEGORIES:Music
END:VEVENT
BEGIN:VEVENT
DTSTART;TZID=America/Denver:20300508T150000
DTEND;TZID=America/Denver:20300508T193000
DTSTAMP:20260421T133917
CREATED:20260218T232034Z
LAST-MODIFIED:20260225T232853Z
UID:10006134-1904482800-1904499000@bathtubrowbrewing.coop
SUMMARY:Bomb Appetite Food Truck
DESCRIPTION:Come try BBQ at the Tub!
URL:https://bathtubrowbrewing.coop/event-detail/bomb-appetite-food-truck/2030-05-08/
LOCATION:Taproom\, 163 Central Park Square\, Los Alamos\, NM\, 87544\, United States
CATEGORIES:Food Truck
END:VEVENT
BEGIN:VEVENT
DTSTART;TZID=America/Denver:20300509T110000
DTEND;TZID=America/Denver:20300509T210000
DTSTAMP:20260421T133917
CREATED:20260119T210129Z
LAST-MODIFIED:20260218T181017Z
UID:10004820-1904554800-1904590800@bathtubrowbrewing.coop
SUMMARY:Manko Food Truck
DESCRIPTION:Native American Fusion!
URL:https://bathtubrowbrewing.coop/event-detail/manko-food-truck/2030-05-09/
LOCATION:Taproom\, 163 Central Park Square\, Los Alamos\, NM\, 87544\, United States
CATEGORIES:Food Truck
END:VEVENT
BEGIN:VEVENT
DTSTART;TZID=America/Denver:20300510T150000
DTEND;TZID=America/Denver:20300510T200000
DTSTAMP:20260421T133917
CREATED:20251210T015046Z
LAST-MODIFIED:20260327T194604Z
UID:10003997-1904655600-1904673600@bathtubrowbrewing.coop
SUMMARY:Joe Daddy's Food Truck
DESCRIPTION:
URL:https://bathtubrowbrewing.coop/event-detail/joe-daddys-food-truck/2030-05-10/
LOCATION:Taproom\, 163 Central Park Square\, Los Alamos\, NM\, 87544\, United States
CATEGORIES:Food Truck
END:VEVENT
BEGIN:VEVENT
DTSTART;TZID=America/Denver:20300513T170000
DTEND;TZID=America/Denver:20300513T190000
DTSTAMP:20260421T133917
CREATED:20251210T014944Z
LAST-MODIFIED:20260212T010845Z
UID:10003155-1904922000-1904929200@bathtubrowbrewing.coop
SUMMARY:Jemez Mountain Pizza
DESCRIPTION:Pizza by the slice or you can purchase an entire pie! Scott sells until his supply ends.
URL:https://bathtubrowbrewing.coop/event-detail/jemez-mountain-pizza/2030-05-13/
LOCATION:Taproom\, 163 Central Park Square\, Los Alamos\, NM\, 87544\, United States
CATEGORIES:Food Truck
END:VEVENT
BEGIN:VEVENT
DTSTART;TZID=America/Denver:20300514T110000
DTEND;TZID=America/Denver:20300514T190000
DTSTAMP:20260421T133917
CREATED:20260108T014136Z
LAST-MODIFIED:20260108T014137Z
UID:10003648-1904986800-1905015600@bathtubrowbrewing.coop
SUMMARY:Fusion Tacos
DESCRIPTION:Tacos\, burritos\, and quesadillas!
URL:https://bathtubrowbrewing.coop/event-detail/fusion-tacos-2-2/2030-05-14/
LOCATION:Taproom\, 163 Central Park Square\, Los Alamos\, NM\, 87544\, United States
CATEGORIES:Food Truck
END:VEVENT
BEGIN:VEVENT
DTSTART;TZID=America/Denver:20300514T180000
DTEND;TZID=America/Denver:20300514T210000
DTSTAMP:20260421T133917
CREATED:20251210T015448Z
LAST-MODIFIED:20260331T000514Z
UID:10006446-1905012000-1905022800@bathtubrowbrewing.coop
SUMMARY:Jazz Night
DESCRIPTION:
URL:https://bathtubrowbrewing.coop/event-detail/jazz-night/2030-05-14/
LOCATION:Taproom\, 163 Central Park Square\, Los Alamos\, NM\, 87544\, United States
CATEGORIES:Music
END:VEVENT
BEGIN:VEVENT
DTSTART;TZID=America/Denver:20300515T150000
DTEND;TZID=America/Denver:20300515T193000
DTSTAMP:20260421T133917
CREATED:20260218T232034Z
LAST-MODIFIED:20260225T232853Z
UID:10006135-1905087600-1905103800@bathtubrowbrewing.coop
SUMMARY:Bomb Appetite Food Truck
DESCRIPTION:Come try BBQ at the Tub!
URL:https://bathtubrowbrewing.coop/event-detail/bomb-appetite-food-truck/2030-05-15/
LOCATION:Taproom\, 163 Central Park Square\, Los Alamos\, NM\, 87544\, United States
CATEGORIES:Food Truck
END:VEVENT
BEGIN:VEVENT
DTSTART;TZID=America/Denver:20300515T180000
DTEND;TZID=America/Denver:20300515T210000
DTSTAMP:20260421T133917
CREATED:20251223T234813Z
LAST-MODIFIED:20251223T234813Z
UID:10004195-1905098400-1905109200@bathtubrowbrewing.coop
SUMMARY:Lane Stevens Live
DESCRIPTION:
URL:https://bathtubrowbrewing.coop/event-detail/lane-stevens-live-3/2030-05-15/
LOCATION:Taproom\, 163 Central Park Square\, Los Alamos\, NM\, 87544\, United States
CATEGORIES:Music
END:VEVENT
BEGIN:VEVENT
DTSTART;TZID=America/Denver:20300516T110000
DTEND;TZID=America/Denver:20300516T210000
DTSTAMP:20260421T133917
CREATED:20260119T210129Z
LAST-MODIFIED:20260218T181017Z
UID:10004821-1905159600-1905195600@bathtubrowbrewing.coop
SUMMARY:Manko Food Truck
DESCRIPTION:Native American Fusion!
URL:https://bathtubrowbrewing.coop/event-detail/manko-food-truck/2030-05-16/
LOCATION:Taproom\, 163 Central Park Square\, Los Alamos\, NM\, 87544\, United States
CATEGORIES:Food Truck
END:VEVENT
BEGIN:VEVENT
DTSTART;TZID=America/Denver:20300517T150000
DTEND;TZID=America/Denver:20300517T200000
DTSTAMP:20260421T133917
CREATED:20251210T015046Z
LAST-MODIFIED:20260327T194604Z
UID:10003998-1905260400-1905278400@bathtubrowbrewing.coop
SUMMARY:Joe Daddy's Food Truck
DESCRIPTION:
URL:https://bathtubrowbrewing.coop/event-detail/joe-daddys-food-truck/2030-05-17/
LOCATION:Taproom\, 163 Central Park Square\, Los Alamos\, NM\, 87544\, United States
CATEGORIES:Food Truck
END:VEVENT
BEGIN:VEVENT
DTSTART;TZID=America/Denver:20300520T170000
DTEND;TZID=America/Denver:20300520T190000
DTSTAMP:20260421T133917
CREATED:20251210T014944Z
LAST-MODIFIED:20260212T010845Z
UID:10003156-1905526800-1905534000@bathtubrowbrewing.coop
SUMMARY:Jemez Mountain Pizza
DESCRIPTION:Pizza by the slice or you can purchase an entire pie! Scott sells until his supply ends.
URL:https://bathtubrowbrewing.coop/event-detail/jemez-mountain-pizza/2030-05-20/
LOCATION:Taproom\, 163 Central Park Square\, Los Alamos\, NM\, 87544\, United States
CATEGORIES:Food Truck
END:VEVENT
BEGIN:VEVENT
DTSTART;TZID=America/Denver:20300521T110000
DTEND;TZID=America/Denver:20300521T190000
DTSTAMP:20260421T133917
CREATED:20260108T014136Z
LAST-MODIFIED:20260108T014137Z
UID:10003650-1905591600-1905620400@bathtubrowbrewing.coop
SUMMARY:Fusion Tacos
DESCRIPTION:Tacos\, burritos\, and quesadillas!
URL:https://bathtubrowbrewing.coop/event-detail/fusion-tacos-2-2/2030-05-21/
LOCATION:Taproom\, 163 Central Park Square\, Los Alamos\, NM\, 87544\, United States
CATEGORIES:Food Truck
END:VEVENT
BEGIN:VEVENT
DTSTART;TZID=America/Denver:20300521T180000
DTEND;TZID=America/Denver:20300521T210000
DTSTAMP:20260421T133917
CREATED:20251210T015448Z
LAST-MODIFIED:20260331T000514Z
UID:10006447-1905616800-1905627600@bathtubrowbrewing.coop
SUMMARY:Jazz Night
DESCRIPTION:
URL:https://bathtubrowbrewing.coop/event-detail/jazz-night/2030-05-21/
LOCATION:Taproom\, 163 Central Park Square\, Los Alamos\, NM\, 87544\, United States
CATEGORIES:Music
END:VEVENT
BEGIN:VEVENT
DTSTART;TZID=America/Denver:20300522T150000
DTEND;TZID=America/Denver:20300522T193000
DTSTAMP:20260421T133917
CREATED:20260218T232034Z
LAST-MODIFIED:20260225T232853Z
UID:10006136-1905692400-1905708600@bathtubrowbrewing.coop
SUMMARY:Bomb Appetite Food Truck
DESCRIPTION:Come try BBQ at the Tub!
URL:https://bathtubrowbrewing.coop/event-detail/bomb-appetite-food-truck/2030-05-22/
LOCATION:Taproom\, 163 Central Park Square\, Los Alamos\, NM\, 87544\, United States
CATEGORIES:Food Truck
END:VEVENT
BEGIN:VEVENT
DTSTART;TZID=America/Denver:20300523T110000
DTEND;TZID=America/Denver:20300523T210000
DTSTAMP:20260421T133917
CREATED:20260119T210129Z
LAST-MODIFIED:20260218T181017Z
UID:10004822-1905764400-1905800400@bathtubrowbrewing.coop
SUMMARY:Manko Food Truck
DESCRIPTION:Native American Fusion!
URL:https://bathtubrowbrewing.coop/event-detail/manko-food-truck/2030-05-23/
LOCATION:Taproom\, 163 Central Park Square\, Los Alamos\, NM\, 87544\, United States
CATEGORIES:Food Truck
END:VEVENT
BEGIN:VEVENT
DTSTART;TZID=America/Denver:20300524T150000
DTEND;TZID=America/Denver:20300524T200000
DTSTAMP:20260421T133917
CREATED:20251210T015046Z
LAST-MODIFIED:20260327T194604Z
UID:10003999-1905865200-1905883200@bathtubrowbrewing.coop
SUMMARY:Joe Daddy's Food Truck
DESCRIPTION:
URL:https://bathtubrowbrewing.coop/event-detail/joe-daddys-food-truck/2030-05-24/
LOCATION:Taproom\, 163 Central Park Square\, Los Alamos\, NM\, 87544\, United States
CATEGORIES:Food Truck
END:VEVENT
BEGIN:VEVENT
DTSTART;TZID=America/Denver:20300527T170000
DTEND;TZID=America/Denver:20300527T190000
DTSTAMP:20260421T133917
CREATED:20251210T014944Z
LAST-MODIFIED:20260212T010845Z
UID:10003157-1906131600-1906138800@bathtubrowbrewing.coop
SUMMARY:Jemez Mountain Pizza
DESCRIPTION:Pizza by the slice or you can purchase an entire pie! Scott sells until his supply ends.
URL:https://bathtubrowbrewing.coop/event-detail/jemez-mountain-pizza/2030-05-27/
LOCATION:Taproom\, 163 Central Park Square\, Los Alamos\, NM\, 87544\, United States
CATEGORIES:Food Truck
END:VEVENT
BEGIN:VEVENT
DTSTART;TZID=America/Denver:20300528T110000
DTEND;TZID=America/Denver:20300528T190000
DTSTAMP:20260421T133917
CREATED:20260108T014136Z
LAST-MODIFIED:20260108T014137Z
UID:10003652-1906196400-1906225200@bathtubrowbrewing.coop
SUMMARY:Fusion Tacos
DESCRIPTION:Tacos\, burritos\, and quesadillas!
URL:https://bathtubrowbrewing.coop/event-detail/fusion-tacos-2-2/2030-05-28/
LOCATION:Taproom\, 163 Central Park Square\, Los Alamos\, NM\, 87544\, United States
CATEGORIES:Food Truck
END:VEVENT
BEGIN:VEVENT
DTSTART;TZID=America/Denver:20300528T180000
DTEND;TZID=America/Denver:20300528T210000
DTSTAMP:20260421T133917
CREATED:20251210T015448Z
LAST-MODIFIED:20260331T000514Z
UID:10006448-1906221600-1906232400@bathtubrowbrewing.coop
SUMMARY:Jazz Night
DESCRIPTION:
URL:https://bathtubrowbrewing.coop/event-detail/jazz-night/2030-05-28/
LOCATION:Taproom\, 163 Central Park Square\, Los Alamos\, NM\, 87544\, United States
CATEGORIES:Music
END:VEVENT
BEGIN:VEVENT
DTSTART;TZID=America/Denver:20300529T150000
DTEND;TZID=America/Denver:20300529T193000
DTSTAMP:20260421T133917
CREATED:20260218T232034Z
LAST-MODIFIED:20260225T232853Z
UID:10006137-1906297200-1906313400@bathtubrowbrewing.coop
SUMMARY:Bomb Appetite Food Truck
DESCRIPTION:Come try BBQ at the Tub!
URL:https://bathtubrowbrewing.coop/event-detail/bomb-appetite-food-truck/2030-05-29/
LOCATION:Taproom\, 163 Central Park Square\, Los Alamos\, NM\, 87544\, United States
CATEGORIES:Food Truck
END:VEVENT
BEGIN:VEVENT
DTSTART;TZID=America/Denver:20300530T110000
DTEND;TZID=America/Denver:20300530T210000
DTSTAMP:20260421T133917
CREATED:20260119T210129Z
LAST-MODIFIED:20260218T181017Z
UID:10004823-1906369200-1906405200@bathtubrowbrewing.coop
SUMMARY:Manko Food Truck
DESCRIPTION:Native American Fusion!
URL:https://bathtubrowbrewing.coop/event-detail/manko-food-truck/2030-05-30/
LOCATION:Taproom\, 163 Central Park Square\, Los Alamos\, NM\, 87544\, United States
CATEGORIES:Food Truck
END:VEVENT
BEGIN:VEVENT
DTSTART;TZID=America/Denver:20300531T150000
DTEND;TZID=America/Denver:20300531T200000
DTSTAMP:20260421T133917
CREATED:20251210T015046Z
LAST-MODIFIED:20260327T194604Z
UID:10004000-1906470000-1906488000@bathtubrowbrewing.coop
SUMMARY:Joe Daddy's Food Truck
DESCRIPTION:
URL:https://bathtubrowbrewing.coop/event-detail/joe-daddys-food-truck/2030-05-31/
LOCATION:Taproom\, 163 Central Park Square\, Los Alamos\, NM\, 87544\, United States
CATEGORIES:Food Truck
END:VEVENT
END:VCALENDAR