BEGIN:VCALENDAR
VERSION:2.0
PRODID:-//Bathtub Row Brewing Co-op - ECPv6.15.12.2//NONSGML v1.0//EN
CALSCALE:GREGORIAN
METHOD:PUBLISH
X-WR-CALNAME:Bathtub Row Brewing Co-op
X-ORIGINAL-URL:https://bathtubrowbrewing.coop
X-WR-CALDESC:Events for Bathtub Row Brewing Co-op
REFRESH-INTERVAL;VALUE=DURATION:PT1H
X-Robots-Tag:noindex
X-PUBLISHED-TTL:PT1H
BEGIN:VTIMEZONE
TZID:America/Denver
BEGIN:DAYLIGHT
TZOFFSETFROM:-0700
TZOFFSETTO:-0600
TZNAME:MDT
DTSTART:20280312T090000
END:DAYLIGHT
BEGIN:STANDARD
TZOFFSETFROM:-0600
TZOFFSETTO:-0700
TZNAME:MST
DTSTART:20281105T080000
END:STANDARD
BEGIN:DAYLIGHT
TZOFFSETFROM:-0700
TZOFFSETTO:-0600
TZNAME:MDT
DTSTART:20290311T090000
END:DAYLIGHT
BEGIN:STANDARD
TZOFFSETFROM:-0600
TZOFFSETTO:-0700
TZNAME:MST
DTSTART:20291104T080000
END:STANDARD
BEGIN:DAYLIGHT
TZOFFSETFROM:-0700
TZOFFSETTO:-0600
TZNAME:MDT
DTSTART:20300310T090000
END:DAYLIGHT
BEGIN:STANDARD
TZOFFSETFROM:-0600
TZOFFSETTO:-0700
TZNAME:MST
DTSTART:20301103T080000
END:STANDARD
END:VTIMEZONE
BEGIN:VEVENT
DTSTART;TZID=America/Denver:20291101T110000
DTEND;TZID=America/Denver:20291101T210000
DTSTAMP:20260421T044305
CREATED:20260119T210129Z
LAST-MODIFIED:20260218T181017Z
UID:10004793-1888225200-1888261200@bathtubrowbrewing.coop
SUMMARY:Manko Food Truck
DESCRIPTION:Native American Fusion!
URL:https://bathtubrowbrewing.coop/event-detail/manko-food-truck/2029-11-01/
LOCATION:Taproom\, 163 Central Park Square\, Los Alamos\, NM\, 87544\, United States
CATEGORIES:Food Truck
END:VEVENT
BEGIN:VEVENT
DTSTART;TZID=America/Denver:20291102T150000
DTEND;TZID=America/Denver:20291102T200000
DTSTAMP:20260421T044305
CREATED:20251210T015046Z
LAST-MODIFIED:20260327T194604Z
UID:10003970-1888326000-1888344000@bathtubrowbrewing.coop
SUMMARY:Joe Daddy's Food Truck
DESCRIPTION:
URL:https://bathtubrowbrewing.coop/event-detail/joe-daddys-food-truck/2029-11-02/
LOCATION:Taproom\, 163 Central Park Square\, Los Alamos\, NM\, 87544\, United States
CATEGORIES:Food Truck
END:VEVENT
BEGIN:VEVENT
DTSTART;TZID=America/Denver:20291103T180000
DTEND;TZID=America/Denver:20291103T220000
DTSTAMP:20260421T044305
CREATED:20260218T233925Z
LAST-MODIFIED:20260218T233925Z
UID:10005884-1888423200-1888437600@bathtubrowbrewing.coop
SUMMARY:Tubaoke
DESCRIPTION:Come sing your heart out!
URL:https://bathtubrowbrewing.coop/event-detail/tubaoke-2-2-2-2/2029-11-03/
LOCATION:Taproom\, 163 Central Park Square\, Los Alamos\, NM\, 87544\, United States
CATEGORIES:Music
ATTACH;FMTTYPE=image/png:https://craftpeak-cooler-images.imgix.net/bathtub-row-brewing-co-op/5223012577926804554.png?auto=compress%2Cformat&ixlib=php-3.3.1&s=aae6dbbc6bd58cbfc534dfff1d1603b3
END:VEVENT
BEGIN:VEVENT
DTSTART;TZID=America/Denver:20291105T170000
DTEND;TZID=America/Denver:20291105T190000
DTSTAMP:20260421T044305
CREATED:20251210T014944Z
LAST-MODIFIED:20260212T010845Z
UID:10003128-1888592400-1888599600@bathtubrowbrewing.coop
SUMMARY:Jemez Mountain Pizza
DESCRIPTION:Pizza by the slice or you can purchase an entire pie! Scott sells until his supply ends.
URL:https://bathtubrowbrewing.coop/event-detail/jemez-mountain-pizza/2029-11-05/
LOCATION:Taproom\, 163 Central Park Square\, Los Alamos\, NM\, 87544\, United States
CATEGORIES:Food Truck
END:VEVENT
BEGIN:VEVENT
DTSTART;TZID=America/Denver:20291106T110000
DTEND;TZID=America/Denver:20291106T190000
DTSTAMP:20260421T044305
CREATED:20260108T014136Z
LAST-MODIFIED:20260108T014137Z
UID:10003594-1888657200-1888686000@bathtubrowbrewing.coop
SUMMARY:Fusion Tacos
DESCRIPTION:Tacos\, burritos\, and quesadillas!
URL:https://bathtubrowbrewing.coop/event-detail/fusion-tacos-2-2/2029-11-06/
LOCATION:Taproom\, 163 Central Park Square\, Los Alamos\, NM\, 87544\, United States
CATEGORIES:Food Truck
END:VEVENT
BEGIN:VEVENT
DTSTART;TZID=America/Denver:20291106T180000
DTEND;TZID=America/Denver:20291106T210000
DTSTAMP:20260421T044305
CREATED:20251210T015448Z
LAST-MODIFIED:20260331T000514Z
UID:10006419-1888682400-1888693200@bathtubrowbrewing.coop
SUMMARY:Jazz Night
DESCRIPTION:
URL:https://bathtubrowbrewing.coop/event-detail/jazz-night/2029-11-06/
LOCATION:Taproom\, 163 Central Park Square\, Los Alamos\, NM\, 87544\, United States
CATEGORIES:Music
END:VEVENT
BEGIN:VEVENT
DTSTART;TZID=America/Denver:20291107T150000
DTEND;TZID=America/Denver:20291107T193000
DTSTAMP:20260421T044305
CREATED:20260218T232034Z
LAST-MODIFIED:20260225T232853Z
UID:10006108-1888758000-1888774200@bathtubrowbrewing.coop
SUMMARY:Bomb Appetite Food Truck
DESCRIPTION:Come try BBQ at the Tub!
URL:https://bathtubrowbrewing.coop/event-detail/bomb-appetite-food-truck/2029-11-07/
LOCATION:Taproom\, 163 Central Park Square\, Los Alamos\, NM\, 87544\, United States
CATEGORIES:Food Truck
END:VEVENT
BEGIN:VEVENT
DTSTART;TZID=America/Denver:20291107T180000
DTEND;TZID=America/Denver:20291107T210000
DTSTAMP:20260421T044305
CREATED:20251223T233850Z
LAST-MODIFIED:20251223T234718Z
UID:10004069-1888768800-1888779600@bathtubrowbrewing.coop
SUMMARY:Lane Stevens Live
DESCRIPTION:
URL:https://bathtubrowbrewing.coop/event-detail/lane-stevens-live-2/2029-11-07/
LOCATION:Taproom\, 163 Central Park Square\, Los Alamos\, NM\, 87544\, United States
CATEGORIES:Music
END:VEVENT
BEGIN:VEVENT
DTSTART;TZID=America/Denver:20291108T110000
DTEND;TZID=America/Denver:20291108T210000
DTSTAMP:20260421T044305
CREATED:20260119T210129Z
LAST-MODIFIED:20260218T181017Z
UID:10004794-1888830000-1888866000@bathtubrowbrewing.coop
SUMMARY:Manko Food Truck
DESCRIPTION:Native American Fusion!
URL:https://bathtubrowbrewing.coop/event-detail/manko-food-truck/2029-11-08/
LOCATION:Taproom\, 163 Central Park Square\, Los Alamos\, NM\, 87544\, United States
CATEGORIES:Food Truck
END:VEVENT
BEGIN:VEVENT
DTSTART;TZID=America/Denver:20291109T150000
DTEND;TZID=America/Denver:20291109T200000
DTSTAMP:20260421T044305
CREATED:20251210T015046Z
LAST-MODIFIED:20260327T194604Z
UID:10003971-1888930800-1888948800@bathtubrowbrewing.coop
SUMMARY:Joe Daddy's Food Truck
DESCRIPTION:
URL:https://bathtubrowbrewing.coop/event-detail/joe-daddys-food-truck/2029-11-09/
LOCATION:Taproom\, 163 Central Park Square\, Los Alamos\, NM\, 87544\, United States
CATEGORIES:Food Truck
END:VEVENT
BEGIN:VEVENT
DTSTART;TZID=America/Denver:20291112T170000
DTEND;TZID=America/Denver:20291112T190000
DTSTAMP:20260421T044305
CREATED:20251210T014944Z
LAST-MODIFIED:20260212T010845Z
UID:10003129-1889197200-1889204400@bathtubrowbrewing.coop
SUMMARY:Jemez Mountain Pizza
DESCRIPTION:Pizza by the slice or you can purchase an entire pie! Scott sells until his supply ends.
URL:https://bathtubrowbrewing.coop/event-detail/jemez-mountain-pizza/2029-11-12/
LOCATION:Taproom\, 163 Central Park Square\, Los Alamos\, NM\, 87544\, United States
CATEGORIES:Food Truck
END:VEVENT
BEGIN:VEVENT
DTSTART;TZID=America/Denver:20291113T110000
DTEND;TZID=America/Denver:20291113T190000
DTSTAMP:20260421T044305
CREATED:20260108T014136Z
LAST-MODIFIED:20260108T014137Z
UID:10003596-1889262000-1889290800@bathtubrowbrewing.coop
SUMMARY:Fusion Tacos
DESCRIPTION:Tacos\, burritos\, and quesadillas!
URL:https://bathtubrowbrewing.coop/event-detail/fusion-tacos-2-2/2029-11-13/
LOCATION:Taproom\, 163 Central Park Square\, Los Alamos\, NM\, 87544\, United States
CATEGORIES:Food Truck
END:VEVENT
BEGIN:VEVENT
DTSTART;TZID=America/Denver:20291113T180000
DTEND;TZID=America/Denver:20291113T210000
DTSTAMP:20260421T044305
CREATED:20251210T015448Z
LAST-MODIFIED:20260331T000514Z
UID:10006420-1889287200-1889298000@bathtubrowbrewing.coop
SUMMARY:Jazz Night
DESCRIPTION:
URL:https://bathtubrowbrewing.coop/event-detail/jazz-night/2029-11-13/
LOCATION:Taproom\, 163 Central Park Square\, Los Alamos\, NM\, 87544\, United States
CATEGORIES:Music
END:VEVENT
BEGIN:VEVENT
DTSTART;TZID=America/Denver:20291114T150000
DTEND;TZID=America/Denver:20291114T193000
DTSTAMP:20260421T044305
CREATED:20260218T232034Z
LAST-MODIFIED:20260225T232853Z
UID:10006109-1889362800-1889379000@bathtubrowbrewing.coop
SUMMARY:Bomb Appetite Food Truck
DESCRIPTION:Come try BBQ at the Tub!
URL:https://bathtubrowbrewing.coop/event-detail/bomb-appetite-food-truck/2029-11-14/
LOCATION:Taproom\, 163 Central Park Square\, Los Alamos\, NM\, 87544\, United States
CATEGORIES:Food Truck
END:VEVENT
BEGIN:VEVENT
DTSTART;TZID=America/Denver:20291115T110000
DTEND;TZID=America/Denver:20291115T210000
DTSTAMP:20260421T044305
CREATED:20260119T210129Z
LAST-MODIFIED:20260218T181017Z
UID:10004795-1889434800-1889470800@bathtubrowbrewing.coop
SUMMARY:Manko Food Truck
DESCRIPTION:Native American Fusion!
URL:https://bathtubrowbrewing.coop/event-detail/manko-food-truck/2029-11-15/
LOCATION:Taproom\, 163 Central Park Square\, Los Alamos\, NM\, 87544\, United States
CATEGORIES:Food Truck
END:VEVENT
BEGIN:VEVENT
DTSTART;TZID=America/Denver:20291116T150000
DTEND;TZID=America/Denver:20291116T200000
DTSTAMP:20260421T044305
CREATED:20251210T015046Z
LAST-MODIFIED:20260327T194604Z
UID:10003972-1889535600-1889553600@bathtubrowbrewing.coop
SUMMARY:Joe Daddy's Food Truck
DESCRIPTION:
URL:https://bathtubrowbrewing.coop/event-detail/joe-daddys-food-truck/2029-11-16/
LOCATION:Taproom\, 163 Central Park Square\, Los Alamos\, NM\, 87544\, United States
CATEGORIES:Food Truck
END:VEVENT
BEGIN:VEVENT
DTSTART;TZID=America/Denver:20291119T170000
DTEND;TZID=America/Denver:20291119T190000
DTSTAMP:20260421T044305
CREATED:20251210T014944Z
LAST-MODIFIED:20260212T010845Z
UID:10003130-1889802000-1889809200@bathtubrowbrewing.coop
SUMMARY:Jemez Mountain Pizza
DESCRIPTION:Pizza by the slice or you can purchase an entire pie! Scott sells until his supply ends.
URL:https://bathtubrowbrewing.coop/event-detail/jemez-mountain-pizza/2029-11-19/
LOCATION:Taproom\, 163 Central Park Square\, Los Alamos\, NM\, 87544\, United States
CATEGORIES:Food Truck
END:VEVENT
BEGIN:VEVENT
DTSTART;TZID=America/Denver:20291120T110000
DTEND;TZID=America/Denver:20291120T190000
DTSTAMP:20260421T044305
CREATED:20260108T014136Z
LAST-MODIFIED:20260108T014137Z
UID:10003598-1889866800-1889895600@bathtubrowbrewing.coop
SUMMARY:Fusion Tacos
DESCRIPTION:Tacos\, burritos\, and quesadillas!
URL:https://bathtubrowbrewing.coop/event-detail/fusion-tacos-2-2/2029-11-20/
LOCATION:Taproom\, 163 Central Park Square\, Los Alamos\, NM\, 87544\, United States
CATEGORIES:Food Truck
END:VEVENT
BEGIN:VEVENT
DTSTART;TZID=America/Denver:20291120T180000
DTEND;TZID=America/Denver:20291120T210000
DTSTAMP:20260421T044305
CREATED:20251210T015448Z
LAST-MODIFIED:20260331T000514Z
UID:10006421-1889892000-1889902800@bathtubrowbrewing.coop
SUMMARY:Jazz Night
DESCRIPTION:
URL:https://bathtubrowbrewing.coop/event-detail/jazz-night/2029-11-20/
LOCATION:Taproom\, 163 Central Park Square\, Los Alamos\, NM\, 87544\, United States
CATEGORIES:Music
END:VEVENT
BEGIN:VEVENT
DTSTART;TZID=America/Denver:20291121T150000
DTEND;TZID=America/Denver:20291121T193000
DTSTAMP:20260421T044305
CREATED:20260218T232034Z
LAST-MODIFIED:20260225T232853Z
UID:10006110-1889967600-1889983800@bathtubrowbrewing.coop
SUMMARY:Bomb Appetite Food Truck
DESCRIPTION:Come try BBQ at the Tub!
URL:https://bathtubrowbrewing.coop/event-detail/bomb-appetite-food-truck/2029-11-21/
LOCATION:Taproom\, 163 Central Park Square\, Los Alamos\, NM\, 87544\, United States
CATEGORIES:Food Truck
END:VEVENT
BEGIN:VEVENT
DTSTART;TZID=America/Denver:20291121T180000
DTEND;TZID=America/Denver:20291121T210000
DTSTAMP:20260421T044305
CREATED:20251223T234813Z
LAST-MODIFIED:20251223T234813Z
UID:10004189-1889978400-1889989200@bathtubrowbrewing.coop
SUMMARY:Lane Stevens Live
DESCRIPTION:
URL:https://bathtubrowbrewing.coop/event-detail/lane-stevens-live-3/2029-11-21/
LOCATION:Taproom\, 163 Central Park Square\, Los Alamos\, NM\, 87544\, United States
CATEGORIES:Music
END:VEVENT
BEGIN:VEVENT
DTSTART;TZID=America/Denver:20291122T110000
DTEND;TZID=America/Denver:20291122T210000
DTSTAMP:20260421T044305
CREATED:20260119T210129Z
LAST-MODIFIED:20260218T181017Z
UID:10004796-1890039600-1890075600@bathtubrowbrewing.coop
SUMMARY:Manko Food Truck
DESCRIPTION:Native American Fusion!
URL:https://bathtubrowbrewing.coop/event-detail/manko-food-truck/2029-11-22/
LOCATION:Taproom\, 163 Central Park Square\, Los Alamos\, NM\, 87544\, United States
CATEGORIES:Food Truck
END:VEVENT
BEGIN:VEVENT
DTSTART;TZID=America/Denver:20291123T150000
DTEND;TZID=America/Denver:20291123T200000
DTSTAMP:20260421T044305
CREATED:20251210T015046Z
LAST-MODIFIED:20260327T194604Z
UID:10003973-1890140400-1890158400@bathtubrowbrewing.coop
SUMMARY:Joe Daddy's Food Truck
DESCRIPTION:
URL:https://bathtubrowbrewing.coop/event-detail/joe-daddys-food-truck/2029-11-23/
LOCATION:Taproom\, 163 Central Park Square\, Los Alamos\, NM\, 87544\, United States
CATEGORIES:Food Truck
END:VEVENT
BEGIN:VEVENT
DTSTART;TZID=America/Denver:20291126T170000
DTEND;TZID=America/Denver:20291126T190000
DTSTAMP:20260421T044305
CREATED:20251210T014944Z
LAST-MODIFIED:20260212T010845Z
UID:10003131-1890406800-1890414000@bathtubrowbrewing.coop
SUMMARY:Jemez Mountain Pizza
DESCRIPTION:Pizza by the slice or you can purchase an entire pie! Scott sells until his supply ends.
URL:https://bathtubrowbrewing.coop/event-detail/jemez-mountain-pizza/2029-11-26/
LOCATION:Taproom\, 163 Central Park Square\, Los Alamos\, NM\, 87544\, United States
CATEGORIES:Food Truck
END:VEVENT
BEGIN:VEVENT
DTSTART;TZID=America/Denver:20291127T110000
DTEND;TZID=America/Denver:20291127T190000
DTSTAMP:20260421T044305
CREATED:20260108T014136Z
LAST-MODIFIED:20260108T014137Z
UID:10003600-1890471600-1890500400@bathtubrowbrewing.coop
SUMMARY:Fusion Tacos
DESCRIPTION:Tacos\, burritos\, and quesadillas!
URL:https://bathtubrowbrewing.coop/event-detail/fusion-tacos-2-2/2029-11-27/
LOCATION:Taproom\, 163 Central Park Square\, Los Alamos\, NM\, 87544\, United States
CATEGORIES:Food Truck
END:VEVENT
BEGIN:VEVENT
DTSTART;TZID=America/Denver:20291127T180000
DTEND;TZID=America/Denver:20291127T210000
DTSTAMP:20260421T044305
CREATED:20251210T015448Z
LAST-MODIFIED:20260331T000514Z
UID:10006422-1890496800-1890507600@bathtubrowbrewing.coop
SUMMARY:Jazz Night
DESCRIPTION:
URL:https://bathtubrowbrewing.coop/event-detail/jazz-night/2029-11-27/
LOCATION:Taproom\, 163 Central Park Square\, Los Alamos\, NM\, 87544\, United States
CATEGORIES:Music
END:VEVENT
BEGIN:VEVENT
DTSTART;TZID=America/Denver:20291128T150000
DTEND;TZID=America/Denver:20291128T193000
DTSTAMP:20260421T044305
CREATED:20260218T232034Z
LAST-MODIFIED:20260225T232853Z
UID:10006111-1890572400-1890588600@bathtubrowbrewing.coop
SUMMARY:Bomb Appetite Food Truck
DESCRIPTION:Come try BBQ at the Tub!
URL:https://bathtubrowbrewing.coop/event-detail/bomb-appetite-food-truck/2029-11-28/
LOCATION:Taproom\, 163 Central Park Square\, Los Alamos\, NM\, 87544\, United States
CATEGORIES:Food Truck
END:VEVENT
BEGIN:VEVENT
DTSTART;TZID=America/Denver:20291129T110000
DTEND;TZID=America/Denver:20291129T210000
DTSTAMP:20260421T044305
CREATED:20260119T210129Z
LAST-MODIFIED:20260218T181017Z
UID:10004797-1890644400-1890680400@bathtubrowbrewing.coop
SUMMARY:Manko Food Truck
DESCRIPTION:Native American Fusion!
URL:https://bathtubrowbrewing.coop/event-detail/manko-food-truck/2029-11-29/
LOCATION:Taproom\, 163 Central Park Square\, Los Alamos\, NM\, 87544\, United States
CATEGORIES:Food Truck
END:VEVENT
BEGIN:VEVENT
DTSTART;TZID=America/Denver:20291130T150000
DTEND;TZID=America/Denver:20291130T200000
DTSTAMP:20260421T044305
CREATED:20251210T015046Z
LAST-MODIFIED:20260327T194604Z
UID:10003974-1890745200-1890763200@bathtubrowbrewing.coop
SUMMARY:Joe Daddy's Food Truck
DESCRIPTION:
URL:https://bathtubrowbrewing.coop/event-detail/joe-daddys-food-truck/2029-11-30/
LOCATION:Taproom\, 163 Central Park Square\, Los Alamos\, NM\, 87544\, United States
CATEGORIES:Food Truck
END:VEVENT
END:VCALENDAR