BEGIN:VCALENDAR
VERSION:2.0
PRODID:-//Bathtub Row Brewing Co-op - ECPv6.15.12.2//NONSGML v1.0//EN
CALSCALE:GREGORIAN
METHOD:PUBLISH
X-ORIGINAL-URL:https://bathtubrowbrewing.coop
X-WR-CALDESC:Events for Bathtub Row Brewing Co-op
REFRESH-INTERVAL;VALUE=DURATION:PT1H
X-Robots-Tag:noindex
X-PUBLISHED-TTL:PT1H
BEGIN:VTIMEZONE
TZID:America/Denver
BEGIN:DAYLIGHT
TZOFFSETFROM:-0700
TZOFFSETTO:-0600
TZNAME:MDT
DTSTART:20280312T090000
END:DAYLIGHT
BEGIN:STANDARD
TZOFFSETFROM:-0600
TZOFFSETTO:-0700
TZNAME:MST
DTSTART:20281105T080000
END:STANDARD
BEGIN:DAYLIGHT
TZOFFSETFROM:-0700
TZOFFSETTO:-0600
TZNAME:MDT
DTSTART:20290311T090000
END:DAYLIGHT
BEGIN:STANDARD
TZOFFSETFROM:-0600
TZOFFSETTO:-0700
TZNAME:MST
DTSTART:20291104T080000
END:STANDARD
BEGIN:DAYLIGHT
TZOFFSETFROM:-0700
TZOFFSETTO:-0600
TZNAME:MDT
DTSTART:20300310T090000
END:DAYLIGHT
BEGIN:STANDARD
TZOFFSETFROM:-0600
TZOFFSETTO:-0700
TZNAME:MST
DTSTART:20301103T080000
END:STANDARD
END:VTIMEZONE
BEGIN:VEVENT
DTSTART;TZID=America/Denver:20291001T170000
DTEND;TZID=America/Denver:20291001T190000
DTSTAMP:20260421T031623
CREATED:20251210T014944Z
LAST-MODIFIED:20260212T010845Z
UID:10003123-1885568400-1885575600@bathtubrowbrewing.coop
SUMMARY:Jemez Mountain Pizza
DESCRIPTION:Pizza by the slice or you can purchase an entire pie! Scott sells until his supply ends.
URL:https://bathtubrowbrewing.coop/event-detail/jemez-mountain-pizza/2029-10-01/
LOCATION:Taproom\, 163 Central Park Square\, Los Alamos\, NM\, 87544\, United States
CATEGORIES:Food Truck
END:VEVENT
BEGIN:VEVENT
DTSTART;TZID=America/Denver:20291002T110000
DTEND;TZID=America/Denver:20291002T190000
DTSTAMP:20260421T031623
CREATED:20260108T014136Z
LAST-MODIFIED:20260108T014137Z
UID:10003584-1885633200-1885662000@bathtubrowbrewing.coop
SUMMARY:Fusion Tacos
DESCRIPTION:Tacos\, burritos\, and quesadillas!
URL:https://bathtubrowbrewing.coop/event-detail/fusion-tacos-2-2/2029-10-02/
LOCATION:Taproom\, 163 Central Park Square\, Los Alamos\, NM\, 87544\, United States
CATEGORIES:Food Truck
END:VEVENT
BEGIN:VEVENT
DTSTART;TZID=America/Denver:20291002T180000
DTEND;TZID=America/Denver:20291002T210000
DTSTAMP:20260421T031623
CREATED:20251210T015448Z
LAST-MODIFIED:20260331T000514Z
UID:10006414-1885658400-1885669200@bathtubrowbrewing.coop
SUMMARY:Jazz Night
DESCRIPTION:
URL:https://bathtubrowbrewing.coop/event-detail/jazz-night/2029-10-02/
LOCATION:Taproom\, 163 Central Park Square\, Los Alamos\, NM\, 87544\, United States
CATEGORIES:Music
END:VEVENT
BEGIN:VEVENT
DTSTART;TZID=America/Denver:20291003T150000
DTEND;TZID=America/Denver:20291003T193000
DTSTAMP:20260421T031623
CREATED:20260218T232034Z
LAST-MODIFIED:20260225T232853Z
UID:10006103-1885734000-1885750200@bathtubrowbrewing.coop
SUMMARY:Bomb Appetite Food Truck
DESCRIPTION:Come try BBQ at the Tub!
URL:https://bathtubrowbrewing.coop/event-detail/bomb-appetite-food-truck/2029-10-03/
LOCATION:Taproom\, 163 Central Park Square\, Los Alamos\, NM\, 87544\, United States
CATEGORIES:Food Truck
END:VEVENT
BEGIN:VEVENT
DTSTART;TZID=America/Denver:20291003T180000
DTEND;TZID=America/Denver:20291003T210000
DTSTAMP:20260421T031623
CREATED:20251223T233850Z
LAST-MODIFIED:20251223T234718Z
UID:10004068-1885744800-1885755600@bathtubrowbrewing.coop
SUMMARY:Lane Stevens Live
DESCRIPTION:
URL:https://bathtubrowbrewing.coop/event-detail/lane-stevens-live-2/2029-10-03/
LOCATION:Taproom\, 163 Central Park Square\, Los Alamos\, NM\, 87544\, United States
CATEGORIES:Music
END:VEVENT
BEGIN:VEVENT
DTSTART;TZID=America/Denver:20291004T110000
DTEND;TZID=America/Denver:20291004T210000
DTSTAMP:20260421T031623
CREATED:20260119T210129Z
LAST-MODIFIED:20260218T181017Z
UID:10004789-1885806000-1885842000@bathtubrowbrewing.coop
SUMMARY:Manko Food Truck
DESCRIPTION:Native American Fusion!
URL:https://bathtubrowbrewing.coop/event-detail/manko-food-truck/2029-10-04/
LOCATION:Taproom\, 163 Central Park Square\, Los Alamos\, NM\, 87544\, United States
CATEGORIES:Food Truck
END:VEVENT
BEGIN:VEVENT
DTSTART;TZID=America/Denver:20291005T150000
DTEND;TZID=America/Denver:20291005T200000
DTSTAMP:20260421T031623
CREATED:20251210T015046Z
LAST-MODIFIED:20260327T194604Z
UID:10003966-1885906800-1885924800@bathtubrowbrewing.coop
SUMMARY:Joe Daddy's Food Truck
DESCRIPTION:
URL:https://bathtubrowbrewing.coop/event-detail/joe-daddys-food-truck/2029-10-05/
LOCATION:Taproom\, 163 Central Park Square\, Los Alamos\, NM\, 87544\, United States
CATEGORIES:Food Truck
END:VEVENT
BEGIN:VEVENT
DTSTART;TZID=America/Denver:20291006T180000
DTEND;TZID=America/Denver:20291006T220000
DTSTAMP:20260421T031623
CREATED:20260218T233925Z
LAST-MODIFIED:20260218T233925Z
UID:10005883-1886004000-1886018400@bathtubrowbrewing.coop
SUMMARY:Tubaoke
DESCRIPTION:Come sing your heart out!
URL:https://bathtubrowbrewing.coop/event-detail/tubaoke-2-2-2-2/2029-10-06/
LOCATION:Taproom\, 163 Central Park Square\, Los Alamos\, NM\, 87544\, United States
CATEGORIES:Music
ATTACH;FMTTYPE=image/png:https://craftpeak-cooler-images.imgix.net/bathtub-row-brewing-co-op/5223012577926804554.png?auto=compress%2Cformat&ixlib=php-3.3.1&s=aae6dbbc6bd58cbfc534dfff1d1603b3
END:VEVENT
BEGIN:VEVENT
DTSTART;TZID=America/Denver:20291008T170000
DTEND;TZID=America/Denver:20291008T190000
DTSTAMP:20260421T031623
CREATED:20251210T014944Z
LAST-MODIFIED:20260212T010845Z
UID:10003124-1886173200-1886180400@bathtubrowbrewing.coop
SUMMARY:Jemez Mountain Pizza
DESCRIPTION:Pizza by the slice or you can purchase an entire pie! Scott sells until his supply ends.
URL:https://bathtubrowbrewing.coop/event-detail/jemez-mountain-pizza/2029-10-08/
LOCATION:Taproom\, 163 Central Park Square\, Los Alamos\, NM\, 87544\, United States
CATEGORIES:Food Truck
END:VEVENT
BEGIN:VEVENT
DTSTART;TZID=America/Denver:20291009T110000
DTEND;TZID=America/Denver:20291009T190000
DTSTAMP:20260421T031623
CREATED:20260108T014136Z
LAST-MODIFIED:20260108T014137Z
UID:10003586-1886238000-1886266800@bathtubrowbrewing.coop
SUMMARY:Fusion Tacos
DESCRIPTION:Tacos\, burritos\, and quesadillas!
URL:https://bathtubrowbrewing.coop/event-detail/fusion-tacos-2-2/2029-10-09/
LOCATION:Taproom\, 163 Central Park Square\, Los Alamos\, NM\, 87544\, United States
CATEGORIES:Food Truck
END:VEVENT
BEGIN:VEVENT
DTSTART;TZID=America/Denver:20291009T180000
DTEND;TZID=America/Denver:20291009T210000
DTSTAMP:20260421T031623
CREATED:20251210T015448Z
LAST-MODIFIED:20260331T000514Z
UID:10006415-1886263200-1886274000@bathtubrowbrewing.coop
SUMMARY:Jazz Night
DESCRIPTION:
URL:https://bathtubrowbrewing.coop/event-detail/jazz-night/2029-10-09/
LOCATION:Taproom\, 163 Central Park Square\, Los Alamos\, NM\, 87544\, United States
CATEGORIES:Music
END:VEVENT
BEGIN:VEVENT
DTSTART;TZID=America/Denver:20291010T150000
DTEND;TZID=America/Denver:20291010T193000
DTSTAMP:20260421T031623
CREATED:20260218T232034Z
LAST-MODIFIED:20260225T232853Z
UID:10006104-1886338800-1886355000@bathtubrowbrewing.coop
SUMMARY:Bomb Appetite Food Truck
DESCRIPTION:Come try BBQ at the Tub!
URL:https://bathtubrowbrewing.coop/event-detail/bomb-appetite-food-truck/2029-10-10/
LOCATION:Taproom\, 163 Central Park Square\, Los Alamos\, NM\, 87544\, United States
CATEGORIES:Food Truck
END:VEVENT
BEGIN:VEVENT
DTSTART;TZID=America/Denver:20291011T110000
DTEND;TZID=America/Denver:20291011T210000
DTSTAMP:20260421T031623
CREATED:20260119T210129Z
LAST-MODIFIED:20260218T181017Z
UID:10004790-1886410800-1886446800@bathtubrowbrewing.coop
SUMMARY:Manko Food Truck
DESCRIPTION:Native American Fusion!
URL:https://bathtubrowbrewing.coop/event-detail/manko-food-truck/2029-10-11/
LOCATION:Taproom\, 163 Central Park Square\, Los Alamos\, NM\, 87544\, United States
CATEGORIES:Food Truck
END:VEVENT
BEGIN:VEVENT
DTSTART;TZID=America/Denver:20291012T150000
DTEND;TZID=America/Denver:20291012T200000
DTSTAMP:20260421T031623
CREATED:20251210T015046Z
LAST-MODIFIED:20260327T194604Z
UID:10003967-1886511600-1886529600@bathtubrowbrewing.coop
SUMMARY:Joe Daddy's Food Truck
DESCRIPTION:
URL:https://bathtubrowbrewing.coop/event-detail/joe-daddys-food-truck/2029-10-12/
LOCATION:Taproom\, 163 Central Park Square\, Los Alamos\, NM\, 87544\, United States
CATEGORIES:Food Truck
END:VEVENT
BEGIN:VEVENT
DTSTART;TZID=America/Denver:20291015T170000
DTEND;TZID=America/Denver:20291015T190000
DTSTAMP:20260421T031623
CREATED:20251210T014944Z
LAST-MODIFIED:20260212T010845Z
UID:10003125-1886778000-1886785200@bathtubrowbrewing.coop
SUMMARY:Jemez Mountain Pizza
DESCRIPTION:Pizza by the slice or you can purchase an entire pie! Scott sells until his supply ends.
URL:https://bathtubrowbrewing.coop/event-detail/jemez-mountain-pizza/2029-10-15/
LOCATION:Taproom\, 163 Central Park Square\, Los Alamos\, NM\, 87544\, United States
CATEGORIES:Food Truck
END:VEVENT
BEGIN:VEVENT
DTSTART;TZID=America/Denver:20291016T110000
DTEND;TZID=America/Denver:20291016T190000
DTSTAMP:20260421T031623
CREATED:20260108T014136Z
LAST-MODIFIED:20260108T014137Z
UID:10003588-1886842800-1886871600@bathtubrowbrewing.coop
SUMMARY:Fusion Tacos
DESCRIPTION:Tacos\, burritos\, and quesadillas!
URL:https://bathtubrowbrewing.coop/event-detail/fusion-tacos-2-2/2029-10-16/
LOCATION:Taproom\, 163 Central Park Square\, Los Alamos\, NM\, 87544\, United States
CATEGORIES:Food Truck
END:VEVENT
BEGIN:VEVENT
DTSTART;TZID=America/Denver:20291016T180000
DTEND;TZID=America/Denver:20291016T210000
DTSTAMP:20260421T031623
CREATED:20251210T015448Z
LAST-MODIFIED:20260331T000514Z
UID:10006416-1886868000-1886878800@bathtubrowbrewing.coop
SUMMARY:Jazz Night
DESCRIPTION:
URL:https://bathtubrowbrewing.coop/event-detail/jazz-night/2029-10-16/
LOCATION:Taproom\, 163 Central Park Square\, Los Alamos\, NM\, 87544\, United States
CATEGORIES:Music
END:VEVENT
BEGIN:VEVENT
DTSTART;TZID=America/Denver:20291017T150000
DTEND;TZID=America/Denver:20291017T193000
DTSTAMP:20260421T031623
CREATED:20260218T232034Z
LAST-MODIFIED:20260225T232853Z
UID:10006105-1886943600-1886959800@bathtubrowbrewing.coop
SUMMARY:Bomb Appetite Food Truck
DESCRIPTION:Come try BBQ at the Tub!
URL:https://bathtubrowbrewing.coop/event-detail/bomb-appetite-food-truck/2029-10-17/
LOCATION:Taproom\, 163 Central Park Square\, Los Alamos\, NM\, 87544\, United States
CATEGORIES:Food Truck
END:VEVENT
BEGIN:VEVENT
DTSTART;TZID=America/Denver:20291017T180000
DTEND;TZID=America/Denver:20291017T210000
DTSTAMP:20260421T031623
CREATED:20251223T234813Z
LAST-MODIFIED:20251223T234813Z
UID:10004188-1886954400-1886965200@bathtubrowbrewing.coop
SUMMARY:Lane Stevens Live
DESCRIPTION:
URL:https://bathtubrowbrewing.coop/event-detail/lane-stevens-live-3/2029-10-17/
LOCATION:Taproom\, 163 Central Park Square\, Los Alamos\, NM\, 87544\, United States
CATEGORIES:Music
END:VEVENT
BEGIN:VEVENT
DTSTART;TZID=America/Denver:20291018T110000
DTEND;TZID=America/Denver:20291018T210000
DTSTAMP:20260421T031623
CREATED:20260119T210129Z
LAST-MODIFIED:20260218T181017Z
UID:10004791-1887015600-1887051600@bathtubrowbrewing.coop
SUMMARY:Manko Food Truck
DESCRIPTION:Native American Fusion!
URL:https://bathtubrowbrewing.coop/event-detail/manko-food-truck/2029-10-18/
LOCATION:Taproom\, 163 Central Park Square\, Los Alamos\, NM\, 87544\, United States
CATEGORIES:Food Truck
END:VEVENT
BEGIN:VEVENT
DTSTART;TZID=America/Denver:20291019T150000
DTEND;TZID=America/Denver:20291019T200000
DTSTAMP:20260421T031623
CREATED:20251210T015046Z
LAST-MODIFIED:20260327T194604Z
UID:10003968-1887116400-1887134400@bathtubrowbrewing.coop
SUMMARY:Joe Daddy's Food Truck
DESCRIPTION:
URL:https://bathtubrowbrewing.coop/event-detail/joe-daddys-food-truck/2029-10-19/
LOCATION:Taproom\, 163 Central Park Square\, Los Alamos\, NM\, 87544\, United States
CATEGORIES:Food Truck
END:VEVENT
BEGIN:VEVENT
DTSTART;TZID=America/Denver:20291022T170000
DTEND;TZID=America/Denver:20291022T190000
DTSTAMP:20260421T031623
CREATED:20251210T014944Z
LAST-MODIFIED:20260212T010845Z
UID:10003126-1887382800-1887390000@bathtubrowbrewing.coop
SUMMARY:Jemez Mountain Pizza
DESCRIPTION:Pizza by the slice or you can purchase an entire pie! Scott sells until his supply ends.
URL:https://bathtubrowbrewing.coop/event-detail/jemez-mountain-pizza/2029-10-22/
LOCATION:Taproom\, 163 Central Park Square\, Los Alamos\, NM\, 87544\, United States
CATEGORIES:Food Truck
END:VEVENT
BEGIN:VEVENT
DTSTART;TZID=America/Denver:20291023T110000
DTEND;TZID=America/Denver:20291023T190000
DTSTAMP:20260421T031623
CREATED:20260108T014136Z
LAST-MODIFIED:20260108T014137Z
UID:10003590-1887447600-1887476400@bathtubrowbrewing.coop
SUMMARY:Fusion Tacos
DESCRIPTION:Tacos\, burritos\, and quesadillas!
URL:https://bathtubrowbrewing.coop/event-detail/fusion-tacos-2-2/2029-10-23/
LOCATION:Taproom\, 163 Central Park Square\, Los Alamos\, NM\, 87544\, United States
CATEGORIES:Food Truck
END:VEVENT
BEGIN:VEVENT
DTSTART;TZID=America/Denver:20291023T180000
DTEND;TZID=America/Denver:20291023T210000
DTSTAMP:20260421T031623
CREATED:20251210T015448Z
LAST-MODIFIED:20260331T000514Z
UID:10006417-1887472800-1887483600@bathtubrowbrewing.coop
SUMMARY:Jazz Night
DESCRIPTION:
URL:https://bathtubrowbrewing.coop/event-detail/jazz-night/2029-10-23/
LOCATION:Taproom\, 163 Central Park Square\, Los Alamos\, NM\, 87544\, United States
CATEGORIES:Music
END:VEVENT
BEGIN:VEVENT
DTSTART;TZID=America/Denver:20291024T150000
DTEND;TZID=America/Denver:20291024T193000
DTSTAMP:20260421T031623
CREATED:20260218T232034Z
LAST-MODIFIED:20260225T232853Z
UID:10006106-1887548400-1887564600@bathtubrowbrewing.coop
SUMMARY:Bomb Appetite Food Truck
DESCRIPTION:Come try BBQ at the Tub!
URL:https://bathtubrowbrewing.coop/event-detail/bomb-appetite-food-truck/2029-10-24/
LOCATION:Taproom\, 163 Central Park Square\, Los Alamos\, NM\, 87544\, United States
CATEGORIES:Food Truck
END:VEVENT
BEGIN:VEVENT
DTSTART;TZID=America/Denver:20291025T110000
DTEND;TZID=America/Denver:20291025T210000
DTSTAMP:20260421T031623
CREATED:20260119T210129Z
LAST-MODIFIED:20260218T181017Z
UID:10004792-1887620400-1887656400@bathtubrowbrewing.coop
SUMMARY:Manko Food Truck
DESCRIPTION:Native American Fusion!
URL:https://bathtubrowbrewing.coop/event-detail/manko-food-truck/2029-10-25/
LOCATION:Taproom\, 163 Central Park Square\, Los Alamos\, NM\, 87544\, United States
CATEGORIES:Food Truck
END:VEVENT
BEGIN:VEVENT
DTSTART;TZID=America/Denver:20291026T150000
DTEND;TZID=America/Denver:20291026T200000
DTSTAMP:20260421T031623
CREATED:20251210T015046Z
LAST-MODIFIED:20260327T194604Z
UID:10003969-1887721200-1887739200@bathtubrowbrewing.coop
SUMMARY:Joe Daddy's Food Truck
DESCRIPTION:
URL:https://bathtubrowbrewing.coop/event-detail/joe-daddys-food-truck/2029-10-26/
LOCATION:Taproom\, 163 Central Park Square\, Los Alamos\, NM\, 87544\, United States
CATEGORIES:Food Truck
END:VEVENT
BEGIN:VEVENT
DTSTART;TZID=America/Denver:20291029T170000
DTEND;TZID=America/Denver:20291029T190000
DTSTAMP:20260421T031623
CREATED:20251210T014944Z
LAST-MODIFIED:20260212T010845Z
UID:10003127-1887987600-1887994800@bathtubrowbrewing.coop
SUMMARY:Jemez Mountain Pizza
DESCRIPTION:Pizza by the slice or you can purchase an entire pie! Scott sells until his supply ends.
URL:https://bathtubrowbrewing.coop/event-detail/jemez-mountain-pizza/2029-10-29/
LOCATION:Taproom\, 163 Central Park Square\, Los Alamos\, NM\, 87544\, United States
CATEGORIES:Food Truck
END:VEVENT
BEGIN:VEVENT
DTSTART;TZID=America/Denver:20291030T110000
DTEND;TZID=America/Denver:20291030T190000
DTSTAMP:20260421T031623
CREATED:20260108T014136Z
LAST-MODIFIED:20260108T014137Z
UID:10003592-1888052400-1888081200@bathtubrowbrewing.coop
SUMMARY:Fusion Tacos
DESCRIPTION:Tacos\, burritos\, and quesadillas!
URL:https://bathtubrowbrewing.coop/event-detail/fusion-tacos-2-2/2029-10-30/
LOCATION:Taproom\, 163 Central Park Square\, Los Alamos\, NM\, 87544\, United States
CATEGORIES:Food Truck
END:VEVENT
BEGIN:VEVENT
DTSTART;TZID=America/Denver:20291030T180000
DTEND;TZID=America/Denver:20291030T210000
DTSTAMP:20260421T031623
CREATED:20251210T015448Z
LAST-MODIFIED:20260331T000514Z
UID:10006418-1888077600-1888088400@bathtubrowbrewing.coop
SUMMARY:Jazz Night
DESCRIPTION:
URL:https://bathtubrowbrewing.coop/event-detail/jazz-night/2029-10-30/
LOCATION:Taproom\, 163 Central Park Square\, Los Alamos\, NM\, 87544\, United States
CATEGORIES:Music
END:VEVENT
END:VCALENDAR