BEGIN:VCALENDAR
VERSION:2.0
PRODID:-//Bathtub Row Brewing Co-op - ECPv6.15.12.2//NONSGML v1.0//EN
CALSCALE:GREGORIAN
METHOD:PUBLISH
X-ORIGINAL-URL:https://bathtubrowbrewing.coop
X-WR-CALDESC:Events for Bathtub Row Brewing Co-op
REFRESH-INTERVAL;VALUE=DURATION:PT1H
X-Robots-Tag:noindex
X-PUBLISHED-TTL:PT1H
BEGIN:VTIMEZONE
TZID:America/Denver
BEGIN:DAYLIGHT
TZOFFSETFROM:-0700
TZOFFSETTO:-0600
TZNAME:MDT
DTSTART:20280312T090000
END:DAYLIGHT
BEGIN:STANDARD
TZOFFSETFROM:-0600
TZOFFSETTO:-0700
TZNAME:MST
DTSTART:20281105T080000
END:STANDARD
BEGIN:DAYLIGHT
TZOFFSETFROM:-0700
TZOFFSETTO:-0600
TZNAME:MDT
DTSTART:20290311T090000
END:DAYLIGHT
BEGIN:STANDARD
TZOFFSETFROM:-0600
TZOFFSETTO:-0700
TZNAME:MST
DTSTART:20291104T080000
END:STANDARD
BEGIN:DAYLIGHT
TZOFFSETFROM:-0700
TZOFFSETTO:-0600
TZNAME:MDT
DTSTART:20300310T090000
END:DAYLIGHT
BEGIN:STANDARD
TZOFFSETFROM:-0600
TZOFFSETTO:-0700
TZNAME:MST
DTSTART:20301103T080000
END:STANDARD
END:VTIMEZONE
BEGIN:VEVENT
DTSTART;TZID=America/Denver:20290601T150000
DTEND;TZID=America/Denver:20290601T200000
DTSTAMP:20260420T211732
CREATED:20251210T015046Z
LAST-MODIFIED:20260327T194604Z
UID:10003948-1875020400-1875038400@bathtubrowbrewing.coop
SUMMARY:Joe Daddy's Food Truck
DESCRIPTION:
URL:https://bathtubrowbrewing.coop/event-detail/joe-daddys-food-truck/2029-06-01/
LOCATION:Taproom\, 163 Central Park Square\, Los Alamos\, NM\, 87544\, United States
CATEGORIES:Food Truck
END:VEVENT
BEGIN:VEVENT
DTSTART;TZID=America/Denver:20290602T180000
DTEND;TZID=America/Denver:20290602T220000
DTSTAMP:20260420T211732
CREATED:20260218T233925Z
LAST-MODIFIED:20260218T233925Z
UID:10005879-1875117600-1875132000@bathtubrowbrewing.coop
SUMMARY:Tubaoke
DESCRIPTION:Come sing your heart out!
URL:https://bathtubrowbrewing.coop/event-detail/tubaoke-2-2-2-2/2029-06-02/
LOCATION:Taproom\, 163 Central Park Square\, Los Alamos\, NM\, 87544\, United States
CATEGORIES:Music
ATTACH;FMTTYPE=image/png:https://craftpeak-cooler-images.imgix.net/bathtub-row-brewing-co-op/5223012577926804554.png?auto=compress%2Cformat&ixlib=php-3.3.1&s=aae6dbbc6bd58cbfc534dfff1d1603b3
END:VEVENT
BEGIN:VEVENT
DTSTART;TZID=America/Denver:20290604T170000
DTEND;TZID=America/Denver:20290604T190000
DTSTAMP:20260420T211732
CREATED:20251210T014944Z
LAST-MODIFIED:20260212T010845Z
UID:10003106-1875286800-1875294000@bathtubrowbrewing.coop
SUMMARY:Jemez Mountain Pizza
DESCRIPTION:Pizza by the slice or you can purchase an entire pie! Scott sells until his supply ends.
URL:https://bathtubrowbrewing.coop/event-detail/jemez-mountain-pizza/2029-06-04/
LOCATION:Taproom\, 163 Central Park Square\, Los Alamos\, NM\, 87544\, United States
CATEGORIES:Food Truck
END:VEVENT
BEGIN:VEVENT
DTSTART;TZID=America/Denver:20290605T110000
DTEND;TZID=America/Denver:20290605T190000
DTSTAMP:20260420T211732
CREATED:20260108T014136Z
LAST-MODIFIED:20260108T014137Z
UID:10003550-1875351600-1875380400@bathtubrowbrewing.coop
SUMMARY:Fusion Tacos
DESCRIPTION:Tacos\, burritos\, and quesadillas!
URL:https://bathtubrowbrewing.coop/event-detail/fusion-tacos-2-2/2029-06-05/
LOCATION:Taproom\, 163 Central Park Square\, Los Alamos\, NM\, 87544\, United States
CATEGORIES:Food Truck
END:VEVENT
BEGIN:VEVENT
DTSTART;TZID=America/Denver:20290605T180000
DTEND;TZID=America/Denver:20290605T210000
DTSTAMP:20260420T211732
CREATED:20251210T015448Z
LAST-MODIFIED:20260331T000514Z
UID:10006397-1875376800-1875387600@bathtubrowbrewing.coop
SUMMARY:Jazz Night
DESCRIPTION:
URL:https://bathtubrowbrewing.coop/event-detail/jazz-night/2029-06-05/
LOCATION:Taproom\, 163 Central Park Square\, Los Alamos\, NM\, 87544\, United States
CATEGORIES:Music
END:VEVENT
BEGIN:VEVENT
DTSTART;TZID=America/Denver:20290606T150000
DTEND;TZID=America/Denver:20290606T193000
DTSTAMP:20260420T211732
CREATED:20260218T232034Z
LAST-MODIFIED:20260225T232853Z
UID:10006086-1875452400-1875468600@bathtubrowbrewing.coop
SUMMARY:Bomb Appetite Food Truck
DESCRIPTION:Come try BBQ at the Tub!
URL:https://bathtubrowbrewing.coop/event-detail/bomb-appetite-food-truck/2029-06-06/
LOCATION:Taproom\, 163 Central Park Square\, Los Alamos\, NM\, 87544\, United States
CATEGORIES:Food Truck
END:VEVENT
BEGIN:VEVENT
DTSTART;TZID=America/Denver:20290606T180000
DTEND;TZID=America/Denver:20290606T210000
DTSTAMP:20260420T211732
CREATED:20251223T233850Z
LAST-MODIFIED:20251223T234718Z
UID:10004064-1875463200-1875474000@bathtubrowbrewing.coop
SUMMARY:Lane Stevens Live
DESCRIPTION:
URL:https://bathtubrowbrewing.coop/event-detail/lane-stevens-live-2/2029-06-06/
LOCATION:Taproom\, 163 Central Park Square\, Los Alamos\, NM\, 87544\, United States
CATEGORIES:Music
END:VEVENT
BEGIN:VEVENT
DTSTART;TZID=America/Denver:20290607T110000
DTEND;TZID=America/Denver:20290607T210000
DTSTAMP:20260420T211732
CREATED:20260119T210129Z
LAST-MODIFIED:20260218T181017Z
UID:10004772-1875524400-1875560400@bathtubrowbrewing.coop
SUMMARY:Manko Food Truck
DESCRIPTION:Native American Fusion!
URL:https://bathtubrowbrewing.coop/event-detail/manko-food-truck/2029-06-07/
LOCATION:Taproom\, 163 Central Park Square\, Los Alamos\, NM\, 87544\, United States
CATEGORIES:Food Truck
END:VEVENT
BEGIN:VEVENT
DTSTART;TZID=America/Denver:20290608T150000
DTEND;TZID=America/Denver:20290608T200000
DTSTAMP:20260420T211732
CREATED:20251210T015046Z
LAST-MODIFIED:20260327T194604Z
UID:10003949-1875625200-1875643200@bathtubrowbrewing.coop
SUMMARY:Joe Daddy's Food Truck
DESCRIPTION:
URL:https://bathtubrowbrewing.coop/event-detail/joe-daddys-food-truck/2029-06-08/
LOCATION:Taproom\, 163 Central Park Square\, Los Alamos\, NM\, 87544\, United States
CATEGORIES:Food Truck
END:VEVENT
BEGIN:VEVENT
DTSTART;TZID=America/Denver:20290611T170000
DTEND;TZID=America/Denver:20290611T190000
DTSTAMP:20260420T211732
CREATED:20251210T014944Z
LAST-MODIFIED:20260212T010845Z
UID:10003107-1875891600-1875898800@bathtubrowbrewing.coop
SUMMARY:Jemez Mountain Pizza
DESCRIPTION:Pizza by the slice or you can purchase an entire pie! Scott sells until his supply ends.
URL:https://bathtubrowbrewing.coop/event-detail/jemez-mountain-pizza/2029-06-11/
LOCATION:Taproom\, 163 Central Park Square\, Los Alamos\, NM\, 87544\, United States
CATEGORIES:Food Truck
END:VEVENT
BEGIN:VEVENT
DTSTART;TZID=America/Denver:20290612T110000
DTEND;TZID=America/Denver:20290612T190000
DTSTAMP:20260420T211732
CREATED:20260108T014136Z
LAST-MODIFIED:20260108T014137Z
UID:10003552-1875956400-1875985200@bathtubrowbrewing.coop
SUMMARY:Fusion Tacos
DESCRIPTION:Tacos\, burritos\, and quesadillas!
URL:https://bathtubrowbrewing.coop/event-detail/fusion-tacos-2-2/2029-06-12/
LOCATION:Taproom\, 163 Central Park Square\, Los Alamos\, NM\, 87544\, United States
CATEGORIES:Food Truck
END:VEVENT
BEGIN:VEVENT
DTSTART;TZID=America/Denver:20290612T180000
DTEND;TZID=America/Denver:20290612T210000
DTSTAMP:20260420T211732
CREATED:20251210T015448Z
LAST-MODIFIED:20260331T000514Z
UID:10006398-1875981600-1875992400@bathtubrowbrewing.coop
SUMMARY:Jazz Night
DESCRIPTION:
URL:https://bathtubrowbrewing.coop/event-detail/jazz-night/2029-06-12/
LOCATION:Taproom\, 163 Central Park Square\, Los Alamos\, NM\, 87544\, United States
CATEGORIES:Music
END:VEVENT
BEGIN:VEVENT
DTSTART;TZID=America/Denver:20290613T150000
DTEND;TZID=America/Denver:20290613T193000
DTSTAMP:20260420T211732
CREATED:20260218T232034Z
LAST-MODIFIED:20260225T232853Z
UID:10006087-1876057200-1876073400@bathtubrowbrewing.coop
SUMMARY:Bomb Appetite Food Truck
DESCRIPTION:Come try BBQ at the Tub!
URL:https://bathtubrowbrewing.coop/event-detail/bomb-appetite-food-truck/2029-06-13/
LOCATION:Taproom\, 163 Central Park Square\, Los Alamos\, NM\, 87544\, United States
CATEGORIES:Food Truck
END:VEVENT
BEGIN:VEVENT
DTSTART;TZID=America/Denver:20290614T110000
DTEND;TZID=America/Denver:20290614T210000
DTSTAMP:20260420T211732
CREATED:20260119T210129Z
LAST-MODIFIED:20260218T181017Z
UID:10004773-1876129200-1876165200@bathtubrowbrewing.coop
SUMMARY:Manko Food Truck
DESCRIPTION:Native American Fusion!
URL:https://bathtubrowbrewing.coop/event-detail/manko-food-truck/2029-06-14/
LOCATION:Taproom\, 163 Central Park Square\, Los Alamos\, NM\, 87544\, United States
CATEGORIES:Food Truck
END:VEVENT
BEGIN:VEVENT
DTSTART;TZID=America/Denver:20290615T150000
DTEND;TZID=America/Denver:20290615T200000
DTSTAMP:20260420T211732
CREATED:20251210T015046Z
LAST-MODIFIED:20260327T194604Z
UID:10003950-1876230000-1876248000@bathtubrowbrewing.coop
SUMMARY:Joe Daddy's Food Truck
DESCRIPTION:
URL:https://bathtubrowbrewing.coop/event-detail/joe-daddys-food-truck/2029-06-15/
LOCATION:Taproom\, 163 Central Park Square\, Los Alamos\, NM\, 87544\, United States
CATEGORIES:Food Truck
END:VEVENT
BEGIN:VEVENT
DTSTART;TZID=America/Denver:20290618T170000
DTEND;TZID=America/Denver:20290618T190000
DTSTAMP:20260420T211732
CREATED:20251210T014944Z
LAST-MODIFIED:20260212T010845Z
UID:10003108-1876496400-1876503600@bathtubrowbrewing.coop
SUMMARY:Jemez Mountain Pizza
DESCRIPTION:Pizza by the slice or you can purchase an entire pie! Scott sells until his supply ends.
URL:https://bathtubrowbrewing.coop/event-detail/jemez-mountain-pizza/2029-06-18/
LOCATION:Taproom\, 163 Central Park Square\, Los Alamos\, NM\, 87544\, United States
CATEGORIES:Food Truck
END:VEVENT
BEGIN:VEVENT
DTSTART;TZID=America/Denver:20290619T110000
DTEND;TZID=America/Denver:20290619T190000
DTSTAMP:20260420T211732
CREATED:20260108T014136Z
LAST-MODIFIED:20260108T014137Z
UID:10003554-1876561200-1876590000@bathtubrowbrewing.coop
SUMMARY:Fusion Tacos
DESCRIPTION:Tacos\, burritos\, and quesadillas!
URL:https://bathtubrowbrewing.coop/event-detail/fusion-tacos-2-2/2029-06-19/
LOCATION:Taproom\, 163 Central Park Square\, Los Alamos\, NM\, 87544\, United States
CATEGORIES:Food Truck
END:VEVENT
BEGIN:VEVENT
DTSTART;TZID=America/Denver:20290619T180000
DTEND;TZID=America/Denver:20290619T210000
DTSTAMP:20260420T211732
CREATED:20251210T015448Z
LAST-MODIFIED:20260331T000514Z
UID:10006399-1876586400-1876597200@bathtubrowbrewing.coop
SUMMARY:Jazz Night
DESCRIPTION:
URL:https://bathtubrowbrewing.coop/event-detail/jazz-night/2029-06-19/
LOCATION:Taproom\, 163 Central Park Square\, Los Alamos\, NM\, 87544\, United States
CATEGORIES:Music
END:VEVENT
BEGIN:VEVENT
DTSTART;TZID=America/Denver:20290620T150000
DTEND;TZID=America/Denver:20290620T193000
DTSTAMP:20260420T211732
CREATED:20260218T232034Z
LAST-MODIFIED:20260225T232853Z
UID:10006088-1876662000-1876678200@bathtubrowbrewing.coop
SUMMARY:Bomb Appetite Food Truck
DESCRIPTION:Come try BBQ at the Tub!
URL:https://bathtubrowbrewing.coop/event-detail/bomb-appetite-food-truck/2029-06-20/
LOCATION:Taproom\, 163 Central Park Square\, Los Alamos\, NM\, 87544\, United States
CATEGORIES:Food Truck
END:VEVENT
BEGIN:VEVENT
DTSTART;TZID=America/Denver:20290620T180000
DTEND;TZID=America/Denver:20290620T210000
DTSTAMP:20260420T211732
CREATED:20251223T234813Z
LAST-MODIFIED:20251223T234813Z
UID:10004184-1876672800-1876683600@bathtubrowbrewing.coop
SUMMARY:Lane Stevens Live
DESCRIPTION:
URL:https://bathtubrowbrewing.coop/event-detail/lane-stevens-live-3/2029-06-20/
LOCATION:Taproom\, 163 Central Park Square\, Los Alamos\, NM\, 87544\, United States
CATEGORIES:Music
END:VEVENT
BEGIN:VEVENT
DTSTART;TZID=America/Denver:20290621T110000
DTEND;TZID=America/Denver:20290621T210000
DTSTAMP:20260420T211732
CREATED:20260119T210129Z
LAST-MODIFIED:20260218T181017Z
UID:10004774-1876734000-1876770000@bathtubrowbrewing.coop
SUMMARY:Manko Food Truck
DESCRIPTION:Native American Fusion!
URL:https://bathtubrowbrewing.coop/event-detail/manko-food-truck/2029-06-21/
LOCATION:Taproom\, 163 Central Park Square\, Los Alamos\, NM\, 87544\, United States
CATEGORIES:Food Truck
END:VEVENT
BEGIN:VEVENT
DTSTART;TZID=America/Denver:20290622T150000
DTEND;TZID=America/Denver:20290622T200000
DTSTAMP:20260420T211732
CREATED:20251210T015046Z
LAST-MODIFIED:20260327T194604Z
UID:10003951-1876834800-1876852800@bathtubrowbrewing.coop
SUMMARY:Joe Daddy's Food Truck
DESCRIPTION:
URL:https://bathtubrowbrewing.coop/event-detail/joe-daddys-food-truck/2029-06-22/
LOCATION:Taproom\, 163 Central Park Square\, Los Alamos\, NM\, 87544\, United States
CATEGORIES:Food Truck
END:VEVENT
BEGIN:VEVENT
DTSTART;TZID=America/Denver:20290625T170000
DTEND;TZID=America/Denver:20290625T190000
DTSTAMP:20260420T211732
CREATED:20251210T014944Z
LAST-MODIFIED:20260212T010845Z
UID:10003109-1877101200-1877108400@bathtubrowbrewing.coop
SUMMARY:Jemez Mountain Pizza
DESCRIPTION:Pizza by the slice or you can purchase an entire pie! Scott sells until his supply ends.
URL:https://bathtubrowbrewing.coop/event-detail/jemez-mountain-pizza/2029-06-25/
LOCATION:Taproom\, 163 Central Park Square\, Los Alamos\, NM\, 87544\, United States
CATEGORIES:Food Truck
END:VEVENT
BEGIN:VEVENT
DTSTART;TZID=America/Denver:20290626T110000
DTEND;TZID=America/Denver:20290626T190000
DTSTAMP:20260420T211732
CREATED:20260108T014136Z
LAST-MODIFIED:20260108T014137Z
UID:10003556-1877166000-1877194800@bathtubrowbrewing.coop
SUMMARY:Fusion Tacos
DESCRIPTION:Tacos\, burritos\, and quesadillas!
URL:https://bathtubrowbrewing.coop/event-detail/fusion-tacos-2-2/2029-06-26/
LOCATION:Taproom\, 163 Central Park Square\, Los Alamos\, NM\, 87544\, United States
CATEGORIES:Food Truck
END:VEVENT
BEGIN:VEVENT
DTSTART;TZID=America/Denver:20290626T180000
DTEND;TZID=America/Denver:20290626T210000
DTSTAMP:20260420T211732
CREATED:20251210T015448Z
LAST-MODIFIED:20260331T000514Z
UID:10006400-1877191200-1877202000@bathtubrowbrewing.coop
SUMMARY:Jazz Night
DESCRIPTION:
URL:https://bathtubrowbrewing.coop/event-detail/jazz-night/2029-06-26/
LOCATION:Taproom\, 163 Central Park Square\, Los Alamos\, NM\, 87544\, United States
CATEGORIES:Music
END:VEVENT
BEGIN:VEVENT
DTSTART;TZID=America/Denver:20290627T150000
DTEND;TZID=America/Denver:20290627T193000
DTSTAMP:20260420T211732
CREATED:20260218T232034Z
LAST-MODIFIED:20260225T232853Z
UID:10006089-1877266800-1877283000@bathtubrowbrewing.coop
SUMMARY:Bomb Appetite Food Truck
DESCRIPTION:Come try BBQ at the Tub!
URL:https://bathtubrowbrewing.coop/event-detail/bomb-appetite-food-truck/2029-06-27/
LOCATION:Taproom\, 163 Central Park Square\, Los Alamos\, NM\, 87544\, United States
CATEGORIES:Food Truck
END:VEVENT
BEGIN:VEVENT
DTSTART;TZID=America/Denver:20290628T110000
DTEND;TZID=America/Denver:20290628T210000
DTSTAMP:20260420T211732
CREATED:20260119T210129Z
LAST-MODIFIED:20260218T181017Z
UID:10004775-1877338800-1877374800@bathtubrowbrewing.coop
SUMMARY:Manko Food Truck
DESCRIPTION:Native American Fusion!
URL:https://bathtubrowbrewing.coop/event-detail/manko-food-truck/2029-06-28/
LOCATION:Taproom\, 163 Central Park Square\, Los Alamos\, NM\, 87544\, United States
CATEGORIES:Food Truck
END:VEVENT
BEGIN:VEVENT
DTSTART;TZID=America/Denver:20290629T150000
DTEND;TZID=America/Denver:20290629T200000
DTSTAMP:20260420T211732
CREATED:20251210T015046Z
LAST-MODIFIED:20260327T194604Z
UID:10003952-1877439600-1877457600@bathtubrowbrewing.coop
SUMMARY:Joe Daddy's Food Truck
DESCRIPTION:
URL:https://bathtubrowbrewing.coop/event-detail/joe-daddys-food-truck/2029-06-29/
LOCATION:Taproom\, 163 Central Park Square\, Los Alamos\, NM\, 87544\, United States
CATEGORIES:Food Truck
END:VEVENT
END:VCALENDAR