BEGIN:VCALENDAR
VERSION:2.0
PRODID:-//Bathtub Row Brewing Co-op - ECPv6.15.12.2//NONSGML v1.0//EN
CALSCALE:GREGORIAN
METHOD:PUBLISH
X-WR-CALNAME:Bathtub Row Brewing Co-op
X-ORIGINAL-URL:https://bathtubrowbrewing.coop
X-WR-CALDESC:Events for Bathtub Row Brewing Co-op
REFRESH-INTERVAL;VALUE=DURATION:PT1H
X-Robots-Tag:noindex
X-PUBLISHED-TTL:PT1H
BEGIN:VTIMEZONE
TZID:America/Denver
BEGIN:DAYLIGHT
TZOFFSETFROM:-0700
TZOFFSETTO:-0600
TZNAME:MDT
DTSTART:20270314T090000
END:DAYLIGHT
BEGIN:STANDARD
TZOFFSETFROM:-0600
TZOFFSETTO:-0700
TZNAME:MST
DTSTART:20271107T080000
END:STANDARD
BEGIN:DAYLIGHT
TZOFFSETFROM:-0700
TZOFFSETTO:-0600
TZNAME:MDT
DTSTART:20280312T090000
END:DAYLIGHT
BEGIN:STANDARD
TZOFFSETFROM:-0600
TZOFFSETTO:-0700
TZNAME:MST
DTSTART:20281105T080000
END:STANDARD
BEGIN:DAYLIGHT
TZOFFSETFROM:-0700
TZOFFSETTO:-0600
TZNAME:MDT
DTSTART:20290311T090000
END:DAYLIGHT
BEGIN:STANDARD
TZOFFSETFROM:-0600
TZOFFSETTO:-0700
TZNAME:MST
DTSTART:20291104T080000
END:STANDARD
END:VTIMEZONE
BEGIN:VEVENT
DTSTART;TZID=America/Denver:20281002T170000
DTEND;TZID=America/Denver:20281002T190000
DTSTAMP:20260420T094631
CREATED:20251210T014944Z
LAST-MODIFIED:20260212T010845Z
UID:10003071-1854118800-1854126000@bathtubrowbrewing.coop
SUMMARY:Jemez Mountain Pizza
DESCRIPTION:Pizza by the slice or you can purchase an entire pie! Scott sells until his supply ends.
URL:https://bathtubrowbrewing.coop/event-detail/jemez-mountain-pizza/2028-10-02/
LOCATION:Taproom\, 163 Central Park Square\, Los Alamos\, NM\, 87544\, United States
CATEGORIES:Food Truck
END:VEVENT
BEGIN:VEVENT
DTSTART;TZID=America/Denver:20281003T110000
DTEND;TZID=America/Denver:20281003T190000
DTSTAMP:20260420T094631
CREATED:20260108T014136Z
LAST-MODIFIED:20260108T014137Z
UID:10003480-1854183600-1854212400@bathtubrowbrewing.coop
SUMMARY:Fusion Tacos
DESCRIPTION:Tacos\, burritos\, and quesadillas!
URL:https://bathtubrowbrewing.coop/event-detail/fusion-tacos-2-2/2028-10-03/
LOCATION:Taproom\, 163 Central Park Square\, Los Alamos\, NM\, 87544\, United States
CATEGORIES:Food Truck
END:VEVENT
BEGIN:VEVENT
DTSTART;TZID=America/Denver:20281003T180000
DTEND;TZID=America/Denver:20281003T210000
DTSTAMP:20260420T094631
CREATED:20251210T015448Z
LAST-MODIFIED:20260331T000514Z
UID:10006362-1854208800-1854219600@bathtubrowbrewing.coop
SUMMARY:Jazz Night
DESCRIPTION:
URL:https://bathtubrowbrewing.coop/event-detail/jazz-night/2028-10-03/
LOCATION:Taproom\, 163 Central Park Square\, Los Alamos\, NM\, 87544\, United States
CATEGORIES:Music
END:VEVENT
BEGIN:VEVENT
DTSTART;TZID=America/Denver:20281004T150000
DTEND;TZID=America/Denver:20281004T193000
DTSTAMP:20260420T094631
CREATED:20260218T232034Z
LAST-MODIFIED:20260225T232853Z
UID:10006051-1854284400-1854300600@bathtubrowbrewing.coop
SUMMARY:Bomb Appetite Food Truck
DESCRIPTION:Come try BBQ at the Tub!
URL:https://bathtubrowbrewing.coop/event-detail/bomb-appetite-food-truck/2028-10-04/
LOCATION:Taproom\, 163 Central Park Square\, Los Alamos\, NM\, 87544\, United States
CATEGORIES:Food Truck
END:VEVENT
BEGIN:VEVENT
DTSTART;TZID=America/Denver:20281004T180000
DTEND;TZID=America/Denver:20281004T210000
DTSTAMP:20260420T094631
CREATED:20251223T233850Z
LAST-MODIFIED:20251223T234718Z
UID:10004056-1854295200-1854306000@bathtubrowbrewing.coop
SUMMARY:Lane Stevens Live
DESCRIPTION:
URL:https://bathtubrowbrewing.coop/event-detail/lane-stevens-live-2/2028-10-04/
LOCATION:Taproom\, 163 Central Park Square\, Los Alamos\, NM\, 87544\, United States
CATEGORIES:Music
END:VEVENT
BEGIN:VEVENT
DTSTART;TZID=America/Denver:20281005T110000
DTEND;TZID=America/Denver:20281005T210000
DTSTAMP:20260420T094631
CREATED:20260119T210129Z
LAST-MODIFIED:20260218T181017Z
UID:10004737-1854356400-1854392400@bathtubrowbrewing.coop
SUMMARY:Manko Food Truck
DESCRIPTION:Native American Fusion!
URL:https://bathtubrowbrewing.coop/event-detail/manko-food-truck/2028-10-05/
LOCATION:Taproom\, 163 Central Park Square\, Los Alamos\, NM\, 87544\, United States
CATEGORIES:Food Truck
END:VEVENT
BEGIN:VEVENT
DTSTART;TZID=America/Denver:20281006T150000
DTEND;TZID=America/Denver:20281006T200000
DTSTAMP:20260420T094631
CREATED:20251210T015046Z
LAST-MODIFIED:20260327T194604Z
UID:10003914-1854457200-1854475200@bathtubrowbrewing.coop
SUMMARY:Joe Daddy's Food Truck
DESCRIPTION:
URL:https://bathtubrowbrewing.coop/event-detail/joe-daddys-food-truck/2028-10-06/
LOCATION:Taproom\, 163 Central Park Square\, Los Alamos\, NM\, 87544\, United States
CATEGORIES:Food Truck
END:VEVENT
BEGIN:VEVENT
DTSTART;TZID=America/Denver:20281007T180000
DTEND;TZID=America/Denver:20281007T220000
DTSTAMP:20260420T094631
CREATED:20260218T233925Z
LAST-MODIFIED:20260218T233925Z
UID:10005871-1854554400-1854568800@bathtubrowbrewing.coop
SUMMARY:Tubaoke
DESCRIPTION:Come sing your heart out!
URL:https://bathtubrowbrewing.coop/event-detail/tubaoke-2-2-2-2/2028-10-07/
LOCATION:Taproom\, 163 Central Park Square\, Los Alamos\, NM\, 87544\, United States
CATEGORIES:Music
ATTACH;FMTTYPE=image/png:https://craftpeak-cooler-images.imgix.net/bathtub-row-brewing-co-op/5223012577926804554.png?auto=compress%2Cformat&ixlib=php-3.3.1&s=aae6dbbc6bd58cbfc534dfff1d1603b3
END:VEVENT
BEGIN:VEVENT
DTSTART;TZID=America/Denver:20281009T170000
DTEND;TZID=America/Denver:20281009T190000
DTSTAMP:20260420T094631
CREATED:20251210T014944Z
LAST-MODIFIED:20260212T010845Z
UID:10003072-1854723600-1854730800@bathtubrowbrewing.coop
SUMMARY:Jemez Mountain Pizza
DESCRIPTION:Pizza by the slice or you can purchase an entire pie! Scott sells until his supply ends.
URL:https://bathtubrowbrewing.coop/event-detail/jemez-mountain-pizza/2028-10-09/
LOCATION:Taproom\, 163 Central Park Square\, Los Alamos\, NM\, 87544\, United States
CATEGORIES:Food Truck
END:VEVENT
BEGIN:VEVENT
DTSTART;TZID=America/Denver:20281010T110000
DTEND;TZID=America/Denver:20281010T190000
DTSTAMP:20260420T094631
CREATED:20260108T014136Z
LAST-MODIFIED:20260108T014137Z
UID:10003482-1854788400-1854817200@bathtubrowbrewing.coop
SUMMARY:Fusion Tacos
DESCRIPTION:Tacos\, burritos\, and quesadillas!
URL:https://bathtubrowbrewing.coop/event-detail/fusion-tacos-2-2/2028-10-10/
LOCATION:Taproom\, 163 Central Park Square\, Los Alamos\, NM\, 87544\, United States
CATEGORIES:Food Truck
END:VEVENT
BEGIN:VEVENT
DTSTART;TZID=America/Denver:20281010T180000
DTEND;TZID=America/Denver:20281010T210000
DTSTAMP:20260420T094631
CREATED:20251210T015448Z
LAST-MODIFIED:20260331T000514Z
UID:10006363-1854813600-1854824400@bathtubrowbrewing.coop
SUMMARY:Jazz Night
DESCRIPTION:
URL:https://bathtubrowbrewing.coop/event-detail/jazz-night/2028-10-10/
LOCATION:Taproom\, 163 Central Park Square\, Los Alamos\, NM\, 87544\, United States
CATEGORIES:Music
END:VEVENT
BEGIN:VEVENT
DTSTART;TZID=America/Denver:20281011T150000
DTEND;TZID=America/Denver:20281011T193000
DTSTAMP:20260420T094631
CREATED:20260218T232034Z
LAST-MODIFIED:20260225T232853Z
UID:10006052-1854889200-1854905400@bathtubrowbrewing.coop
SUMMARY:Bomb Appetite Food Truck
DESCRIPTION:Come try BBQ at the Tub!
URL:https://bathtubrowbrewing.coop/event-detail/bomb-appetite-food-truck/2028-10-11/
LOCATION:Taproom\, 163 Central Park Square\, Los Alamos\, NM\, 87544\, United States
CATEGORIES:Food Truck
END:VEVENT
BEGIN:VEVENT
DTSTART;TZID=America/Denver:20281012T110000
DTEND;TZID=America/Denver:20281012T210000
DTSTAMP:20260420T094631
CREATED:20260119T210129Z
LAST-MODIFIED:20260218T181017Z
UID:10004738-1854961200-1854997200@bathtubrowbrewing.coop
SUMMARY:Manko Food Truck
DESCRIPTION:Native American Fusion!
URL:https://bathtubrowbrewing.coop/event-detail/manko-food-truck/2028-10-12/
LOCATION:Taproom\, 163 Central Park Square\, Los Alamos\, NM\, 87544\, United States
CATEGORIES:Food Truck
END:VEVENT
BEGIN:VEVENT
DTSTART;TZID=America/Denver:20281013T150000
DTEND;TZID=America/Denver:20281013T200000
DTSTAMP:20260420T094631
CREATED:20251210T015046Z
LAST-MODIFIED:20260327T194604Z
UID:10003915-1855062000-1855080000@bathtubrowbrewing.coop
SUMMARY:Joe Daddy's Food Truck
DESCRIPTION:
URL:https://bathtubrowbrewing.coop/event-detail/joe-daddys-food-truck/2028-10-13/
LOCATION:Taproom\, 163 Central Park Square\, Los Alamos\, NM\, 87544\, United States
CATEGORIES:Food Truck
END:VEVENT
BEGIN:VEVENT
DTSTART;TZID=America/Denver:20281016T170000
DTEND;TZID=America/Denver:20281016T190000
DTSTAMP:20260420T094631
CREATED:20251210T014944Z
LAST-MODIFIED:20260212T010845Z
UID:10003073-1855328400-1855335600@bathtubrowbrewing.coop
SUMMARY:Jemez Mountain Pizza
DESCRIPTION:Pizza by the slice or you can purchase an entire pie! Scott sells until his supply ends.
URL:https://bathtubrowbrewing.coop/event-detail/jemez-mountain-pizza/2028-10-16/
LOCATION:Taproom\, 163 Central Park Square\, Los Alamos\, NM\, 87544\, United States
CATEGORIES:Food Truck
END:VEVENT
BEGIN:VEVENT
DTSTART;TZID=America/Denver:20281017T110000
DTEND;TZID=America/Denver:20281017T190000
DTSTAMP:20260420T094631
CREATED:20260108T014136Z
LAST-MODIFIED:20260108T014137Z
UID:10003484-1855393200-1855422000@bathtubrowbrewing.coop
SUMMARY:Fusion Tacos
DESCRIPTION:Tacos\, burritos\, and quesadillas!
URL:https://bathtubrowbrewing.coop/event-detail/fusion-tacos-2-2/2028-10-17/
LOCATION:Taproom\, 163 Central Park Square\, Los Alamos\, NM\, 87544\, United States
CATEGORIES:Food Truck
END:VEVENT
BEGIN:VEVENT
DTSTART;TZID=America/Denver:20281017T180000
DTEND;TZID=America/Denver:20281017T210000
DTSTAMP:20260420T094631
CREATED:20251210T015448Z
LAST-MODIFIED:20260331T000514Z
UID:10006364-1855418400-1855429200@bathtubrowbrewing.coop
SUMMARY:Jazz Night
DESCRIPTION:
URL:https://bathtubrowbrewing.coop/event-detail/jazz-night/2028-10-17/
LOCATION:Taproom\, 163 Central Park Square\, Los Alamos\, NM\, 87544\, United States
CATEGORIES:Music
END:VEVENT
BEGIN:VEVENT
DTSTART;TZID=America/Denver:20281018T150000
DTEND;TZID=America/Denver:20281018T193000
DTSTAMP:20260420T094631
CREATED:20260218T232034Z
LAST-MODIFIED:20260225T232853Z
UID:10006053-1855494000-1855510200@bathtubrowbrewing.coop
SUMMARY:Bomb Appetite Food Truck
DESCRIPTION:Come try BBQ at the Tub!
URL:https://bathtubrowbrewing.coop/event-detail/bomb-appetite-food-truck/2028-10-18/
LOCATION:Taproom\, 163 Central Park Square\, Los Alamos\, NM\, 87544\, United States
CATEGORIES:Food Truck
END:VEVENT
BEGIN:VEVENT
DTSTART;TZID=America/Denver:20281018T180000
DTEND;TZID=America/Denver:20281018T210000
DTSTAMP:20260420T094631
CREATED:20251223T234813Z
LAST-MODIFIED:20251223T234813Z
UID:10004176-1855504800-1855515600@bathtubrowbrewing.coop
SUMMARY:Lane Stevens Live
DESCRIPTION:
URL:https://bathtubrowbrewing.coop/event-detail/lane-stevens-live-3/2028-10-18/
LOCATION:Taproom\, 163 Central Park Square\, Los Alamos\, NM\, 87544\, United States
CATEGORIES:Music
END:VEVENT
BEGIN:VEVENT
DTSTART;TZID=America/Denver:20281019T110000
DTEND;TZID=America/Denver:20281019T210000
DTSTAMP:20260420T094631
CREATED:20260119T210129Z
LAST-MODIFIED:20260218T181017Z
UID:10004739-1855566000-1855602000@bathtubrowbrewing.coop
SUMMARY:Manko Food Truck
DESCRIPTION:Native American Fusion!
URL:https://bathtubrowbrewing.coop/event-detail/manko-food-truck/2028-10-19/
LOCATION:Taproom\, 163 Central Park Square\, Los Alamos\, NM\, 87544\, United States
CATEGORIES:Food Truck
END:VEVENT
BEGIN:VEVENT
DTSTART;TZID=America/Denver:20281020T150000
DTEND;TZID=America/Denver:20281020T200000
DTSTAMP:20260420T094631
CREATED:20251210T015046Z
LAST-MODIFIED:20260327T194604Z
UID:10003916-1855666800-1855684800@bathtubrowbrewing.coop
SUMMARY:Joe Daddy's Food Truck
DESCRIPTION:
URL:https://bathtubrowbrewing.coop/event-detail/joe-daddys-food-truck/2028-10-20/
LOCATION:Taproom\, 163 Central Park Square\, Los Alamos\, NM\, 87544\, United States
CATEGORIES:Food Truck
END:VEVENT
BEGIN:VEVENT
DTSTART;TZID=America/Denver:20281023T170000
DTEND;TZID=America/Denver:20281023T190000
DTSTAMP:20260420T094631
CREATED:20251210T014944Z
LAST-MODIFIED:20260212T010845Z
UID:10003074-1855933200-1855940400@bathtubrowbrewing.coop
SUMMARY:Jemez Mountain Pizza
DESCRIPTION:Pizza by the slice or you can purchase an entire pie! Scott sells until his supply ends.
URL:https://bathtubrowbrewing.coop/event-detail/jemez-mountain-pizza/2028-10-23/
LOCATION:Taproom\, 163 Central Park Square\, Los Alamos\, NM\, 87544\, United States
CATEGORIES:Food Truck
END:VEVENT
BEGIN:VEVENT
DTSTART;TZID=America/Denver:20281024T110000
DTEND;TZID=America/Denver:20281024T190000
DTSTAMP:20260420T094631
CREATED:20260108T014136Z
LAST-MODIFIED:20260108T014137Z
UID:10003486-1855998000-1856026800@bathtubrowbrewing.coop
SUMMARY:Fusion Tacos
DESCRIPTION:Tacos\, burritos\, and quesadillas!
URL:https://bathtubrowbrewing.coop/event-detail/fusion-tacos-2-2/2028-10-24/
LOCATION:Taproom\, 163 Central Park Square\, Los Alamos\, NM\, 87544\, United States
CATEGORIES:Food Truck
END:VEVENT
BEGIN:VEVENT
DTSTART;TZID=America/Denver:20281024T180000
DTEND;TZID=America/Denver:20281024T210000
DTSTAMP:20260420T094631
CREATED:20251210T015448Z
LAST-MODIFIED:20260331T000514Z
UID:10006365-1856023200-1856034000@bathtubrowbrewing.coop
SUMMARY:Jazz Night
DESCRIPTION:
URL:https://bathtubrowbrewing.coop/event-detail/jazz-night/2028-10-24/
LOCATION:Taproom\, 163 Central Park Square\, Los Alamos\, NM\, 87544\, United States
CATEGORIES:Music
END:VEVENT
BEGIN:VEVENT
DTSTART;TZID=America/Denver:20281025T150000
DTEND;TZID=America/Denver:20281025T193000
DTSTAMP:20260420T094631
CREATED:20260218T232034Z
LAST-MODIFIED:20260225T232853Z
UID:10006054-1856098800-1856115000@bathtubrowbrewing.coop
SUMMARY:Bomb Appetite Food Truck
DESCRIPTION:Come try BBQ at the Tub!
URL:https://bathtubrowbrewing.coop/event-detail/bomb-appetite-food-truck/2028-10-25/
LOCATION:Taproom\, 163 Central Park Square\, Los Alamos\, NM\, 87544\, United States
CATEGORIES:Food Truck
END:VEVENT
BEGIN:VEVENT
DTSTART;TZID=America/Denver:20281026T110000
DTEND;TZID=America/Denver:20281026T210000
DTSTAMP:20260420T094631
CREATED:20260119T210129Z
LAST-MODIFIED:20260218T181017Z
UID:10004740-1856170800-1856206800@bathtubrowbrewing.coop
SUMMARY:Manko Food Truck
DESCRIPTION:Native American Fusion!
URL:https://bathtubrowbrewing.coop/event-detail/manko-food-truck/2028-10-26/
LOCATION:Taproom\, 163 Central Park Square\, Los Alamos\, NM\, 87544\, United States
CATEGORIES:Food Truck
END:VEVENT
BEGIN:VEVENT
DTSTART;TZID=America/Denver:20281027T150000
DTEND;TZID=America/Denver:20281027T200000
DTSTAMP:20260420T094631
CREATED:20251210T015046Z
LAST-MODIFIED:20260327T194604Z
UID:10003917-1856271600-1856289600@bathtubrowbrewing.coop
SUMMARY:Joe Daddy's Food Truck
DESCRIPTION:
URL:https://bathtubrowbrewing.coop/event-detail/joe-daddys-food-truck/2028-10-27/
LOCATION:Taproom\, 163 Central Park Square\, Los Alamos\, NM\, 87544\, United States
CATEGORIES:Food Truck
END:VEVENT
BEGIN:VEVENT
DTSTART;TZID=America/Denver:20281030T170000
DTEND;TZID=America/Denver:20281030T190000
DTSTAMP:20260420T094631
CREATED:20251210T014944Z
LAST-MODIFIED:20260212T010845Z
UID:10003075-1856538000-1856545200@bathtubrowbrewing.coop
SUMMARY:Jemez Mountain Pizza
DESCRIPTION:Pizza by the slice or you can purchase an entire pie! Scott sells until his supply ends.
URL:https://bathtubrowbrewing.coop/event-detail/jemez-mountain-pizza/2028-10-30/
LOCATION:Taproom\, 163 Central Park Square\, Los Alamos\, NM\, 87544\, United States
CATEGORIES:Food Truck
END:VEVENT
BEGIN:VEVENT
DTSTART;TZID=America/Denver:20281031T110000
DTEND;TZID=America/Denver:20281031T190000
DTSTAMP:20260420T094631
CREATED:20260108T014136Z
LAST-MODIFIED:20260108T014137Z
UID:10003488-1856602800-1856631600@bathtubrowbrewing.coop
SUMMARY:Fusion Tacos
DESCRIPTION:Tacos\, burritos\, and quesadillas!
URL:https://bathtubrowbrewing.coop/event-detail/fusion-tacos-2-2/2028-10-31/
LOCATION:Taproom\, 163 Central Park Square\, Los Alamos\, NM\, 87544\, United States
CATEGORIES:Food Truck
END:VEVENT
BEGIN:VEVENT
DTSTART;TZID=America/Denver:20281031T180000
DTEND;TZID=America/Denver:20281031T210000
DTSTAMP:20260420T094631
CREATED:20251210T015448Z
LAST-MODIFIED:20260331T000514Z
UID:10006366-1856628000-1856638800@bathtubrowbrewing.coop
SUMMARY:Jazz Night
DESCRIPTION:
URL:https://bathtubrowbrewing.coop/event-detail/jazz-night/2028-10-31/
LOCATION:Taproom\, 163 Central Park Square\, Los Alamos\, NM\, 87544\, United States
CATEGORIES:Music
END:VEVENT
END:VCALENDAR