BEGIN:VCALENDAR
VERSION:2.0
PRODID:-//Bathtub Row Brewing Co-op - ECPv6.15.12.2//NONSGML v1.0//EN
CALSCALE:GREGORIAN
METHOD:PUBLISH
X-ORIGINAL-URL:https://bathtubrowbrewing.coop
X-WR-CALDESC:Events for Bathtub Row Brewing Co-op
REFRESH-INTERVAL;VALUE=DURATION:PT1H
X-Robots-Tag:noindex
X-PUBLISHED-TTL:PT1H
BEGIN:VTIMEZONE
TZID:America/Denver
BEGIN:DAYLIGHT
TZOFFSETFROM:-0700
TZOFFSETTO:-0600
TZNAME:MDT
DTSTART:20270314T090000
END:DAYLIGHT
BEGIN:STANDARD
TZOFFSETFROM:-0600
TZOFFSETTO:-0700
TZNAME:MST
DTSTART:20271107T080000
END:STANDARD
BEGIN:DAYLIGHT
TZOFFSETFROM:-0700
TZOFFSETTO:-0600
TZNAME:MDT
DTSTART:20280312T090000
END:DAYLIGHT
BEGIN:STANDARD
TZOFFSETFROM:-0600
TZOFFSETTO:-0700
TZNAME:MST
DTSTART:20281105T080000
END:STANDARD
BEGIN:DAYLIGHT
TZOFFSETFROM:-0700
TZOFFSETTO:-0600
TZNAME:MDT
DTSTART:20290311T090000
END:DAYLIGHT
BEGIN:STANDARD
TZOFFSETFROM:-0600
TZOFFSETTO:-0700
TZNAME:MST
DTSTART:20291104T080000
END:STANDARD
END:VTIMEZONE
BEGIN:VEVENT
DTSTART;TZID=America/Denver:20280801T110000
DTEND;TZID=America/Denver:20280801T190000
DTSTAMP:20260420T080918
CREATED:20260108T014136Z
LAST-MODIFIED:20260108T014137Z
UID:10003462-1848740400-1848769200@bathtubrowbrewing.coop
SUMMARY:Fusion Tacos
DESCRIPTION:Tacos\, burritos\, and quesadillas!
URL:https://bathtubrowbrewing.coop/event-detail/fusion-tacos-2-2/2028-08-01/
LOCATION:Taproom\, 163 Central Park Square\, Los Alamos\, NM\, 87544\, United States
CATEGORIES:Food Truck
END:VEVENT
BEGIN:VEVENT
DTSTART;TZID=America/Denver:20280801T180000
DTEND;TZID=America/Denver:20280801T210000
DTSTAMP:20260420T080918
CREATED:20251210T015448Z
LAST-MODIFIED:20260331T000514Z
UID:10006353-1848765600-1848776400@bathtubrowbrewing.coop
SUMMARY:Jazz Night
DESCRIPTION:
URL:https://bathtubrowbrewing.coop/event-detail/jazz-night/2028-08-01/
LOCATION:Taproom\, 163 Central Park Square\, Los Alamos\, NM\, 87544\, United States
CATEGORIES:Music
END:VEVENT
BEGIN:VEVENT
DTSTART;TZID=America/Denver:20280802T150000
DTEND;TZID=America/Denver:20280802T193000
DTSTAMP:20260420T080918
CREATED:20260218T232034Z
LAST-MODIFIED:20260225T232853Z
UID:10006042-1848841200-1848857400@bathtubrowbrewing.coop
SUMMARY:Bomb Appetite Food Truck
DESCRIPTION:Come try BBQ at the Tub!
URL:https://bathtubrowbrewing.coop/event-detail/bomb-appetite-food-truck/2028-08-02/
LOCATION:Taproom\, 163 Central Park Square\, Los Alamos\, NM\, 87544\, United States
CATEGORIES:Food Truck
END:VEVENT
BEGIN:VEVENT
DTSTART;TZID=America/Denver:20280802T180000
DTEND;TZID=America/Denver:20280802T210000
DTSTAMP:20260420T080918
CREATED:20251223T233850Z
LAST-MODIFIED:20251223T234718Z
UID:10004054-1848852000-1848862800@bathtubrowbrewing.coop
SUMMARY:Lane Stevens Live
DESCRIPTION:
URL:https://bathtubrowbrewing.coop/event-detail/lane-stevens-live-2/2028-08-02/
LOCATION:Taproom\, 163 Central Park Square\, Los Alamos\, NM\, 87544\, United States
CATEGORIES:Music
END:VEVENT
BEGIN:VEVENT
DTSTART;TZID=America/Denver:20280803T110000
DTEND;TZID=America/Denver:20280803T210000
DTSTAMP:20260420T080918
CREATED:20260119T210129Z
LAST-MODIFIED:20260218T181017Z
UID:10004728-1848913200-1848949200@bathtubrowbrewing.coop
SUMMARY:Manko Food Truck
DESCRIPTION:Native American Fusion!
URL:https://bathtubrowbrewing.coop/event-detail/manko-food-truck/2028-08-03/
LOCATION:Taproom\, 163 Central Park Square\, Los Alamos\, NM\, 87544\, United States
CATEGORIES:Food Truck
END:VEVENT
BEGIN:VEVENT
DTSTART;TZID=America/Denver:20280804T150000
DTEND;TZID=America/Denver:20280804T200000
DTSTAMP:20260420T080918
CREATED:20251210T015046Z
LAST-MODIFIED:20260327T194604Z
UID:10003905-1849014000-1849032000@bathtubrowbrewing.coop
SUMMARY:Joe Daddy's Food Truck
DESCRIPTION:
URL:https://bathtubrowbrewing.coop/event-detail/joe-daddys-food-truck/2028-08-04/
LOCATION:Taproom\, 163 Central Park Square\, Los Alamos\, NM\, 87544\, United States
CATEGORIES:Food Truck
END:VEVENT
BEGIN:VEVENT
DTSTART;TZID=America/Denver:20280805T180000
DTEND;TZID=America/Denver:20280805T220000
DTSTAMP:20260420T080918
CREATED:20260218T233925Z
LAST-MODIFIED:20260218T233925Z
UID:10005869-1849111200-1849125600@bathtubrowbrewing.coop
SUMMARY:Tubaoke
DESCRIPTION:Come sing your heart out!
URL:https://bathtubrowbrewing.coop/event-detail/tubaoke-2-2-2-2/2028-08-05/
LOCATION:Taproom\, 163 Central Park Square\, Los Alamos\, NM\, 87544\, United States
CATEGORIES:Music
ATTACH;FMTTYPE=image/png:https://craftpeak-cooler-images.imgix.net/bathtub-row-brewing-co-op/5223012577926804554.png?auto=compress%2Cformat&ixlib=php-3.3.1&s=aae6dbbc6bd58cbfc534dfff1d1603b3
END:VEVENT
BEGIN:VEVENT
DTSTART;TZID=America/Denver:20280807T170000
DTEND;TZID=America/Denver:20280807T190000
DTSTAMP:20260420T080918
CREATED:20251210T014944Z
LAST-MODIFIED:20260212T010845Z
UID:10003063-1849280400-1849287600@bathtubrowbrewing.coop
SUMMARY:Jemez Mountain Pizza
DESCRIPTION:Pizza by the slice or you can purchase an entire pie! Scott sells until his supply ends.
URL:https://bathtubrowbrewing.coop/event-detail/jemez-mountain-pizza/2028-08-07/
LOCATION:Taproom\, 163 Central Park Square\, Los Alamos\, NM\, 87544\, United States
CATEGORIES:Food Truck
END:VEVENT
BEGIN:VEVENT
DTSTART;TZID=America/Denver:20280808T110000
DTEND;TZID=America/Denver:20280808T190000
DTSTAMP:20260420T080918
CREATED:20260108T014136Z
LAST-MODIFIED:20260108T014137Z
UID:10003464-1849345200-1849374000@bathtubrowbrewing.coop
SUMMARY:Fusion Tacos
DESCRIPTION:Tacos\, burritos\, and quesadillas!
URL:https://bathtubrowbrewing.coop/event-detail/fusion-tacos-2-2/2028-08-08/
LOCATION:Taproom\, 163 Central Park Square\, Los Alamos\, NM\, 87544\, United States
CATEGORIES:Food Truck
END:VEVENT
BEGIN:VEVENT
DTSTART;TZID=America/Denver:20280808T180000
DTEND;TZID=America/Denver:20280808T210000
DTSTAMP:20260420T080918
CREATED:20251210T015448Z
LAST-MODIFIED:20260331T000514Z
UID:10006354-1849370400-1849381200@bathtubrowbrewing.coop
SUMMARY:Jazz Night
DESCRIPTION:
URL:https://bathtubrowbrewing.coop/event-detail/jazz-night/2028-08-08/
LOCATION:Taproom\, 163 Central Park Square\, Los Alamos\, NM\, 87544\, United States
CATEGORIES:Music
END:VEVENT
BEGIN:VEVENT
DTSTART;TZID=America/Denver:20280809T150000
DTEND;TZID=America/Denver:20280809T193000
DTSTAMP:20260420T080918
CREATED:20260218T232034Z
LAST-MODIFIED:20260225T232853Z
UID:10006043-1849446000-1849462200@bathtubrowbrewing.coop
SUMMARY:Bomb Appetite Food Truck
DESCRIPTION:Come try BBQ at the Tub!
URL:https://bathtubrowbrewing.coop/event-detail/bomb-appetite-food-truck/2028-08-09/
LOCATION:Taproom\, 163 Central Park Square\, Los Alamos\, NM\, 87544\, United States
CATEGORIES:Food Truck
END:VEVENT
BEGIN:VEVENT
DTSTART;TZID=America/Denver:20280810T110000
DTEND;TZID=America/Denver:20280810T210000
DTSTAMP:20260420T080918
CREATED:20260119T210129Z
LAST-MODIFIED:20260218T181017Z
UID:10004729-1849518000-1849554000@bathtubrowbrewing.coop
SUMMARY:Manko Food Truck
DESCRIPTION:Native American Fusion!
URL:https://bathtubrowbrewing.coop/event-detail/manko-food-truck/2028-08-10/
LOCATION:Taproom\, 163 Central Park Square\, Los Alamos\, NM\, 87544\, United States
CATEGORIES:Food Truck
END:VEVENT
BEGIN:VEVENT
DTSTART;TZID=America/Denver:20280811T150000
DTEND;TZID=America/Denver:20280811T200000
DTSTAMP:20260420T080918
CREATED:20251210T015046Z
LAST-MODIFIED:20260327T194604Z
UID:10003906-1849618800-1849636800@bathtubrowbrewing.coop
SUMMARY:Joe Daddy's Food Truck
DESCRIPTION:
URL:https://bathtubrowbrewing.coop/event-detail/joe-daddys-food-truck/2028-08-11/
LOCATION:Taproom\, 163 Central Park Square\, Los Alamos\, NM\, 87544\, United States
CATEGORIES:Food Truck
END:VEVENT
BEGIN:VEVENT
DTSTART;TZID=America/Denver:20280814T170000
DTEND;TZID=America/Denver:20280814T190000
DTSTAMP:20260420T080918
CREATED:20251210T014944Z
LAST-MODIFIED:20260212T010845Z
UID:10003064-1849885200-1849892400@bathtubrowbrewing.coop
SUMMARY:Jemez Mountain Pizza
DESCRIPTION:Pizza by the slice or you can purchase an entire pie! Scott sells until his supply ends.
URL:https://bathtubrowbrewing.coop/event-detail/jemez-mountain-pizza/2028-08-14/
LOCATION:Taproom\, 163 Central Park Square\, Los Alamos\, NM\, 87544\, United States
CATEGORIES:Food Truck
END:VEVENT
BEGIN:VEVENT
DTSTART;TZID=America/Denver:20280815T110000
DTEND;TZID=America/Denver:20280815T190000
DTSTAMP:20260420T080918
CREATED:20260108T014136Z
LAST-MODIFIED:20260108T014137Z
UID:10003466-1849950000-1849978800@bathtubrowbrewing.coop
SUMMARY:Fusion Tacos
DESCRIPTION:Tacos\, burritos\, and quesadillas!
URL:https://bathtubrowbrewing.coop/event-detail/fusion-tacos-2-2/2028-08-15/
LOCATION:Taproom\, 163 Central Park Square\, Los Alamos\, NM\, 87544\, United States
CATEGORIES:Food Truck
END:VEVENT
BEGIN:VEVENT
DTSTART;TZID=America/Denver:20280815T180000
DTEND;TZID=America/Denver:20280815T210000
DTSTAMP:20260420T080918
CREATED:20251210T015448Z
LAST-MODIFIED:20260331T000514Z
UID:10006355-1849975200-1849986000@bathtubrowbrewing.coop
SUMMARY:Jazz Night
DESCRIPTION:
URL:https://bathtubrowbrewing.coop/event-detail/jazz-night/2028-08-15/
LOCATION:Taproom\, 163 Central Park Square\, Los Alamos\, NM\, 87544\, United States
CATEGORIES:Music
END:VEVENT
BEGIN:VEVENT
DTSTART;TZID=America/Denver:20280816T150000
DTEND;TZID=America/Denver:20280816T193000
DTSTAMP:20260420T080918
CREATED:20260218T232034Z
LAST-MODIFIED:20260225T232853Z
UID:10006044-1850050800-1850067000@bathtubrowbrewing.coop
SUMMARY:Bomb Appetite Food Truck
DESCRIPTION:Come try BBQ at the Tub!
URL:https://bathtubrowbrewing.coop/event-detail/bomb-appetite-food-truck/2028-08-16/
LOCATION:Taproom\, 163 Central Park Square\, Los Alamos\, NM\, 87544\, United States
CATEGORIES:Food Truck
END:VEVENT
BEGIN:VEVENT
DTSTART;TZID=America/Denver:20280816T180000
DTEND;TZID=America/Denver:20280816T210000
DTSTAMP:20260420T080918
CREATED:20251223T234813Z
LAST-MODIFIED:20251223T234813Z
UID:10004174-1850061600-1850072400@bathtubrowbrewing.coop
SUMMARY:Lane Stevens Live
DESCRIPTION:
URL:https://bathtubrowbrewing.coop/event-detail/lane-stevens-live-3/2028-08-16/
LOCATION:Taproom\, 163 Central Park Square\, Los Alamos\, NM\, 87544\, United States
CATEGORIES:Music
END:VEVENT
BEGIN:VEVENT
DTSTART;TZID=America/Denver:20280817T110000
DTEND;TZID=America/Denver:20280817T210000
DTSTAMP:20260420T080918
CREATED:20260119T210129Z
LAST-MODIFIED:20260218T181017Z
UID:10004730-1850122800-1850158800@bathtubrowbrewing.coop
SUMMARY:Manko Food Truck
DESCRIPTION:Native American Fusion!
URL:https://bathtubrowbrewing.coop/event-detail/manko-food-truck/2028-08-17/
LOCATION:Taproom\, 163 Central Park Square\, Los Alamos\, NM\, 87544\, United States
CATEGORIES:Food Truck
END:VEVENT
BEGIN:VEVENT
DTSTART;TZID=America/Denver:20280818T150000
DTEND;TZID=America/Denver:20280818T200000
DTSTAMP:20260420T080918
CREATED:20251210T015046Z
LAST-MODIFIED:20260327T194604Z
UID:10003907-1850223600-1850241600@bathtubrowbrewing.coop
SUMMARY:Joe Daddy's Food Truck
DESCRIPTION:
URL:https://bathtubrowbrewing.coop/event-detail/joe-daddys-food-truck/2028-08-18/
LOCATION:Taproom\, 163 Central Park Square\, Los Alamos\, NM\, 87544\, United States
CATEGORIES:Food Truck
END:VEVENT
BEGIN:VEVENT
DTSTART;TZID=America/Denver:20280821T170000
DTEND;TZID=America/Denver:20280821T190000
DTSTAMP:20260420T080918
CREATED:20251210T014944Z
LAST-MODIFIED:20260212T010845Z
UID:10003065-1850490000-1850497200@bathtubrowbrewing.coop
SUMMARY:Jemez Mountain Pizza
DESCRIPTION:Pizza by the slice or you can purchase an entire pie! Scott sells until his supply ends.
URL:https://bathtubrowbrewing.coop/event-detail/jemez-mountain-pizza/2028-08-21/
LOCATION:Taproom\, 163 Central Park Square\, Los Alamos\, NM\, 87544\, United States
CATEGORIES:Food Truck
END:VEVENT
BEGIN:VEVENT
DTSTART;TZID=America/Denver:20280822T110000
DTEND;TZID=America/Denver:20280822T190000
DTSTAMP:20260420T080918
CREATED:20260108T014136Z
LAST-MODIFIED:20260108T014137Z
UID:10003468-1850554800-1850583600@bathtubrowbrewing.coop
SUMMARY:Fusion Tacos
DESCRIPTION:Tacos\, burritos\, and quesadillas!
URL:https://bathtubrowbrewing.coop/event-detail/fusion-tacos-2-2/2028-08-22/
LOCATION:Taproom\, 163 Central Park Square\, Los Alamos\, NM\, 87544\, United States
CATEGORIES:Food Truck
END:VEVENT
BEGIN:VEVENT
DTSTART;TZID=America/Denver:20280822T180000
DTEND;TZID=America/Denver:20280822T210000
DTSTAMP:20260420T080918
CREATED:20251210T015448Z
LAST-MODIFIED:20260331T000514Z
UID:10006356-1850580000-1850590800@bathtubrowbrewing.coop
SUMMARY:Jazz Night
DESCRIPTION:
URL:https://bathtubrowbrewing.coop/event-detail/jazz-night/2028-08-22/
LOCATION:Taproom\, 163 Central Park Square\, Los Alamos\, NM\, 87544\, United States
CATEGORIES:Music
END:VEVENT
BEGIN:VEVENT
DTSTART;TZID=America/Denver:20280823T150000
DTEND;TZID=America/Denver:20280823T193000
DTSTAMP:20260420T080918
CREATED:20260218T232034Z
LAST-MODIFIED:20260225T232853Z
UID:10006045-1850655600-1850671800@bathtubrowbrewing.coop
SUMMARY:Bomb Appetite Food Truck
DESCRIPTION:Come try BBQ at the Tub!
URL:https://bathtubrowbrewing.coop/event-detail/bomb-appetite-food-truck/2028-08-23/
LOCATION:Taproom\, 163 Central Park Square\, Los Alamos\, NM\, 87544\, United States
CATEGORIES:Food Truck
END:VEVENT
BEGIN:VEVENT
DTSTART;TZID=America/Denver:20280824T110000
DTEND;TZID=America/Denver:20280824T210000
DTSTAMP:20260420T080918
CREATED:20260119T210129Z
LAST-MODIFIED:20260218T181017Z
UID:10004731-1850727600-1850763600@bathtubrowbrewing.coop
SUMMARY:Manko Food Truck
DESCRIPTION:Native American Fusion!
URL:https://bathtubrowbrewing.coop/event-detail/manko-food-truck/2028-08-24/
LOCATION:Taproom\, 163 Central Park Square\, Los Alamos\, NM\, 87544\, United States
CATEGORIES:Food Truck
END:VEVENT
BEGIN:VEVENT
DTSTART;TZID=America/Denver:20280825T150000
DTEND;TZID=America/Denver:20280825T200000
DTSTAMP:20260420T080918
CREATED:20251210T015046Z
LAST-MODIFIED:20260327T194604Z
UID:10003908-1850828400-1850846400@bathtubrowbrewing.coop
SUMMARY:Joe Daddy's Food Truck
DESCRIPTION:
URL:https://bathtubrowbrewing.coop/event-detail/joe-daddys-food-truck/2028-08-25/
LOCATION:Taproom\, 163 Central Park Square\, Los Alamos\, NM\, 87544\, United States
CATEGORIES:Food Truck
END:VEVENT
BEGIN:VEVENT
DTSTART;TZID=America/Denver:20280828T170000
DTEND;TZID=America/Denver:20280828T190000
DTSTAMP:20260420T080918
CREATED:20251210T014944Z
LAST-MODIFIED:20260212T010845Z
UID:10003066-1851094800-1851102000@bathtubrowbrewing.coop
SUMMARY:Jemez Mountain Pizza
DESCRIPTION:Pizza by the slice or you can purchase an entire pie! Scott sells until his supply ends.
URL:https://bathtubrowbrewing.coop/event-detail/jemez-mountain-pizza/2028-08-28/
LOCATION:Taproom\, 163 Central Park Square\, Los Alamos\, NM\, 87544\, United States
CATEGORIES:Food Truck
END:VEVENT
BEGIN:VEVENT
DTSTART;TZID=America/Denver:20280829T110000
DTEND;TZID=America/Denver:20280829T190000
DTSTAMP:20260420T080918
CREATED:20260108T014136Z
LAST-MODIFIED:20260108T014137Z
UID:10003470-1851159600-1851188400@bathtubrowbrewing.coop
SUMMARY:Fusion Tacos
DESCRIPTION:Tacos\, burritos\, and quesadillas!
URL:https://bathtubrowbrewing.coop/event-detail/fusion-tacos-2-2/2028-08-29/
LOCATION:Taproom\, 163 Central Park Square\, Los Alamos\, NM\, 87544\, United States
CATEGORIES:Food Truck
END:VEVENT
BEGIN:VEVENT
DTSTART;TZID=America/Denver:20280829T180000
DTEND;TZID=America/Denver:20280829T210000
DTSTAMP:20260420T080918
CREATED:20251210T015448Z
LAST-MODIFIED:20260331T000514Z
UID:10006357-1851184800-1851195600@bathtubrowbrewing.coop
SUMMARY:Jazz Night
DESCRIPTION:
URL:https://bathtubrowbrewing.coop/event-detail/jazz-night/2028-08-29/
LOCATION:Taproom\, 163 Central Park Square\, Los Alamos\, NM\, 87544\, United States
CATEGORIES:Music
END:VEVENT
BEGIN:VEVENT
DTSTART;TZID=America/Denver:20280830T150000
DTEND;TZID=America/Denver:20280830T193000
DTSTAMP:20260420T080918
CREATED:20260218T232034Z
LAST-MODIFIED:20260225T232853Z
UID:10006046-1851260400-1851276600@bathtubrowbrewing.coop
SUMMARY:Bomb Appetite Food Truck
DESCRIPTION:Come try BBQ at the Tub!
URL:https://bathtubrowbrewing.coop/event-detail/bomb-appetite-food-truck/2028-08-30/
LOCATION:Taproom\, 163 Central Park Square\, Los Alamos\, NM\, 87544\, United States
CATEGORIES:Food Truck
END:VEVENT
END:VCALENDAR