BEGIN:VCALENDAR
VERSION:2.0
PRODID:-//Bathtub Row Brewing Co-op - ECPv6.15.12.2//NONSGML v1.0//EN
CALSCALE:GREGORIAN
METHOD:PUBLISH
X-ORIGINAL-URL:https://bathtubrowbrewing.coop
X-WR-CALDESC:Events for Bathtub Row Brewing Co-op
REFRESH-INTERVAL;VALUE=DURATION:PT1H
X-Robots-Tag:noindex
X-PUBLISHED-TTL:PT1H
BEGIN:VTIMEZONE
TZID:America/Denver
BEGIN:DAYLIGHT
TZOFFSETFROM:-0700
TZOFFSETTO:-0600
TZNAME:MDT
DTSTART:20270314T090000
END:DAYLIGHT
BEGIN:STANDARD
TZOFFSETFROM:-0600
TZOFFSETTO:-0700
TZNAME:MST
DTSTART:20271107T080000
END:STANDARD
BEGIN:DAYLIGHT
TZOFFSETFROM:-0700
TZOFFSETTO:-0600
TZNAME:MDT
DTSTART:20280312T090000
END:DAYLIGHT
BEGIN:STANDARD
TZOFFSETFROM:-0600
TZOFFSETTO:-0700
TZNAME:MST
DTSTART:20281105T080000
END:STANDARD
BEGIN:DAYLIGHT
TZOFFSETFROM:-0700
TZOFFSETTO:-0600
TZNAME:MDT
DTSTART:20290311T090000
END:DAYLIGHT
BEGIN:STANDARD
TZOFFSETFROM:-0600
TZOFFSETTO:-0700
TZNAME:MST
DTSTART:20291104T080000
END:STANDARD
END:VTIMEZONE
BEGIN:VEVENT
DTSTART;TZID=America/Denver:20280501T170000
DTEND;TZID=America/Denver:20280501T190000
DTSTAMP:20260420T061141
CREATED:20251210T014944Z
LAST-MODIFIED:20260212T010845Z
UID:10003049-1840813200-1840820400@bathtubrowbrewing.coop
SUMMARY:Jemez Mountain Pizza
DESCRIPTION:Pizza by the slice or you can purchase an entire pie! Scott sells until his supply ends.
URL:https://bathtubrowbrewing.coop/event-detail/jemez-mountain-pizza/2028-05-01/
LOCATION:Taproom\, 163 Central Park Square\, Los Alamos\, NM\, 87544\, United States
CATEGORIES:Food Truck
END:VEVENT
BEGIN:VEVENT
DTSTART;TZID=America/Denver:20280502T110000
DTEND;TZID=America/Denver:20280502T190000
DTSTAMP:20260420T061141
CREATED:20260108T014136Z
LAST-MODIFIED:20260108T014137Z
UID:10003436-1840878000-1840906800@bathtubrowbrewing.coop
SUMMARY:Fusion Tacos
DESCRIPTION:Tacos\, burritos\, and quesadillas!
URL:https://bathtubrowbrewing.coop/event-detail/fusion-tacos-2-2/2028-05-02/
LOCATION:Taproom\, 163 Central Park Square\, Los Alamos\, NM\, 87544\, United States
CATEGORIES:Food Truck
END:VEVENT
BEGIN:VEVENT
DTSTART;TZID=America/Denver:20280502T180000
DTEND;TZID=America/Denver:20280502T210000
DTSTAMP:20260420T061141
CREATED:20251210T015448Z
LAST-MODIFIED:20260331T000514Z
UID:10006340-1840903200-1840914000@bathtubrowbrewing.coop
SUMMARY:Jazz Night
DESCRIPTION:
URL:https://bathtubrowbrewing.coop/event-detail/jazz-night/2028-05-02/
LOCATION:Taproom\, 163 Central Park Square\, Los Alamos\, NM\, 87544\, United States
CATEGORIES:Music
END:VEVENT
BEGIN:VEVENT
DTSTART;TZID=America/Denver:20280503T150000
DTEND;TZID=America/Denver:20280503T193000
DTSTAMP:20260420T061141
CREATED:20260218T232034Z
LAST-MODIFIED:20260225T232853Z
UID:10006029-1840978800-1840995000@bathtubrowbrewing.coop
SUMMARY:Bomb Appetite Food Truck
DESCRIPTION:Come try BBQ at the Tub!
URL:https://bathtubrowbrewing.coop/event-detail/bomb-appetite-food-truck/2028-05-03/
LOCATION:Taproom\, 163 Central Park Square\, Los Alamos\, NM\, 87544\, United States
CATEGORIES:Food Truck
END:VEVENT
BEGIN:VEVENT
DTSTART;TZID=America/Denver:20280503T180000
DTEND;TZID=America/Denver:20280503T210000
DTSTAMP:20260420T061141
CREATED:20251223T233850Z
LAST-MODIFIED:20251223T234718Z
UID:10004051-1840989600-1841000400@bathtubrowbrewing.coop
SUMMARY:Lane Stevens Live
DESCRIPTION:
URL:https://bathtubrowbrewing.coop/event-detail/lane-stevens-live-2/2028-05-03/
LOCATION:Taproom\, 163 Central Park Square\, Los Alamos\, NM\, 87544\, United States
CATEGORIES:Music
END:VEVENT
BEGIN:VEVENT
DTSTART;TZID=America/Denver:20280504T110000
DTEND;TZID=America/Denver:20280504T210000
DTSTAMP:20260420T061141
CREATED:20260119T210129Z
LAST-MODIFIED:20260218T181017Z
UID:10004715-1841050800-1841086800@bathtubrowbrewing.coop
SUMMARY:Manko Food Truck
DESCRIPTION:Native American Fusion!
URL:https://bathtubrowbrewing.coop/event-detail/manko-food-truck/2028-05-04/
LOCATION:Taproom\, 163 Central Park Square\, Los Alamos\, NM\, 87544\, United States
CATEGORIES:Food Truck
END:VEVENT
BEGIN:VEVENT
DTSTART;TZID=America/Denver:20280505T150000
DTEND;TZID=America/Denver:20280505T200000
DTSTAMP:20260420T061141
CREATED:20251210T015046Z
LAST-MODIFIED:20260327T194604Z
UID:10003892-1841151600-1841169600@bathtubrowbrewing.coop
SUMMARY:Joe Daddy's Food Truck
DESCRIPTION:
URL:https://bathtubrowbrewing.coop/event-detail/joe-daddys-food-truck/2028-05-05/
LOCATION:Taproom\, 163 Central Park Square\, Los Alamos\, NM\, 87544\, United States
CATEGORIES:Food Truck
END:VEVENT
BEGIN:VEVENT
DTSTART;TZID=America/Denver:20280506T180000
DTEND;TZID=America/Denver:20280506T220000
DTSTAMP:20260420T061141
CREATED:20260218T233925Z
LAST-MODIFIED:20260218T233925Z
UID:10005866-1841248800-1841263200@bathtubrowbrewing.coop
SUMMARY:Tubaoke
DESCRIPTION:Come sing your heart out!
URL:https://bathtubrowbrewing.coop/event-detail/tubaoke-2-2-2-2/2028-05-06/
LOCATION:Taproom\, 163 Central Park Square\, Los Alamos\, NM\, 87544\, United States
CATEGORIES:Music
ATTACH;FMTTYPE=image/png:https://craftpeak-cooler-images.imgix.net/bathtub-row-brewing-co-op/5223012577926804554.png?auto=compress%2Cformat&ixlib=php-3.3.1&s=aae6dbbc6bd58cbfc534dfff1d1603b3
END:VEVENT
BEGIN:VEVENT
DTSTART;TZID=America/Denver:20280508T170000
DTEND;TZID=America/Denver:20280508T190000
DTSTAMP:20260420T061141
CREATED:20251210T014944Z
LAST-MODIFIED:20260212T010845Z
UID:10003050-1841418000-1841425200@bathtubrowbrewing.coop
SUMMARY:Jemez Mountain Pizza
DESCRIPTION:Pizza by the slice or you can purchase an entire pie! Scott sells until his supply ends.
URL:https://bathtubrowbrewing.coop/event-detail/jemez-mountain-pizza/2028-05-08/
LOCATION:Taproom\, 163 Central Park Square\, Los Alamos\, NM\, 87544\, United States
CATEGORIES:Food Truck
END:VEVENT
BEGIN:VEVENT
DTSTART;TZID=America/Denver:20280509T110000
DTEND;TZID=America/Denver:20280509T190000
DTSTAMP:20260420T061141
CREATED:20260108T014136Z
LAST-MODIFIED:20260108T014137Z
UID:10003438-1841482800-1841511600@bathtubrowbrewing.coop
SUMMARY:Fusion Tacos
DESCRIPTION:Tacos\, burritos\, and quesadillas!
URL:https://bathtubrowbrewing.coop/event-detail/fusion-tacos-2-2/2028-05-09/
LOCATION:Taproom\, 163 Central Park Square\, Los Alamos\, NM\, 87544\, United States
CATEGORIES:Food Truck
END:VEVENT
BEGIN:VEVENT
DTSTART;TZID=America/Denver:20280509T180000
DTEND;TZID=America/Denver:20280509T210000
DTSTAMP:20260420T061141
CREATED:20251210T015448Z
LAST-MODIFIED:20260331T000514Z
UID:10006341-1841508000-1841518800@bathtubrowbrewing.coop
SUMMARY:Jazz Night
DESCRIPTION:
URL:https://bathtubrowbrewing.coop/event-detail/jazz-night/2028-05-09/
LOCATION:Taproom\, 163 Central Park Square\, Los Alamos\, NM\, 87544\, United States
CATEGORIES:Music
END:VEVENT
BEGIN:VEVENT
DTSTART;TZID=America/Denver:20280510T150000
DTEND;TZID=America/Denver:20280510T193000
DTSTAMP:20260420T061141
CREATED:20260218T232034Z
LAST-MODIFIED:20260225T232853Z
UID:10006030-1841583600-1841599800@bathtubrowbrewing.coop
SUMMARY:Bomb Appetite Food Truck
DESCRIPTION:Come try BBQ at the Tub!
URL:https://bathtubrowbrewing.coop/event-detail/bomb-appetite-food-truck/2028-05-10/
LOCATION:Taproom\, 163 Central Park Square\, Los Alamos\, NM\, 87544\, United States
CATEGORIES:Food Truck
END:VEVENT
BEGIN:VEVENT
DTSTART;TZID=America/Denver:20280511T110000
DTEND;TZID=America/Denver:20280511T210000
DTSTAMP:20260420T061141
CREATED:20260119T210129Z
LAST-MODIFIED:20260218T181017Z
UID:10004716-1841655600-1841691600@bathtubrowbrewing.coop
SUMMARY:Manko Food Truck
DESCRIPTION:Native American Fusion!
URL:https://bathtubrowbrewing.coop/event-detail/manko-food-truck/2028-05-11/
LOCATION:Taproom\, 163 Central Park Square\, Los Alamos\, NM\, 87544\, United States
CATEGORIES:Food Truck
END:VEVENT
BEGIN:VEVENT
DTSTART;TZID=America/Denver:20280512T150000
DTEND;TZID=America/Denver:20280512T200000
DTSTAMP:20260420T061141
CREATED:20251210T015046Z
LAST-MODIFIED:20260327T194604Z
UID:10003893-1841756400-1841774400@bathtubrowbrewing.coop
SUMMARY:Joe Daddy's Food Truck
DESCRIPTION:
URL:https://bathtubrowbrewing.coop/event-detail/joe-daddys-food-truck/2028-05-12/
LOCATION:Taproom\, 163 Central Park Square\, Los Alamos\, NM\, 87544\, United States
CATEGORIES:Food Truck
END:VEVENT
BEGIN:VEVENT
DTSTART;TZID=America/Denver:20280515T170000
DTEND;TZID=America/Denver:20280515T190000
DTSTAMP:20260420T061141
CREATED:20251210T014944Z
LAST-MODIFIED:20260212T010845Z
UID:10003051-1842022800-1842030000@bathtubrowbrewing.coop
SUMMARY:Jemez Mountain Pizza
DESCRIPTION:Pizza by the slice or you can purchase an entire pie! Scott sells until his supply ends.
URL:https://bathtubrowbrewing.coop/event-detail/jemez-mountain-pizza/2028-05-15/
LOCATION:Taproom\, 163 Central Park Square\, Los Alamos\, NM\, 87544\, United States
CATEGORIES:Food Truck
END:VEVENT
BEGIN:VEVENT
DTSTART;TZID=America/Denver:20280516T110000
DTEND;TZID=America/Denver:20280516T190000
DTSTAMP:20260420T061141
CREATED:20260108T014136Z
LAST-MODIFIED:20260108T014137Z
UID:10003440-1842087600-1842116400@bathtubrowbrewing.coop
SUMMARY:Fusion Tacos
DESCRIPTION:Tacos\, burritos\, and quesadillas!
URL:https://bathtubrowbrewing.coop/event-detail/fusion-tacos-2-2/2028-05-16/
LOCATION:Taproom\, 163 Central Park Square\, Los Alamos\, NM\, 87544\, United States
CATEGORIES:Food Truck
END:VEVENT
BEGIN:VEVENT
DTSTART;TZID=America/Denver:20280516T180000
DTEND;TZID=America/Denver:20280516T210000
DTSTAMP:20260420T061141
CREATED:20251210T015448Z
LAST-MODIFIED:20260331T000514Z
UID:10006342-1842112800-1842123600@bathtubrowbrewing.coop
SUMMARY:Jazz Night
DESCRIPTION:
URL:https://bathtubrowbrewing.coop/event-detail/jazz-night/2028-05-16/
LOCATION:Taproom\, 163 Central Park Square\, Los Alamos\, NM\, 87544\, United States
CATEGORIES:Music
END:VEVENT
BEGIN:VEVENT
DTSTART;TZID=America/Denver:20280517T150000
DTEND;TZID=America/Denver:20280517T193000
DTSTAMP:20260420T061141
CREATED:20260218T232034Z
LAST-MODIFIED:20260225T232853Z
UID:10006031-1842188400-1842204600@bathtubrowbrewing.coop
SUMMARY:Bomb Appetite Food Truck
DESCRIPTION:Come try BBQ at the Tub!
URL:https://bathtubrowbrewing.coop/event-detail/bomb-appetite-food-truck/2028-05-17/
LOCATION:Taproom\, 163 Central Park Square\, Los Alamos\, NM\, 87544\, United States
CATEGORIES:Food Truck
END:VEVENT
BEGIN:VEVENT
DTSTART;TZID=America/Denver:20280517T180000
DTEND;TZID=America/Denver:20280517T210000
DTSTAMP:20260420T061141
CREATED:20251223T234813Z
LAST-MODIFIED:20251223T234813Z
UID:10004171-1842199200-1842210000@bathtubrowbrewing.coop
SUMMARY:Lane Stevens Live
DESCRIPTION:
URL:https://bathtubrowbrewing.coop/event-detail/lane-stevens-live-3/2028-05-17/
LOCATION:Taproom\, 163 Central Park Square\, Los Alamos\, NM\, 87544\, United States
CATEGORIES:Music
END:VEVENT
BEGIN:VEVENT
DTSTART;TZID=America/Denver:20280518T110000
DTEND;TZID=America/Denver:20280518T210000
DTSTAMP:20260420T061141
CREATED:20260119T210129Z
LAST-MODIFIED:20260218T181017Z
UID:10004717-1842260400-1842296400@bathtubrowbrewing.coop
SUMMARY:Manko Food Truck
DESCRIPTION:Native American Fusion!
URL:https://bathtubrowbrewing.coop/event-detail/manko-food-truck/2028-05-18/
LOCATION:Taproom\, 163 Central Park Square\, Los Alamos\, NM\, 87544\, United States
CATEGORIES:Food Truck
END:VEVENT
BEGIN:VEVENT
DTSTART;TZID=America/Denver:20280519T150000
DTEND;TZID=America/Denver:20280519T200000
DTSTAMP:20260420T061141
CREATED:20251210T015046Z
LAST-MODIFIED:20260327T194604Z
UID:10003894-1842361200-1842379200@bathtubrowbrewing.coop
SUMMARY:Joe Daddy's Food Truck
DESCRIPTION:
URL:https://bathtubrowbrewing.coop/event-detail/joe-daddys-food-truck/2028-05-19/
LOCATION:Taproom\, 163 Central Park Square\, Los Alamos\, NM\, 87544\, United States
CATEGORIES:Food Truck
END:VEVENT
BEGIN:VEVENT
DTSTART;TZID=America/Denver:20280522T170000
DTEND;TZID=America/Denver:20280522T190000
DTSTAMP:20260420T061141
CREATED:20251210T014944Z
LAST-MODIFIED:20260212T010845Z
UID:10003052-1842627600-1842634800@bathtubrowbrewing.coop
SUMMARY:Jemez Mountain Pizza
DESCRIPTION:Pizza by the slice or you can purchase an entire pie! Scott sells until his supply ends.
URL:https://bathtubrowbrewing.coop/event-detail/jemez-mountain-pizza/2028-05-22/
LOCATION:Taproom\, 163 Central Park Square\, Los Alamos\, NM\, 87544\, United States
CATEGORIES:Food Truck
END:VEVENT
BEGIN:VEVENT
DTSTART;TZID=America/Denver:20280523T110000
DTEND;TZID=America/Denver:20280523T190000
DTSTAMP:20260420T061141
CREATED:20260108T014136Z
LAST-MODIFIED:20260108T014137Z
UID:10003442-1842692400-1842721200@bathtubrowbrewing.coop
SUMMARY:Fusion Tacos
DESCRIPTION:Tacos\, burritos\, and quesadillas!
URL:https://bathtubrowbrewing.coop/event-detail/fusion-tacos-2-2/2028-05-23/
LOCATION:Taproom\, 163 Central Park Square\, Los Alamos\, NM\, 87544\, United States
CATEGORIES:Food Truck
END:VEVENT
BEGIN:VEVENT
DTSTART;TZID=America/Denver:20280523T180000
DTEND;TZID=America/Denver:20280523T210000
DTSTAMP:20260420T061141
CREATED:20251210T015448Z
LAST-MODIFIED:20260331T000514Z
UID:10006343-1842717600-1842728400@bathtubrowbrewing.coop
SUMMARY:Jazz Night
DESCRIPTION:
URL:https://bathtubrowbrewing.coop/event-detail/jazz-night/2028-05-23/
LOCATION:Taproom\, 163 Central Park Square\, Los Alamos\, NM\, 87544\, United States
CATEGORIES:Music
END:VEVENT
BEGIN:VEVENT
DTSTART;TZID=America/Denver:20280524T150000
DTEND;TZID=America/Denver:20280524T193000
DTSTAMP:20260420T061141
CREATED:20260218T232034Z
LAST-MODIFIED:20260225T232853Z
UID:10006032-1842793200-1842809400@bathtubrowbrewing.coop
SUMMARY:Bomb Appetite Food Truck
DESCRIPTION:Come try BBQ at the Tub!
URL:https://bathtubrowbrewing.coop/event-detail/bomb-appetite-food-truck/2028-05-24/
LOCATION:Taproom\, 163 Central Park Square\, Los Alamos\, NM\, 87544\, United States
CATEGORIES:Food Truck
END:VEVENT
BEGIN:VEVENT
DTSTART;TZID=America/Denver:20280525T110000
DTEND;TZID=America/Denver:20280525T210000
DTSTAMP:20260420T061141
CREATED:20260119T210129Z
LAST-MODIFIED:20260218T181017Z
UID:10004718-1842865200-1842901200@bathtubrowbrewing.coop
SUMMARY:Manko Food Truck
DESCRIPTION:Native American Fusion!
URL:https://bathtubrowbrewing.coop/event-detail/manko-food-truck/2028-05-25/
LOCATION:Taproom\, 163 Central Park Square\, Los Alamos\, NM\, 87544\, United States
CATEGORIES:Food Truck
END:VEVENT
BEGIN:VEVENT
DTSTART;TZID=America/Denver:20280526T150000
DTEND;TZID=America/Denver:20280526T200000
DTSTAMP:20260420T061141
CREATED:20251210T015046Z
LAST-MODIFIED:20260327T194604Z
UID:10003895-1842966000-1842984000@bathtubrowbrewing.coop
SUMMARY:Joe Daddy's Food Truck
DESCRIPTION:
URL:https://bathtubrowbrewing.coop/event-detail/joe-daddys-food-truck/2028-05-26/
LOCATION:Taproom\, 163 Central Park Square\, Los Alamos\, NM\, 87544\, United States
CATEGORIES:Food Truck
END:VEVENT
BEGIN:VEVENT
DTSTART;TZID=America/Denver:20280529T170000
DTEND;TZID=America/Denver:20280529T190000
DTSTAMP:20260420T061141
CREATED:20251210T014944Z
LAST-MODIFIED:20260212T010845Z
UID:10003053-1843232400-1843239600@bathtubrowbrewing.coop
SUMMARY:Jemez Mountain Pizza
DESCRIPTION:Pizza by the slice or you can purchase an entire pie! Scott sells until his supply ends.
URL:https://bathtubrowbrewing.coop/event-detail/jemez-mountain-pizza/2028-05-29/
LOCATION:Taproom\, 163 Central Park Square\, Los Alamos\, NM\, 87544\, United States
CATEGORIES:Food Truck
END:VEVENT
BEGIN:VEVENT
DTSTART;TZID=America/Denver:20280530T110000
DTEND;TZID=America/Denver:20280530T190000
DTSTAMP:20260420T061141
CREATED:20260108T014136Z
LAST-MODIFIED:20260108T014137Z
UID:10003444-1843297200-1843326000@bathtubrowbrewing.coop
SUMMARY:Fusion Tacos
DESCRIPTION:Tacos\, burritos\, and quesadillas!
URL:https://bathtubrowbrewing.coop/event-detail/fusion-tacos-2-2/2028-05-30/
LOCATION:Taproom\, 163 Central Park Square\, Los Alamos\, NM\, 87544\, United States
CATEGORIES:Food Truck
END:VEVENT
BEGIN:VEVENT
DTSTART;TZID=America/Denver:20280530T180000
DTEND;TZID=America/Denver:20280530T210000
DTSTAMP:20260420T061141
CREATED:20251210T015448Z
LAST-MODIFIED:20260331T000514Z
UID:10006344-1843322400-1843333200@bathtubrowbrewing.coop
SUMMARY:Jazz Night
DESCRIPTION:
URL:https://bathtubrowbrewing.coop/event-detail/jazz-night/2028-05-30/
LOCATION:Taproom\, 163 Central Park Square\, Los Alamos\, NM\, 87544\, United States
CATEGORIES:Music
END:VEVENT
END:VCALENDAR