BEGIN:VCALENDAR
VERSION:2.0
PRODID:-//Bathtub Row Brewing Co-op - ECPv6.15.12.2//NONSGML v1.0//EN
CALSCALE:GREGORIAN
METHOD:PUBLISH
X-ORIGINAL-URL:https://bathtubrowbrewing.coop
X-WR-CALDESC:Events for Bathtub Row Brewing Co-op
REFRESH-INTERVAL;VALUE=DURATION:PT1H
X-Robots-Tag:noindex
X-PUBLISHED-TTL:PT1H
BEGIN:VTIMEZONE
TZID:America/Denver
BEGIN:DAYLIGHT
TZOFFSETFROM:-0700
TZOFFSETTO:-0600
TZNAME:MDT
DTSTART:20270314T090000
END:DAYLIGHT
BEGIN:STANDARD
TZOFFSETFROM:-0600
TZOFFSETTO:-0700
TZNAME:MST
DTSTART:20271107T080000
END:STANDARD
BEGIN:DAYLIGHT
TZOFFSETFROM:-0700
TZOFFSETTO:-0600
TZNAME:MDT
DTSTART:20280312T090000
END:DAYLIGHT
BEGIN:STANDARD
TZOFFSETFROM:-0600
TZOFFSETTO:-0700
TZNAME:MST
DTSTART:20281105T080000
END:STANDARD
BEGIN:DAYLIGHT
TZOFFSETFROM:-0700
TZOFFSETTO:-0600
TZNAME:MDT
DTSTART:20290311T090000
END:DAYLIGHT
BEGIN:STANDARD
TZOFFSETFROM:-0600
TZOFFSETTO:-0700
TZNAME:MST
DTSTART:20291104T080000
END:STANDARD
END:VTIMEZONE
BEGIN:VEVENT
DTSTART;TZID=America/Denver:20280918T170000
DTEND;TZID=America/Denver:20280918T190000
DTSTAMP:20260420T111306
CREATED:20251210T014944Z
LAST-MODIFIED:20260212T010845Z
UID:10003069-1852909200-1852916400@bathtubrowbrewing.coop
SUMMARY:Jemez Mountain Pizza
DESCRIPTION:Pizza by the slice or you can purchase an entire pie! Scott sells until his supply ends.
URL:https://bathtubrowbrewing.coop/event-detail/jemez-mountain-pizza/2028-09-18/
LOCATION:Taproom\, 163 Central Park Square\, Los Alamos\, NM\, 87544\, United States
CATEGORIES:Food Truck
END:VEVENT
BEGIN:VEVENT
DTSTART;TZID=America/Denver:20280919T110000
DTEND;TZID=America/Denver:20280919T190000
DTSTAMP:20260420T111306
CREATED:20260108T014136Z
LAST-MODIFIED:20260108T014137Z
UID:10003476-1852974000-1853002800@bathtubrowbrewing.coop
SUMMARY:Fusion Tacos
DESCRIPTION:Tacos\, burritos\, and quesadillas!
URL:https://bathtubrowbrewing.coop/event-detail/fusion-tacos-2-2/2028-09-19/
LOCATION:Taproom\, 163 Central Park Square\, Los Alamos\, NM\, 87544\, United States
CATEGORIES:Food Truck
END:VEVENT
BEGIN:VEVENT
DTSTART;TZID=America/Denver:20280919T180000
DTEND;TZID=America/Denver:20280919T210000
DTSTAMP:20260420T111306
CREATED:20251210T015448Z
LAST-MODIFIED:20260331T000514Z
UID:10006360-1852999200-1853010000@bathtubrowbrewing.coop
SUMMARY:Jazz Night
DESCRIPTION:
URL:https://bathtubrowbrewing.coop/event-detail/jazz-night/2028-09-19/
LOCATION:Taproom\, 163 Central Park Square\, Los Alamos\, NM\, 87544\, United States
CATEGORIES:Music
END:VEVENT
BEGIN:VEVENT
DTSTART;TZID=America/Denver:20280920T150000
DTEND;TZID=America/Denver:20280920T193000
DTSTAMP:20260420T111306
CREATED:20260218T232034Z
LAST-MODIFIED:20260225T232853Z
UID:10006049-1853074800-1853091000@bathtubrowbrewing.coop
SUMMARY:Bomb Appetite Food Truck
DESCRIPTION:Come try BBQ at the Tub!
URL:https://bathtubrowbrewing.coop/event-detail/bomb-appetite-food-truck/2028-09-20/
LOCATION:Taproom\, 163 Central Park Square\, Los Alamos\, NM\, 87544\, United States
CATEGORIES:Food Truck
END:VEVENT
BEGIN:VEVENT
DTSTART;TZID=America/Denver:20280920T180000
DTEND;TZID=America/Denver:20280920T210000
DTSTAMP:20260420T111306
CREATED:20251223T234813Z
LAST-MODIFIED:20251223T234813Z
UID:10004175-1853085600-1853096400@bathtubrowbrewing.coop
SUMMARY:Lane Stevens Live
DESCRIPTION:
URL:https://bathtubrowbrewing.coop/event-detail/lane-stevens-live-3/2028-09-20/
LOCATION:Taproom\, 163 Central Park Square\, Los Alamos\, NM\, 87544\, United States
CATEGORIES:Music
END:VEVENT
BEGIN:VEVENT
DTSTART;TZID=America/Denver:20280921T110000
DTEND;TZID=America/Denver:20280921T210000
DTSTAMP:20260420T111306
CREATED:20260119T210129Z
LAST-MODIFIED:20260218T181017Z
UID:10004735-1853146800-1853182800@bathtubrowbrewing.coop
SUMMARY:Manko Food Truck
DESCRIPTION:Native American Fusion!
URL:https://bathtubrowbrewing.coop/event-detail/manko-food-truck/2028-09-21/
LOCATION:Taproom\, 163 Central Park Square\, Los Alamos\, NM\, 87544\, United States
CATEGORIES:Food Truck
END:VEVENT
BEGIN:VEVENT
DTSTART;TZID=America/Denver:20280922T150000
DTEND;TZID=America/Denver:20280922T200000
DTSTAMP:20260420T111306
CREATED:20251210T015046Z
LAST-MODIFIED:20260327T194604Z
UID:10003912-1853247600-1853265600@bathtubrowbrewing.coop
SUMMARY:Joe Daddy's Food Truck
DESCRIPTION:
URL:https://bathtubrowbrewing.coop/event-detail/joe-daddys-food-truck/2028-09-22/
LOCATION:Taproom\, 163 Central Park Square\, Los Alamos\, NM\, 87544\, United States
CATEGORIES:Food Truck
END:VEVENT
BEGIN:VEVENT
DTSTART;TZID=America/Denver:20281007T180000
DTEND;TZID=America/Denver:20281007T220000
DTSTAMP:20260420T111306
CREATED:20260218T233925Z
LAST-MODIFIED:20260218T233925Z
UID:10005871-1854554400-1854568800@bathtubrowbrewing.coop
SUMMARY:Tubaoke
DESCRIPTION:Come sing your heart out!
URL:https://bathtubrowbrewing.coop/event-detail/tubaoke-2-2-2-2/2028-10-07/
LOCATION:Taproom\, 163 Central Park Square\, Los Alamos\, NM\, 87544\, United States
CATEGORIES:Music
ATTACH;FMTTYPE=image/png:https://craftpeak-cooler-images.imgix.net/bathtub-row-brewing-co-op/5223012577926804554.png?auto=compress%2Cformat&ixlib=php-3.3.1&s=aae6dbbc6bd58cbfc534dfff1d1603b3
END:VEVENT
END:VCALENDAR